BEGIN:VCALENDAR
VERSION:2.0
PRODID:-//https://hcc.nl///NONSGML kigkonsult.se iCalcreator 2.10.15//
METHOD:PUBLISH
BEGIN:VEVENT
UID:20260420T185212UTC-1342z7ewvA@https://hcc.nl/
DTSTAMP:20260420T185212Z
DESCRIPTION:Vanwege eerste kerstdag vervalt de online bijeenkomst over Visu
 al Basic.\nZie de voorpagina voor meer informatie. https://hcc.nl/componen
 t/rseventspro/evenement/3514-hcc-programmeren-visual-basic-sessie-gaat-nie
 t-door?Itemid=101
DTSTART:20231225T190000Z
DTEND:20231225T220000Z
LOCATION:Online ()
SUMMARY:HCC!programmeren - Visual Basic sessie gaat niet door
URL:https://hcc.nl/component/rseventspro/evenement/3514-hcc-programmeren-vi
 sual-basic-sessie-gaat-niet-door?Itemid=101
END:VEVENT
END:VCALENDAR
