BEGIN:VCALENDAR
VERSION:2.0
PRODID:-//https://hcc.nl///NONSGML kigkonsult.se iCalcreator 2.10.15//
METHOD:PUBLISH
BEGIN:VEVENT
UID:20260425T115003UTC-7501vgvu5H@https://hcc.nl/
DTSTAMP:20260425T115003Z
DESCRIPTION:Een extra bijeenkomst om de locatie uit te proberen https://hcc
 .nl/component/rseventspro/evenement/10707-bijeenkomst-nieuwe-locatie?Itemi
 d=101
DTSTART:20260711T080000Z
DTEND:20260711T133000Z
LOCATION:De Draaikolk (Lekstraat 2\, 1316 EM Almere)
SUMMARY:Bijeenkomst (nieuwe locatie)
URL:https://hcc.nl/component/rseventspro/evenement/10707-bijeenkomst-nieuwe
 -locatie?Itemid=101
END:VEVENT
END:VCALENDAR
