BEGIN:VCALENDAR
VERSION:2.0
PRODID:-//https://hcc.nl///NONSGML kigkonsult.se iCalcreator 2.10.15//
METHOD:PUBLISH
BEGIN:VEVENT
UID:20260425T202410UTC-5190noC2kV@https://hcc.nl/
DTSTAMP:20260425T202410Z
DESCRIPTION: John Glaser\, secretaris van HCC!genealogie\, is aanwezig en h
 ept u bij uw stamboomonderzoek.\nHij demonstreert o.a. Aldfaer\, GensDataP
 ro\, Ancestor Tree Manager en FamilyGem voor Android \nVoor meer info klik
  hier https://hcc.nl/component/rseventspro/evenement/10680-bijeenkomst?Ite
 mid=101
DTSTART:20260615T173000Z
DTEND:20260615T200000Z
LOCATION:Kerkelijk Centrum De Brug  (Schuilenburgerweg 2\, 3816 TB Amersfoo
 rt)
SUMMARY:Bijeenkomst
URL:https://hcc.nl/component/rseventspro/evenement/10680-bijeenkomst?Itemid
 =101
END:VEVENT
BEGIN:VEVENT
UID:20260425T202410UTC-5191w0V995@https://hcc.nl/
DTSTAMP:20260425T202410Z
DESCRIPTION:Om de week op maandagavond van 20:00 tot 21:00 (WET) is er een 
 noForth vragenuurtje.Hier kun je terecht met alle noForth vragen.Als ze er
 g technisch of ingewikkeld zijn\, kun je ze vooraf in de chat versturen of
  krijg je tijdens het volgende vragenuurtje antwoord. \nKoppeling naar ver
 gadering: noForth vragenuurtje | Microsoft Teams | Meetup-Deelnemen https:
 //hcc.nl/component/rseventspro/evenement/10728-noforth-vragenuurtje?Itemid
 =101
DTSTART:20260615T180000Z
DTEND:20260615T190000Z
LOCATION:Online ()
SUMMARY:noForth vragenuurtje
URL:https://hcc.nl/component/rseventspro/evenement/10728-noforth-vragenuurt
 je?Itemid=101
END:VEVENT
END:VCALENDAR
