BEGIN:VCALENDAR
VERSION:2.0
PRODID:-//https://hcc.nl///NONSGML kigkonsult.se iCalcreator 2.10.15//
METHOD:PUBLISH
BEGIN:VEVENT
UID:20260425T202237UTC-2313Uoek1s@https://hcc.nl/
DTSTAMP:20260425T202237Z
DESCRIPTION:Els Schnijder\, adviseur van HCC!genealogie\, is aanwezig en he
 lpt u bij uw stamboomonderzoek.\nVoor meer info klik hier. https://hcc.nl/
 component/rseventspro/evenement/10682-bijeenkomst?Itemid=101
DTSTART:20260610T173000Z
DTEND:20260610T200000Z
LOCATION:De Meent  (Orion 3\, 1188 AM Amstelveen)
SUMMARY:Bijeenkomst
URL:https://hcc.nl/component/rseventspro/evenement/10682-bijeenkomst?Itemid
 =101
END:VEVENT
END:VCALENDAR
