BEGIN:VCALENDAR
VERSION:2.0
PRODID:-//https://hcc.nl///NONSGML kigkonsult.se iCalcreator 2.10.15//
METHOD:PUBLISH
BEGIN:VEVENT
UID:20260426T003103UTC-7614vdVd6b@https://hcc.nl/
DTSTAMP:20260426T003103Z
DESCRIPTION:Digitale hulp bij computer\, tablet en smartphone problemen htt
 ps://hcc.nl/component/rseventspro/evenement/10093-inloop-digitale-hulp?Ite
 mid=101
DTSTART:20260609T123000Z
DTEND:20260609T150000Z
LOCATION:Activiteitencentrum Orka  (Broekakkerseweg 1\, 5641 PC Eindhoven)
SUMMARY:Inloop Digitale hulp
URL:https://hcc.nl/component/rseventspro/evenement/10093-inloop-digitale-hu
 lp?Itemid=101
END:VEVENT
BEGIN:VEVENT
UID:20260426T003103UTC-7615j6u6H8@https://hcc.nl/
DTSTAMP:20260426T003103Z
DESCRIPTION:Inloop voor al je vragen over Apple producten... https://hcc.nl
 /component/rseventspro/evenement/10158-inloop?Itemid=101
DTSTART:20260609T173000Z
DTEND:20260609T200000Z
LOCATION:Dorpshuis Fort Vreeswijk (Fort Vreeswijk 1\, 3433 ZZ Nieuwegein)
SUMMARY:Inloop
URL:https://hcc.nl/component/rseventspro/evenement/10158-inloop?Itemid=101
END:VEVENT
BEGIN:VEVENT
UID:20260426T003103UTC-7616276ZIn@https://hcc.nl/
DTSTAMP:20260426T003103Z
DESCRIPTION:Op deze avond hebben we Clubbijeenkomst van HCC!midden-brabant.
 \nHet is inloop en al onze werkgroepen zijn aanwezig voor uw problemen\, v
 ragen of zo maar een gezellig praatje.\nOok op deze avond is er weer genoe
 g te beleven bij HCC! Midden-Brabant.\nEn natuurlijk staat de koffie weer 
 klaar.\nJe bent van harte welkom. https://hcc.nl/component/rseventspro/eve
 nement/10177-clubbijeenkomst?Itemid=101
DTSTART:20260609T180000Z
DTEND:20260609T201500Z
LOCATION:De Goede Herder (Isidorusstraat 6\, 5042 JJ Tilburg)
SUMMARY:Clubbijeenkomst
URL:https://hcc.nl/component/rseventspro/evenement/10177-clubbijeenkomst?It
 emid=101
END:VEVENT
BEGIN:VEVENT
UID:20260426T003103UTC-7618tIT57U@https://hcc.nl/
DTSTAMP:20260426T003103Z
DESCRIPTION:Gebouw Kop van Zuid (ingang Oost begane grond) te EmmenBoermark
 eweg 467824 AA Emmen\nTijdens onze maandelijkse bijeenkomst in Kop van Zui
 d worden er diverse onderwerpen die ter tafel komen besproken.\nAls een va
 n onze leden een leuk onderwerp heeft\, wordt daar alle tijd voor gemaakt.
   https://hcc.nl/component/rseventspro/evenement/10708-fysieke-bijeenkomst
 -in-kop-van-zuid-in-emmen?Itemid=101
DTSTART:20260609T120000Z
DTEND:20260609T140000Z
LOCATION:Wijkcentrum Angerslo (kop van zuid) (Boermarkeweg 46\, 7824 AA Emm
 en)
SUMMARY:Fysieke bijeenkomst in Kop van Zuid in Emmen
URL:https://hcc.nl/component/rseventspro/evenement/10708-fysieke-bijeenkoms
 t-in-kop-van-zuid-in-emmen?Itemid=101
END:VEVENT
END:VCALENDAR
