BEGIN:VCALENDAR
VERSION:2.0
PRODID:-//https://hcc.nl///NONSGML kigkonsult.se iCalcreator 2.10.15//
METHOD:PUBLISH
BEGIN:VEVENT
UID:20260425T174437UTC-4518fB0xuW@https://hcc.nl/
DTSTAMP:20260425T174437Z
DESCRIPTION:Digitale hulp bij computer\, tablet en smartphone problemen htt
 ps://hcc.nl/component/rseventspro/evenement/10092-inloop-digitale-hulp?Ite
 mid=101
DTSTART:20260526T123000Z
DTEND:20260526T150000Z
LOCATION:Activiteitencentrum Orka  (Broekakkerseweg 1\, 5641 PC Eindhoven)
SUMMARY:Inloop Digitale hulp
URL:https://hcc.nl/component/rseventspro/evenement/10092-inloop-digitale-hu
 lp?Itemid=101
END:VEVENT
BEGIN:VEVENT
UID:20260425T174437UTC-4521WDBiWV@https://hcc.nl/
DTSTAMP:20260425T174437Z
DESCRIPTION:Op deze avond hebben we Clubbijeenkomst van HCC!midden-brabant.
 \nHet is inloop en al onze werkgroepen zijn aanwezig voor uw problemen\, v
 ragen of zo maar een gezellig praatje.\nOok op deze avond is er weer genoe
 g te beleven bij HCC! Midden-Brabant.\nEn natuurlijk staat de koffie weer 
 klaar.\nJe bent van harte welkom. https://hcc.nl/component/rseventspro/eve
 nement/10179-clubbijeenkomst?Itemid=101
DTSTART:20260526T180000Z
DTEND:20260526T201500Z
LOCATION:De Goede Herder (Isidorusstraat 6\, 5042 JJ Tilburg)
SUMMARY:Clubbijeenkomst
URL:https://hcc.nl/component/rseventspro/evenement/10179-clubbijeenkomst?It
 emid=101
END:VEVENT
BEGIN:VEVENT
UID:20260425T174437UTC-4522JfNjUL@https://hcc.nl/
DTSTAMP:20260425T174437Z
DESCRIPTION:Inloopavond waar allerlei thema's i.v.m. IT aan bod komen én wa
 ar (wordt getracht) problemen van leden en bezoekers op te lossen.  https:
 //hcc.nl/component/rseventspro/evenement/10202-inloop-bijeenkomst-zierikze
 e?Itemid=101
DTSTART:20260526T180000Z
DTEND:20260526T200000Z
LOCATION:Scouting Jan Bakker Groep (Van Veenlaan 1\, 4301 NN Zierikzee)
SUMMARY:Inloop bijeenkomst Zierikzee
URL:https://hcc.nl/component/rseventspro/evenement/10202-inloop-bijeenkomst
 -zierikzee?Itemid=101
END:VEVENT
BEGIN:VEVENT
UID:20260425T174437UTC-4524un0Xkm@https://hcc.nl/
DTSTAMP:20260425T174437Z
DESCRIPTION:Simpel gezegd is Artificiële Intelligentie (AI) de simulatie va
 n menselijke intelligentie in machines die zijn geprogrammeerd om te “denk
 en”\, te leren en problemen op te lossen. Dit betekent niet dat computers 
 emoties hebben of bewustzijn\, maar dat ze taken kunnen uitvoeren die norm
 aal gesproken menselijke intelligentie vereisen.\nJe gebruikt AI waarschij
 nlijk al dagelijks zonder het te beseffen! Het zit verborgen in veel van d
 e technologieën die we als vanzelfsprekend beschouwen.\nAI is er niet om t
 aken van je over te nemen\, maar om je te ondersteunen en te versterken. Z
 ie het als een superintelligente assistent die klaarstaat om te helpen.\nI
 n deze presentatie laten we je nader kennismaken  met de mogelijkheden en 
 kansen met AI.\nPresentator is Dick Elzinga\nInloop vanaf 13.00 uur\nStart
  presentatie om 13.30 uur https://hcc.nl/component/rseventspro/evenement/1
 0724-presentatie-ai-voor-jou-mij---een-praktische-gids?Itemid=101
DTSTART:20260526T113000Z
DTEND:20260526T140000Z
LOCATION:Huis van de Wijk Oostgaarde (De Linie 5\, 2905 AX Capelle aan den 
 IJssel)
SUMMARY:Presentatie: AI voor Jou & Mij – Een Praktische Gids
URL:https://hcc.nl/component/rseventspro/evenement/10724-presentatie-ai-voo
 r-jou-mij---een-praktische-gids?Itemid=101
END:VEVENT
BEGIN:VEVENT
UID:20260425T174437UTC-4525PzuxXh@https://hcc.nl/
DTSTAMP:20260425T174437Z
DESCRIPTION:Introductie en Basisbegrippen\nWelkom bij deze introductie in d
 e fascinerende wereld van Artificiële Intelligentie (Ai)!Misschien klinkt 
 Ai ingewikkeld of als iets uit sciencefictionfilms\, maar niets is minder 
 waar. Ai is al een integraal onderdeel van ons dagelijks leven en biedt ta
 lloze mogelijkheden om taken te vereenvoudigen\, tijd te besparen en zelfs
  onze creativiteit te stimuleren.\nDe syllabus dient als een naslagwerk bi
 j de presentatie 'Ai voor Jou & Mij: Slimmer\, Sneller\,Simpeler!' en bied
 t een diepere duik in de onderwerpen die we bespreken\, inclusief praktisc
 he voorbeelden en tips om zelf aan de slag te gaan. https://hcc.nl/compone
 nt/rseventspro/evenement/10740-ai-voor-jou-mij---een-praktische-gids?Itemi
 d=101
DTSTART:20260526T110000Z
DTEND:20260526T140000Z
LOCATION:Huis van de Wijk Oostgaarde (De Linie 5\, 2905 AX Capelle aan den 
 IJssel)
SUMMARY:Ai voor Jou & Mij – Een Praktische Gids
URL:https://hcc.nl/component/rseventspro/evenement/10740-ai-voor-jou-mij---
 een-praktische-gids?Itemid=101
END:VEVENT
BEGIN:VEVENT
UID:20260425T174437UTC-4545V3WJ0R@https://hcc.nl/
DTSTAMP:20260425T174437Z
DESCRIPTION:Introductie en Basisbegrippen\nWelkom bij deze introductie in d
 e fascinerende wereld van Artificiële Intelligentie (Ai)!Misschien klinkt 
 Ai ingewikkeld of als iets uit sciencefictionfilms\, maar niets is minder 
 waar. Ai is al een integraal onderdeel van ons dagelijks leven en biedt ta
 lloze mogelijkheden om taken te vereenvoudigen\, tijd te besparen en zelfs
  onze creativiteit te stimuleren.\nDe syllabus dient als een naslagwerk bi
 j de presentatie 'Ai voor Jou & Mij: Slimmer\, Sneller\,Simpeler!' en bied
 t een diepere duik in de onderwerpen die we bespreken\, inclusief praktisc
 he voorbeelden en tips om zelf aan de slag te gaan. https://hcc.nl/compone
 nt/rseventspro/evenement/10747-ai-voor-jou-mij---een-praktische-gids?Itemi
 d=101
DTSTART:20260526T113000Z
DTEND:20260526T140000Z
LOCATION:De Binder (Hoflaan 29\, 3956 ED Leersum)
SUMMARY:Ai voor Jou & Mij – Een Praktische Gids
URL:https://hcc.nl/component/rseventspro/evenement/10747-ai-voor-jou-mij---
 een-praktische-gids?Itemid=101
END:VEVENT
END:VCALENDAR
