BEGIN:VCALENDAR
VERSION:2.0
PRODID:-//https://hcc.nl///NONSGML kigkonsult.se iCalcreator 2.10.15//
METHOD:PUBLISH
BEGIN:VEVENT
UID:20260424T212608UTC-0299cX9R0z@https://hcc.nl/
DTSTAMP:20260424T212608Z
DESCRIPTION:Digitale hulp bij computer\, tablet en smartphone problemen htt
 ps://hcc.nl/component/rseventspro/evenement/10090-inloop-digitale-hulp?Ite
 mid=101
DTSTART:20260428T123000Z
DTEND:20260428T150000Z
LOCATION:Activiteitencentrum Orka  (Broekakkerseweg 1\, 5641 PC Eindhoven)
SUMMARY:Inloop Digitale hulp
URL:https://hcc.nl/component/rseventspro/evenement/10090-inloop-digitale-hu
 lp?Itemid=101
END:VEVENT
BEGIN:VEVENT
UID:20260424T212608UTC-0300C6hfPE@https://hcc.nl/
DTSTAMP:20260424T212608Z
DESCRIPTION:Op deze avond hebben we Clubbijeenkomst van HCC!midden-brabant.
 \nHet is inloop en al onze werkgroepen zijn aanwezig voor uw problemen\, v
 ragen of zo maar een gezellig praatje.\nOok op deze avond is er weer genoe
 g te beleven bij HCC! Midden-Brabant.\nEn natuurlijk staat de koffie weer 
 klaar.\nJe bent van harte welkom. https://hcc.nl/component/rseventspro/eve
 nement/10181-clubbijeenkomst?Itemid=101
DTSTART:20260428T180000Z
DTEND:20260428T201500Z
LOCATION:De Goede Herder (Isidorusstraat 6\, 5042 JJ Tilburg)
SUMMARY:Clubbijeenkomst
URL:https://hcc.nl/component/rseventspro/evenement/10181-clubbijeenkomst?It
 emid=101
END:VEVENT
BEGIN:VEVENT
UID:20260424T212608UTC-0301vHxWxv@https://hcc.nl/
DTSTAMP:20260424T212608Z
DESCRIPTION:Inloopavond waar allerlei thema's i.v.m. IT aan bod komen én wa
 ar (wordt getracht) problemen van leden en bezoekers op te lossen.  https:
 //hcc.nl/component/rseventspro/evenement/10203-inloop-bijeenkomst-zierikze
 e?Itemid=101
DTSTART:20260428T180000Z
DTEND:20260428T200000Z
LOCATION:Scouting Jan Bakker Groep (Van Veenlaan 1\, 4301 NN Zierikzee)
SUMMARY:Inloop bijeenkomst Zierikzee
URL:https://hcc.nl/component/rseventspro/evenement/10203-inloop-bijeenkomst
 -zierikzee?Itemid=101
END:VEVENT
BEGIN:VEVENT
UID:20260424T212608UTC-0302MIdKmL@https://hcc.nl/
DTSTAMP:20260424T212608Z
DESCRIPTION:Om digitaal veilig te zijn EN te blijven\, komt er heel veel bi
 j kijken. De ontwikkelingen gaan snel en het valt niet mee om op de hoogte
  te blijven van alle nieuwe en steeds weer slimmere dreigingen\, laat staa
 n hoe je je daartegen moet wapenen. Digitale veiligheid vraagt aandacht vo
 or:\n-Het gebruik en de beveiliging van hardware: laptop\, bewakingscamera
 ’s en je netwerk\n-Het gebruik en de beveiliging van software en digitale 
 diensten: besturingssysteem\, programma’s\, apps of sociale media\n-Het ge
 bruik\, de opslag en de beveiliging van je data: virussen\, malware\, opsl
 ag lokaal of opslag in de Cloud EN privacy\n-Externe dreigingen\, zoals ma
 lware\, diefstal en identiteitsfraude\n-Interne dreigingen.\nIn deze prese
 ntatie vertellen wij u er meer over.\nOnze presentator is Dick Kok.\nInloo
 p vanaf 13.00 uur\nStart presentatie 13.30 uur https://hcc.nl/component/rs
 eventspro/evenement/10522-presentatie-digitale-veiligheid?Itemid=101
DTSTART:20260428T110000Z
DTEND:20260428T140000Z
LOCATION:Huis van de Wijk Oostgaarde (De Linie 5\, 2905 AX Capelle aan den 
 IJssel)
SUMMARY:Presentatie Digitale Veiligheid
URL:https://hcc.nl/component/rseventspro/evenement/10522-presentatie-digita
 le-veiligheid?Itemid=101
END:VEVENT
BEGIN:VEVENT
UID:20260424T212608UTC-0303fKdZV5@https://hcc.nl/
DTSTAMP:20260424T212608Z
DESCRIPTION:Digitale Veiligheid 2De zwakste schakel\nOm digitaal veilig te 
 zijn EN te blijven\, komt er heel veel bij kijken. De ontwikkelingen gaan 
 snel en het valt niet mee om op de hoogte te blijven van alle nieuwe en st
 eeds weer slimmere dreigingen\, laat staan hoe je je daartegen moet wapene
 n. Digitale veiligheid vraagt aandacht voor:- Het gebruik en de beveiligin
 g van hardware: laptop\, bewakingscamera’s en je netwerk- Het gebruik en d
 e beveiliging van software en digitale diensten: besturingssysteem\, progr
 amma’s\, apps of sociale media- Het gebruik\, de opslag en de beveiliging 
 van je data: virussen\, malware\, opslag lokaal of opslag in de Cloud EN p
 rivacy- Externe dreigingen\, zoals malware\, diefstal en identiteitsfraude
 - Interne dreigingen.Aan enkele externe dreigingen hebben wij al vaker aan
 dacht geschonken. Er zijn echter meer externe dreigingen en ook interne dr
 eigingen. Vooral onze privacy staat onder druk. In deze presentatie gaan w
 e naar dreigingen kijken die van invloed zijn op onze privacy en wat wij z
 elf kunnen doen om deze privacy zo goed mogelijk te waarborgen. https://hc
 c.nl/component/rseventspro/evenement/10542-digitale-veiligheid-2?Itemid=10
 1
DTSTART:20260428T080000Z
DTEND:20260428T100000Z
LOCATION:MFC De Oase  (Ericaplein 1\, 6951 CP Dieren)
SUMMARY:Digitale Veiligheid 2
URL:https://hcc.nl/component/rseventspro/evenement/10542-digitale-veilighei
 d-2?Itemid=101
END:VEVENT
BEGIN:VEVENT
UID:20260424T212608UTC-0305cV9iO9@https://hcc.nl/
DTSTAMP:20260424T212608Z
DESCRIPTION:Digitale Veiligheid 2De zwakste schakel\nOm digitaal veilig te 
 zijn EN te blijven\, komt er heel veel bij kijken. De ontwikkelingen gaan 
 snel en het valt niet mee om op de hoogte te blijven van alle nieuwe en st
 eeds weer slimmere dreigingen\, laat staan hoe je je daartegen moet wapene
 n. Digitale veiligheid vraagt aandacht voor:- Het gebruik en de beveiligin
 g van hardware: laptop\, bewakingscamera’s en je netwerk- Het gebruik en d
 e beveiliging van software en digitale diensten: besturingssysteem\, progr
 amma’s\, apps of sociale media- Het gebruik\, de opslag en de beveiliging 
 van je data: virussen\, malware\, opslag lokaal of opslag in de Cloud EN p
 rivacy- Externe dreigingen\, zoals malware\, diefstal en identiteitsfraude
 - Interne dreigingen.Aan enkele externe dreigingen hebben wij al vaker aan
 dacht geschonken. Er zijn echter meer externe dreigingen en ook interne dr
 eigingen. Vooral onze privacy staat onder druk. In deze presentatie gaan w
 e naar dreigingen kijken die van invloed zijn op onze privacy en wat wij z
 elf kunnen doen om deze privacy zo goed mogelijk te waarborgen. https://hc
 c.nl/component/rseventspro/evenement/10546-digitale-veiligheid-2?Itemid=10
 1
DTSTART:20260428T110000Z
DTEND:20260428T140000Z
LOCATION:Huis van de Wijk Oostgaarde (De Linie 5\, 2905 AX Capelle aan den 
 IJssel)
SUMMARY:Digitale Veiligheid 2
URL:https://hcc.nl/component/rseventspro/evenement/10546-digitale-veilighei
 d-2?Itemid=101
END:VEVENT
BEGIN:VEVENT
UID:20260424T212608UTC-0307DbVaZI@https://hcc.nl/
DTSTAMP:20260424T212608Z
DESCRIPTION:De zwakste schakel\nOm digitaal veilig te zijn EN te blijven\, 
 komt er heel veel bij kijken. De ontwikkelingen gaan snel en het valt niet
  mee om op de hoogte te blijven van alle nieuwe en steeds weer slimmere dr
 eigingen\, laat staan hoe je je daartegen moet wapenen. Digitale veilighei
 d vraagt aandacht voor:- Het gebruik en de beveiliging van hardware: lapto
 p\, bewakingscamera’s en je netwerk- Het gebruik en de beveiliging van sof
 tware en digitale diensten: besturingssysteem\, programma’s\, apps of soci
 ale media- Het gebruik\, de opslag en de beveiliging van je data: virussen
 \, malware\, opslag lokaal of opslag in de Cloud EN privacy- Externe dreig
 ingen\, zoals malware\, diefstal en identiteitsfraude- Interne dreigingen.
 Aan enkele externe dreigingen hebben wij al vaker aandacht geschonken. Er 
 zijn echter meer externe dreigingen en ook interne dreigingen. Vooral onze
  privacy staat onder druk. In deze presentatie gaan we naar dreigingen kij
 ken die van invloed zijn op onze privacy en wat wij zelf kunnen doen om de
 ze privacy zo goed mogelijk te waarborgen. https://hcc.nl/component/rseven
 tspro/evenement/10569-digitale-veiligheid-2?Itemid=101
DTSTART:20260428T113000Z
DTEND:20260428T140000Z
LOCATION:De Binder (Hoflaan 29\, 3956 ED Leersum)
SUMMARY:Digitale Veiligheid 2
URL:https://hcc.nl/component/rseventspro/evenement/10569-digitale-veilighei
 d-2?Itemid=101
END:VEVENT
BEGIN:VEVENT
UID:20260424T212608UTC-0308UiSSsA@https://hcc.nl/
DTSTAMP:20260424T212608Z
DESCRIPTION:Open bijeenkomst met lezing over wachtwoordmanager  https://hcc
 .nl/component/rseventspro/evenement/10636-presentatie-wachtwoordmanager?It
 emid=101
DTSTART:20260428T180000Z
DTEND:20260428T200000Z
LOCATION:Scouting Jan Bakker Groep (Van Veenlaan 1\, 4301 NN Zierikzee)
SUMMARY:Presentatie wachtwoordmanager
URL:https://hcc.nl/component/rseventspro/evenement/10636-presentatie-wachtw
 oordmanager?Itemid=101
END:VEVENT
BEGIN:VEVENT
UID:20260424T212608UTC-0309vx5Tv9@https://hcc.nl/
DTSTAMP:20260424T212608Z
DESCRIPTION:🖨️ HCC!3D – Ontwerpen\, printen en scannen (nieuw in het Noorde
 n)\nDe HCC!3D interessegroep is op verschillende locaties in het land acti
 ef met het organiseren van 3D-activiteiten. Het werken met 3D-printers is 
 de laatste jaren steeds interessanter geworden\, omdat de prijzen voor kwa
 litatief goede 3D-printers steeds betaalbaarder zijn geworden.\n📍 Nieuw bi
 nnen HCC!noord-nederland\nBinnen onze regio starten we nu voor het eerst m
 et HCC!3D bijeenkomsten.\nTijdens deze middagen kun je kennismaken met 3D-
 ontwerpen\, 3D-printen en 3D-scannen. Deze activiteit is nieuw in het noor
 den en bedoeld voor zowel beginners als gevorderden.\nTijdens de bijeenkom
 sten kun je zien hoe een 3D-printer werkt\, hoe je een model ontwerpt en h
 oe een ontwerp uiteindelijk wordt geprint. Natuurlijk is er ook gelegenhei
 d om vragen te stellen\, ervaringen uit te wisselen en eigen projecten te 
 bespreken.\n🔧 Eenmaal aan de slag met 3D-printen blijkt dit erg handig te 
 zijn.\nDenk bijvoorbeeld aan het zelf printen van kunststof onderdelen die
  kapot zijn gegaan\, onderdelen voor hobbyprojecten\, modelbouw\, drone-on
 derdelen\, houders\, klemmen en nog veel meer. Er zijn ontzettend veel toe
 passingen te bedenken.\n👥 De bijeenkomsten zijn vooral bedoeld om elkaar t
 e helpen\, kennis te delen en samen met 3D bezig te zijn. Neem gerust je e
 igen laptop\, ontwerpen of vragen mee.\n🌐 Kijk ook op de HCC!3D agenda’s o
 m te zien waar in het land nog meer 3D-activiteiten plaatsvinden en bezoek
  eens een bijeenkomst om kennis te maken met 3D-printen.\n🔎 Wil je meer te
  weten komen over 3D-printen in het algemeen\, zoek dan eens op “3D printe
 n voor beginners” om een indruk te krijgen van wat er allemaal kan met 3D-
 printen. Iets om enthousiast van te worden.\n📅 Afsluiting\nHeb je interess
 e in 3D-printen of wil je gewoon eens zien wat er allemaal mogelijk is? Ko
 m dan gerust langs tijdens een van onze bijeenkomsten. Beginners en gevord
 erden zijn van harte welkom.\nWe horen graag wie interesse heeft! https://
 hcc.nl/component/rseventspro/evenement/10645-bijeenkomst?Itemid=101
DTSTART:20260428T120000Z
DTEND:20260428T140000Z
LOCATION:De Hoeksteen (kerk) (Velingspad 1\, 9502 RA Stadskanaal)
SUMMARY:Bijeenkomst
URL:https://hcc.nl/component/rseventspro/evenement/10645-bijeenkomst?Itemid
 =101
END:VEVENT
BEGIN:VEVENT
UID:20260424T212608UTC-0311vIzOio@https://hcc.nl/
DTSTAMP:20260424T212608Z
DESCRIPTION:Volgt zodra beschikbaar https://hcc.nl/component/rseventspro/ev
 enement/10661-open-source-werkgroep-bijeenkomst?Itemid=101
DTSTART:20260428T190000Z
DTEND:20260428T210000Z
LOCATION:Zalencentrum De Witte Kerk (Agnes Huijnstraat 3\, 5914 PE Venlo)
SUMMARY:Open Source werkgroep bijeenkomst 
URL:https://hcc.nl/component/rseventspro/evenement/10661-open-source-werkgr
 oep-bijeenkomst?Itemid=101
END:VEVENT
BEGIN:VEVENT
UID:20260424T212608UTC-0311ilDJwD@https://hcc.nl/
DTSTAMP:20260424T212608Z
DESCRIPTION:Inloop en 3D Workshop\n* Ontwerpen met oa. Fusion360* Scannen i
 n 3D* Het gebruik van 3D printers\nJe kunt ook online aan deze fysieke bij
 eenkomst deelnemen. De bijeenkomst is dan op de locatie te volgen.Je kunt 
 dan dinsdagavond tussen 19.00 en 19.30 uur inloggen met Jitsi\, ook  voor 
 vragen\, of ter kennismaking met hcc!3D.Online ga je dan naar:  https://wi
 j.hcc.nl/3D https://hcc.nl/component/rseventspro/evenement/10686-bijeenkom
 st?Itemid=101
DTSTART:20260428T170000Z
DTEND:20260428T203000Z
LOCATION:NewTechPark (Vlijtseweg 148\, 7317 AK Apeldoorn)
SUMMARY:Bijeenkomst 
URL:https://hcc.nl/component/rseventspro/evenement/10686-bijeenkomst?Itemid
 =101
END:VEVENT
BEGIN:VEVENT
UID:20260424T212608UTC-03127A8Jkf@https://hcc.nl/
DTSTAMP:20260424T212608Z
DESCRIPTION:Inloopmiddag voor alle disciplines https://hcc.nl/component/rse
 ventspro/evenement/10691-inloopmiddag?Itemid=101
DTSTART:20260428T120000Z
DTEND:20260428T143000Z
LOCATION:De Maatjes Zevenaar (Kardinaal de Jongstraat 4\, 6904 BE Zevenaar)
SUMMARY:Inloopmiddag
URL:https://hcc.nl/component/rseventspro/evenement/10691-inloopmiddag?Itemi
 d=101
END:VEVENT
BEGIN:VEVENT
UID:20260424T212608UTC-03136naXe9@https://hcc.nl/
DTSTAMP:20260424T212608Z
DESCRIPTION:We houden weer een online algemene sessie. Aanmelden is niet no
 dig. https://hcc.nl/component/rseventspro/evenement/10697-algemene-sessie-
 programmeren?Itemid=101
DTSTART:20260428T173000Z
DTEND:20260428T200000Z
LOCATION:Online ()
SUMMARY:Algemene sessie programmeren
URL:https://hcc.nl/component/rseventspro/evenement/10697-algemene-sessie-pr
 ogrammeren?Itemid=101
END:VEVENT
BEGIN:VEVENT
UID:20260424T212608UTC-03149UhWFi@https://hcc.nl/
DTSTAMP:20260424T212608Z
DESCRIPTION:De energiemarkt is de afgelopen jaren flink veranderd. Waar vro
 eger bijna iedereen automatisch bij dezelfde leverancier zat\, kun je tege
 nwoordig zelf kiezen uit verschillende aanbieders en contractvormen. Dat k
 linkt als vrijheid\, maar maakt het kiezen soms ook best lastig.\nGa je vo
 or zekerheid met een vast contract? Of kies je juist flexibiliteit met een
  variabel of dynamisch contract? En wat betekenen die keuzes eigenlijk voo
 r je maandelijkse kosten en risico’s?\nMet zonnepanelen\, warmtepomp\, thu
 isbatterij of (toekomstige) laadpaal wordt het helemaal een oerwoud.\nIn d
 eze presentatie nemen we de verschillende soorten energiecontracten stap v
 oor stap door. We leggen uit wat de verschillen zijn\, wat de voor- en nad
 elen zijn\, en waar je op moet letten bij het maken van een keuze. Zo krij
 g je meer grip op je energiekosten en kun je een contract kiezen dat past 
 bij jouw situatie.\nPresentator is Anton Doornenbal\nInloop vanaf 13.15 uu
 r\nStart presentatie 13.30 uur https://hcc.nl/component/rseventspro/evenem
 ent/10718-presentatie-over-de-verschillende-energiecontracten?Itemid=101
DTSTART:20260428T113000Z
DTEND:20260428T133000Z
LOCATION:Wijkgebouw Bijdorp (Bijdorplaan 471\, 2713 SZ Zoetermeer)
SUMMARY:Presentatie over de verschillende energiecontracten
URL:https://hcc.nl/component/rseventspro/evenement/10718-presentatie-over-d
 e-verschillende-energiecontracten?Itemid=101
END:VEVENT
END:VCALENDAR
