BEGIN:VCALENDAR
VERSION:2.0
PRODID:-//https://hcc.nl///NONSGML kigkonsult.se iCalcreator 2.10.15//
METHOD:PUBLISH
BEGIN:VEVENT
UID:20260420T054212UTC-82843uV7ug@https://hcc.nl/
DTSTAMP:20260420T054212Z
DESCRIPTION:Onze inloop is bedoeld voor iedereen die praktische hulp en ond
 ersteuning nodig heeft bij het gebruik van uw tablet en smartphone.\nTe de
 nken valt aan:- apps installeren- accounts aanmaken op uw apparaten (breng
  dan uw inloggegevens mee)- E-mail problemen.- Instellingen aanpassenZowel
  voor Apple\, Android als Windows!\nOnze deskundigen zitten klaar om u met
  raad en daad terzijde te staan. https://hcc.nl/component/rseventspro/even
 ement/2595-inloop-digitale-hulp?Itemid=101
DTSTART:20240425T073000Z
DTEND:20240425T093000Z
LOCATION:Wijkcentrum Rozenobel (Dukatenplein 2\, 4205 GE Gorinchem)
SUMMARY:Inloop Digitale Hulp
URL:https://hcc.nl/component/rseventspro/evenement/2595-inloop-digitale-hul
 p?Itemid=101
END:VEVENT
BEGIN:VEVENT
UID:20260420T054212UTC-8286UM54nK@https://hcc.nl/
DTSTAMP:20260420T054212Z
DESCRIPTION:Onze inloop is bedoeld voor iedereen die praktische hulp en ond
 ersteuning nodig heeft bij het gebruik van uw tablet en smartphone.Te denk
 en valt aan:- apps installeren- accounts aanmaken op uw apparaten (breng d
 an uw inloggegevens mee)- E-mail problemen.- Instellingen aanpassen\nZowel
  voor Apple\, Android als Windows!Onze deskundigen zitten klaar om u met r
 aad en daad terzijde te staan. https://hcc.nl/component/rseventspro/evenem
 ent/2935-inloop-digitale-hulp?Itemid=101
DTSTART:20240425T073000Z
DTEND:20240425T093000Z
LOCATION:Wijkcentrum Rozenobel (Dukatenplein 2\, 4205 GE Gorinchem)
SUMMARY:Inloop Digitale Hulp
URL:https://hcc.nl/component/rseventspro/evenement/2935-inloop-digitale-hul
 p?Itemid=101
END:VEVENT
BEGIN:VEVENT
UID:20260420T054212UTC-82877gUcga@https://hcc.nl/
DTSTAMP:20260420T054212Z
DESCRIPTION:Deze maand zijn er inloopavonden gepland.\nZo kunnen wij op dez
 e avonden:\n\nvragen over Linux behandelen\,\nuitleg geven over Linux\,\ne
 ventuele problemen oplossen.\ninstalleren van Linux op uw laptop\,\n\nU be
 nt welkom op de 2e en 4e donderdag avond van de maand\, https://hcc.nl/com
 ponent/rseventspro/evenement/4530-inloop-en-bijeenkomsten-linuxgroep-zeven
 aar?Itemid=101
DTSTART:20240425T183000Z
DTEND:20240425T210000Z
LOCATION: ()
SUMMARY:Inloop en bijeenkomsten Linuxgroep Zevenaar
URL:https://hcc.nl/component/rseventspro/evenement/4530-inloop-en-bijeenkom
 sten-linuxgroep-zevenaar?Itemid=101
END:VEVENT
BEGIN:VEVENT
UID:20260420T054212UTC-8287LrJ43O@https://hcc.nl/
DTSTAMP:20260420T054212Z
DESCRIPTION:Spraakherkenning in Windows -----------------------------------
 --------------------------------------------------------------------------
 ---Een van de oudste behoeften van de PC is om tegen de computer te kunnen
  praten. Geen gedoe met muis en toetsenbord\, maar gewoon praten tegen een
  computer die je dan nog verstaat ook. Maar kan dit nu ook echt?Iedereen h
 eeft vast weleens de behoefte gehad eens flink tegen zijn computer te schr
 eeuwen. Maar het gekke is dat dit tegenwoordig niet alleen kan\, maar dat 
 die computer het nog verstaat ook. Spraakherkenning is daarbij de achterli
 ggende techniek die maakt dat een computer (maar ook een smartphone\, ande
 re slimme apparaten of zelfs de routeplanner in de auto --- we beperken on
 s hier echter tot Windows!) de menselijke stem verstaat en omzet in geschr
 even tekst of een uit te voeren actie. https://hcc.nl/component/rseventspr
 o/evenement/4717-spraakherkenning-in-windows?Itemid=101
DTSTART:20240425T080000Z
DTEND:20240425T100000Z
LOCATION:Wijkhuis de Westwijzer  (Cortenbachstraat 70\, 5707 TJ Helmond)
SUMMARY:Spraakherkenning in Windows
URL:https://hcc.nl/component/rseventspro/evenement/4717-spraakherkenning-in
 -windows?Itemid=101
END:VEVENT
BEGIN:VEVENT
UID:20260420T054212UTC-8289n2NpT7@https://hcc.nl/
DTSTAMP:20260420T054212Z
DESCRIPTION:Alle werkgroepen zijn aanwezig. De meesten verzorgen maandelijk
 s de presentatie. De Borduurgroep of misschien liever de werkgroep Creatie
 ve Werkvormen bezet elke week zelfs een aparte zaal. https://hcc.nl/compon
 ent/rseventspro/evenement/4727-inloop-voor-alle-werkgroepen?Itemid=101
DTSTART:20240425T180000Z
DTEND:20240425T200000Z
LOCATION:NewTechPark (Vlijtseweg 148\, 7317 AK Apeldoorn)
SUMMARY:Inloop voor alle werkgroepen
URL:https://hcc.nl/component/rseventspro/evenement/4727-inloop-voor-alle-we
 rkgroepen?Itemid=101
END:VEVENT
BEGIN:VEVENT
UID:20260420T054212UTC-8290UAsRud@https://hcc.nl/
DTSTAMP:20260420T054212Z
DESCRIPTION:We houden weer een online Python sessie met de cursus voor begi
 nners.\nAanmelden is niet nodig. Zie dit artikel voor meer informatie. htt
 ps://hcc.nl/component/rseventspro/evenement/4743-hcc-programmeren-python-s
 essie?Itemid=101
DTSTART:20240425T170000Z
DTEND:20240425T210000Z
LOCATION:Online ()
SUMMARY:HCC!programmeren -  Python sessie
URL:https://hcc.nl/component/rseventspro/evenement/4743-hcc-programmeren-py
 thon-sessie?Itemid=101
END:VEVENT
BEGIN:VEVENT
UID:20260420T054212UTC-8290nrwUba@https://hcc.nl/
DTSTAMP:20260420T054212Z
DESCRIPTION:Helaas kan de bijeenkomst van deze donderdagavond niet doorgaan
  in verband met mijn afwezigheid. Onze eerstvolgende bijeenkomst staat nu 
 gepland op donderdagavond 23 mei a.s. op de gebruikelijke locatie en tijds
 tip.\nVriendelijke groet \nWim van den Berg https://hcc.nl/component/rseve
 ntspro/evenement/4879-bijeenkomst-apple-gaat-niet-door?Itemid=101
DTSTART:20240425T180000Z
DTEND:20240425T200000Z
LOCATION:NewTechPark (Vlijtseweg 148\, 7317 AK Apeldoorn)
SUMMARY:Bijeenkomst Apple - gaat niet door
URL:https://hcc.nl/component/rseventspro/evenement/4879-bijeenkomst-apple-g
 aat-niet-door?Itemid=101
END:VEVENT
END:VCALENDAR
