BEGIN:VCALENDAR
VERSION:2.0
PRODID:-//https://hcc.nl///NONSGML kigkonsult.se iCalcreator 2.10.15//
METHOD:PUBLISH
BEGIN:VEVENT
UID:20260420T035719UTC-6798ZhZJFT@https://hcc.nl/
DTSTAMP:20260420T035719Z
DESCRIPTION:Een 2-daags evenement Modelspoor weekend MFA 't Hart Ewijk (bij
  Nijmegen)\nOp zaterdag 27 en zondag 28 januari a.s. zijn we in Ewijk te g
 ast op dit Modelspoorweekend in MFA 't Hart Ewijk.We tonen hier onze demob
 anen.\nEntree: € 5\,00 Open: za 10:00 uur tot 16:00 uur\, zo 11:00 uur tot
  16:00 uur https://hcc.nl/component/rseventspro/evenement/3687-modelspoor-
 weekend-mfa-t-hart-ewijk-bij-nijmegen?Itemid=101
DTSTART:20240127T090000Z
DTEND:20240128T150000Z
LOCATION:MFA ‘t Hart (Den Elt 17\, 6644 EA Ewijk)
SUMMARY:Modelspoor weekend MFA 't Hart Ewijk (bij Nijmegen)
URL:https://hcc.nl/component/rseventspro/evenement/3687-modelspoor-weekend-
 mfa-t-hart-ewijk-bij-nijmegen?Itemid=101
END:VEVENT
END:VCALENDAR
