BEGIN:VCALENDAR
VERSION:2.0
PRODID:-//https://hcc.nl///NONSGML kigkonsult.se iCalcreator 2.10.15//
METHOD:PUBLISH
BEGIN:VEVENT
UID:20260420T035719UTC-5599mb0MEP@https://hcc.nl/
DTSTAMP:20260420T035719Z
DESCRIPTION:Heeft u een vraag over of een probleem met uw Android apparaat?
  Onze deskundigen zitten klaar om u te helpen.\n\nInstellingen aanpassen\n
 Downloaden van Apps\nUpdaten van Apps\nInstellen van e-mail\n\nEn nog veel
  meer! https://hcc.nl/component/rseventspro/evenement/1593-inloop-android-
 hulp?Itemid=101
DTSTART:20240122T190000Z
DTEND:20240122T210000Z
LOCATION:Huis van de Wijk Oostgaarde (De Linie 5\, 2905 AX Capelle aan den 
 IJssel)
SUMMARY:Inloop Android hulp
URL:https://hcc.nl/component/rseventspro/evenement/1593-inloop-android-hulp
 ?Itemid=101
END:VEVENT
BEGIN:VEVENT
UID:20260420T035719UTC-5601RzXIvO@https://hcc.nl/
DTSTAMP:20260420T035719Z
DESCRIPTION:   \nWe houden weer een online bijeenkomst over Visual Basic.is
 ual Basic.\nAanmelden is niet nodig\, zie de voorpagina voor meer informat
 ie. https://hcc.nl/component/rseventspro/evenement/3875-visual-basic-sessi
 e?Itemid=101
DTSTART:20240122T190000Z
DTEND:20240122T220000Z
LOCATION:Online ()
SUMMARY:Visual Basic sessie
URL:https://hcc.nl/component/rseventspro/evenement/3875-visual-basic-sessie
 ?Itemid=101
END:VEVENT
END:VCALENDAR
