BEGIN:VCALENDAR
VERSION:2.0
PRODID:-//https://hcc.nl///NONSGML kigkonsult.se iCalcreator 2.10.15//
METHOD:PUBLISH
BEGIN:VEVENT
UID:20260419T235412UTC-9627c41zrU@https://hcc.nl/
DTSTAMP:20260419T235412Z
DESCRIPTION: https://hcc.nl/agenda/evenement/5-training-hcc-kantoor
DTSTART:20221124T100000Z
DTEND:20221124T170000Z
LOCATION:Bit-meetme (Galileïlaan 17\, 6716 BP Ede)
SUMMARY:Training hcc-kantoor
URL:https://hcc.nl/agenda/evenement/5-training-hcc-kantoor
END:VEVENT
END:VCALENDAR
