BEGIN:VCALENDAR
VERSION:2.0
PRODID:-//https://hcc.nl///NONSGML kigkonsult.se iCalcreator 2.10.15//
METHOD:PUBLISH
BEGIN:VEVENT
UID:20260420T173840UTC-0416P1X4gL@https://hcc.nl/
DTSTAMP:20260420T173840Z
DESCRIPTION:We houden deze keer een bijeenkomst over Liberty BASIC in Amste
 lveen en online.\nAanmelden is niet nodig\, zie de voorpagina voor meer in
 formatie. https://hcc.nl/agenda/evenement/640-liberty-basic-bijeenkomst-hy
 bride
DTSTART:20230524T180000Z
DTEND:20230524T200000Z
LOCATION:De Meent  (Orion 3\, 1188 AM Amstelveen)
SUMMARY:Liberty BASIC bijeenkomst hybride
URL:https://hcc.nl/agenda/evenement/640-liberty-basic-bijeenkomst-hybride
END:VEVENT
BEGIN:VEVENT
UID:20260420T173840UTC-0417OXwuUU@https://hcc.nl/
DTSTAMP:20260420T173840Z
DESCRIPTION:In deze lezing bespreken we een aantal apps (programma’s) en on
 line diensten waarvan je in het dagelijks gebruik veel gemak en plezier va
 n kunt hebben. Een aantal van de apps zijn alleen beschikbaar onder Window
 s\, de app To Do van Microsoft is beschikbaar voor Windows en IOS (Apple).
  De online diensten zijn via de browser beschikbaar op alle platformen. We
  bespreken: Microsoft Foto’s\, To Do\, de Rekenmachine\, Sumatra pdf lezer
 \, WeTransfer\, BerekenHet\, Convertworld\, Google Translate en Google Map
 s. De gekozen onderwerpen zijn een keuze van de schrijver. Afhankelijk van
  de interesses van de gebruiker zijn er uiteraard veel meer handige apps e
 n diensten beschikbaar.\nIn 2023 hebben wij weer meerdere interessante ond
 erwerpen op de agenda staan. Kijk ook regelmatig op onze website www.senio
 renacademie.hcc.nl.  https://hcc.nl/agenda/evenement/768-handige-apps-dien
 sten
DTSTART:20230525T180000Z
DTEND:20230525T200000Z
LOCATION:NewTechPark (Vlijtseweg 148\, 7317 AK Apeldoorn)
SUMMARY:Handige apps/diensten
URL:https://hcc.nl/agenda/evenement/768-handige-apps-diensten
END:VEVENT
BEGIN:VEVENT
UID:20260420T173840UTC-0418cbeUzd@https://hcc.nl/
DTSTAMP:20260420T173840Z
DESCRIPTION:Deze tweede bijeenkomst van de maand mei van onze werkgroep is 
 vooral gewijd aan IoT zaken\, maar 3D onderwerpen worden zeker ook toegest
 aan. We doen het\, zoals inmiddels gebruikelijk\, in hybride vorm\, dus zo
 wel fysiek in de Meent zonder allerlei hinderlijke beperkingen\, en online
  via 'wij.hcc.nl'. Vaste deelnemers kennen het webadres\, nieuwkomers vrag
 en\, o.v.v hun HCC lidnummer op de Onderwerpregel\, toegang via hccregio.a
 msterdam@gmail.com. Niet HCC leden zijn - voor een kennismaking - via hetz
 elfde adres ook welkom. https://hcc.nl/agenda/evenement/772-hybride-bijeen
 komst-3d-iot
DTSTART:20230524T180000Z
DTEND:20230524T201500Z
LOCATION:De Meent  (Orion 3\, 1188 AM Amstelveen)
SUMMARY:Hybride Bijeenkomst 3D-IoT
URL:https://hcc.nl/agenda/evenement/772-hybride-bijeenkomst-3d-iot
END:VEVENT
BEGIN:VEVENT
UID:20260420T173840UTC-0418ZFVJGH@https://hcc.nl/
DTSTAMP:20260420T173840Z
DESCRIPTION:We zijn deze vliegmiddag te gast bij de familie Nijsingh.Looweg
  1\, 7991RZ\, Dwingeloo\nDwingeloo is een dorp in de gemeente Westerveld i
 n de Nederlandse provincie Drenthe. Dwingeloo is een van de groenste dorpe
 n van Europa. Dit authentieke brinkdorp in het westen van Drenthe ligt pal
  naast Nationaal Park Dwingelderveld\, een groot en prachtig bos- en heide
 gebied.\nWe parkeren op het erf\, de ingang is waar de pijl staat dus niet
  bij de woning met rieten dak. Volg de bordjes 'HCC!drones parkeren'. Op d
 e betonplaat kunnen we opstijgen en landen. (lichtgrijze strook van de uit
 einde van de pijl)\n\nKoffie en thee worden vanuit de kofferbak geserveerd
 .Aanmelden is verplicht via de link onderaan deze pagina (eerst inloggen).
 \nDit alles is onder voorbehoud van goed vliegweer. De vrijdagmiddag ervoo
 r gaan we beoordelen of het door kan gaan. Deelnemers die zich hebben inge
 schreven krijgen vrijdag of zaterdagmorgen een bevestigingsmail.\nOpm: De 
 club neemt geen aansprakelijkheid voor schade aan je drone of aan derden. 
 Check altijd je eigen aansprakelijkheidsverzekering.Veel vliegplezier gewe
 nst!\nExacte HCC!drones parkeer locatie: https://goo.gl/maps/6a7w62PFtMfMA
 dSs5\nU moet inloggen om uw komst te bevestigen. https://hcc.nl/agenda/eve
 nement/852-vliegmiddag-dwingeloo-drenthe
DTSTART:20230527T110000Z
DTEND:20230527T133000Z
LOCATION:Familie Nijsingh (Looweg 1\, 7991 RZ Dwingeloo)
SUMMARY:Vliegmiddag Dwingeloo Drenthe
URL:https://hcc.nl/agenda/evenement/852-vliegmiddag-dwingeloo-drenthe
END:VEVENT
BEGIN:VEVENT
UID:20260420T173840UTC-0419ZmHO7D@https://hcc.nl/
DTSTAMP:20260420T173840Z
DESCRIPTION:Voor deelname aan de Digitale koffie-uurtje HCC!Noord is het vo
 lgende URL aangemaakt. wij.hcc.nl/hccnoord-koffieuurtje https://hcc.nl/age
 nda/evenement/864-digitale-koffie-uurtje-hcc-noord
DTSTART:20230524T180000Z
DTEND:20230524T190000Z
LOCATION: ()
SUMMARY:Digitale koffie-uurtje HCC!noord
URL:https://hcc.nl/agenda/evenement/864-digitale-koffie-uurtje-hcc-noord
END:VEVENT
BEGIN:VEVENT
UID:20260420T173840UTC-0419Jm5VAV@https://hcc.nl/
DTSTAMP:20260420T173840Z
DESCRIPTION:In deze presentatie laten we je kennis maken met een aantal app
 s (programma’s) en online diensten waarvan je in het dagelijks gebruik vee
 l gemak en plezier van kunt hebben.Een aantal van de apps zijn alleen besc
 hikbaar onder Windows\, de app To Do van Microsoft is beschikbaar voor Win
 dows en IOS (Apple). De online diensten zijn via de browser beschikbaar op
  alle platformen.\nWe bespreken: Microsoft Foto’s\, To Do\, de Rekenmachin
 e\, Sumatra pdf lezer\, WeTransfer\, BerekenHet\, Convertworld\, Google Tr
 anslate en Google Maps. De gekozen onderwerpen zijn een keuze van de maker
  van deze presentatie. Afhankelijk van je interesses zijn er uiteraard vee
 l meer handige apps en diensten beschikbaar.\nOm deel te nemen aan deze we
 binar moet je worden aangemeld.  https://hcc.nl/agenda/evenement/916-webin
 ar-handige-apps-en-online-diensten
DTSTART:20230524T113000Z
DTEND:20230524T123000Z
LOCATION: ()
SUMMARY:Webinar: Handige apps en (online) diensten
URL:https://hcc.nl/agenda/evenement/916-webinar-handige-apps-en-online-dien
 sten
END:VEVENT
BEGIN:VEVENT
UID:20260420T173840UTC-0420p6Ka2U@https://hcc.nl/
DTSTAMP:20260420T173840Z
DESCRIPTION:Onze inloop is bedoeld voor iedereen die praktische hulp en ond
 ersteuning nodig heeft bij het gebruik van uw digitale apparatuur\, zoals 
 desktop\, laptop\, tablet en smartphone.Te denken valt aan:• opschonen van
  uw computer• updates downloaden• apps installeren• accounts aanmaken op u
 w apparaten(breng dan wel uw gegevens mee)• e-mail problemen.• instellinge
 n aanpassenOnze deskundigen zitten klaar om u met raad en daad terzijde te
  staan. https://hcc.nl/agenda/evenement/922-inloop-digitale-hulp
DTSTART:20230524T173000Z
DTEND:20230524T193000Z
LOCATION:Wijkcentrum De Akkers (Lenteakker 5\, 3206 TB Spijkenisse)
SUMMARY:Inloop digitale hulp
URL:https://hcc.nl/agenda/evenement/922-inloop-digitale-hulp
END:VEVENT
BEGIN:VEVENT
UID:20260420T173840UTC-0421cee87w@https://hcc.nl/
DTSTAMP:20260420T173840Z
DESCRIPTION:Onze inloop is bedoeld voor iedereen die praktische hulp en ond
 ersteuning nodig heeft bij het gebruik van uw digitale apparatuur\, zoals 
 desktop\, laptop\, tablet en smartphone.Te denken valt aan:• opschonen van
  uw computer• updates downloaden• apps installeren• accounts aanmaken op u
 w apparaten(breng dan wel uw gegevens mee)• e-mail problemen.• instellinge
 n aanpassenOnze deskundigen zitten klaar om u met raad en daad terzijde te
  staan. https://hcc.nl/agenda/evenement/930-inloop-digitale-hulp
DTSTART:20230530T080000Z
DTEND:20230530T100000Z
LOCATION:Bibliotheek Hardinxveld-Giessendam (Pietersweer 34\, 3371 PN Hardi
 nxveld-Giessendam)
SUMMARY:Inloop digitale hulp
URL:https://hcc.nl/agenda/evenement/930-inloop-digitale-hulp
END:VEVENT
BEGIN:VEVENT
UID:20260420T173840UTC-0421EjCX2r@https://hcc.nl/
DTSTAMP:20260420T173840Z
DESCRIPTION:Onze inloop is bedoeld voor iedereen die praktische hulp en ond
 ersteuning nodig heeft bij het gebruik van uw tablet en smartphone.\nTe de
 nken valt aan:\n- apps installeren- accounts aanmaken op uw apparaten(bren
 g dan uw inloggegevens mee)- E-mail problemen.- Instellingen aanpassenZowe
 l voor Apple\, Android als Windows!\nOnze deskundigen zitten klaar om u me
 t raad en daad terzijde te staan. https://hcc.nl/agenda/evenement/947-inlo
 op-digitale-hulp
DTSTART:20230525T173000Z
DTEND:20230525T200000Z
LOCATION:Buurthuis Het Voorhof  (Herman Gorterhof 165\, 2624 XL Delft)
SUMMARY:Inloop digitale hulp
URL:https://hcc.nl/agenda/evenement/947-inloop-digitale-hulp
END:VEVENT
BEGIN:VEVENT
UID:20260420T173840UTC-0421vpC7Xe@https://hcc.nl/
DTSTAMP:20260420T173840Z
DESCRIPTION:Op de bijeenkomst van 25 mei willen we met elkaar gegevens en e
 rvaring uitwisselen over het gebruik en de instellingen van de printsoftwa
 re  CURA. Om ook 3D/ers die CURA niet gebruiken kennis te laten maken met 
 CURA hebben Jos en Leo een en ander voorbereid in de vorm van een presenta
 tie.\nDaarom zal deze bijeenkomst ook uitgezonden worden via ons virtuele 
 vergaderlokaal: https://wij.hcc.nl/3D-Delft\nPas op: Bijeenkomst dit keer 
 niet de 3e donderdag\, maar de 4e donderdag in mei. https://hcc.nl/agenda/
 evenement/949-instellingen-3d-printsoftware-cura
DTSTART:20230525T173000Z
DTEND:20230525T200000Z
LOCATION:Buurthuis Het Voorhof  (Herman Gorterhof 165\, 2624 XL Delft)
SUMMARY:Instellingen 3D-printsoftware CURA
URL:https://hcc.nl/agenda/evenement/949-instellingen-3d-printsoftware-cura
END:VEVENT
BEGIN:VEVENT
UID:20260420T173840UTC-0422jVZugG@https://hcc.nl/
DTSTAMP:20260420T173840Z
DESCRIPTION:Bezoekers kunnen met elkaar van gedachten wisselen over compute
 ronderwerpen en aanverwante zaken waar zij mee bezig zijn. Natuurlijk ben 
 je welkom met vragen over of problemen met computers\, tablets en andere h
 ardware en software. Meestal kunnen we problemen ter plaatse oplossen of j
 e helpen je op weg.\nEr is een internet toegang aanwezig en je mag je PC/l
 aptop/tablet meenemen.Ook vind je er een rijkelijk gevulde leestafel met d
 e nieuwste computer bladen. https://hcc.nl/agenda/evenement/962-inloopbije
 enkomst
DTSTART:20230524T180000Z
DTEND:20230524T203000Z
LOCATION:De Meent  (Orion 3\, 1188 AM Amstelveen)
SUMMARY:Inloopbijeenkomst
URL:https://hcc.nl/agenda/evenement/962-inloopbijeenkomst
END:VEVENT
BEGIN:VEVENT
UID:20260420T173840UTC-0422HiGcV0@https://hcc.nl/
DTSTAMP:20260420T173840Z
DESCRIPTION:In deze lezing bespreken we een aantal apps (programma’s) en on
 line diensten waarvan je in het dagelijks gebruik veel gemak en plezier va
 n kunt hebben. Een aantal van de apps zijn alleen beschikbaar onder Window
 s\, de app To Do van Microsoft is beschikbaar voor Windows en IOS (Apple).
  De online diensten zijn via de browser beschikbaar op alle platformen. We
  bespreken: Microsoft Foto’s\, To Do\, de Rekenmachine\, Sumatra pdf lezer
 \, WeTransfer\, BerekenHet\, Convertworld\, Google Translate en Google Map
 s. De gekozen onderwerpen zijn een keuze van de schrijver. Afhankelijk van
  de interesses van de gebruiker zijn er uiteraard veel meer handige apps e
 n diensten beschikbaar.\nIn 2023 hebben wij weer meerdere interessante ond
 erwerpen op de agenda staan. Kijk ook regelmatig op onze website www.senio
 renacademie.hcc.nl.  https://hcc.nl/agenda/evenement/1002-handige-apps-die
 nsten
DTSTART:20230530T080000Z
DTEND:20230530T100000Z
LOCATION:MFC De Oase  (Ericaplein 1\, 6951 CP Dieren)
SUMMARY:Handige apps/diensten
URL:https://hcc.nl/agenda/evenement/1002-handige-apps-diensten
END:VEVENT
BEGIN:VEVENT
UID:20260420T173840UTC-0423AjAuPN@https://hcc.nl/
DTSTAMP:20260420T173840Z
DESCRIPTION:Steeds meer worden digitale media gebruikt voor mededelingen wa
 arvoor vroeger gewoon de post het normale kanaal was. Ook de (semi-) overh
 eid maakt steeds meer gebruik van websites en apps. Deze lezing geeft een 
 overzicht van de meest gebruikte digitale overheidscommunicatie. Daarnaast
  wordt ook door verzekeringsmaatschappijen en pensioenorganisaties gebruik
  gemaakt van het Internet. Dit wordt niet besproken omdat het niet fundame
 nteel anders is dan bij de overheid.\nIn 2023 hebben wij weer meerdere int
 eressante onderwerpen op de agenda staan. Kijk ook regelmatig op onze webs
 ite www.seniorenacademie.hcc.nl.  https://hcc.nl/agenda/evenement/1012-lez
 ing-onze-digitale-wereld
DTSTART:20230525T080000Z
DTEND:20230525T100000Z
LOCATION:Wijkhuis de Westwijzer  (Cortenbachstraat 70\, 5707 TJ Helmond)
SUMMARY:Lezing: Onze digitale wereld
URL:https://hcc.nl/agenda/evenement/1012-lezing-onze-digitale-wereld
END:VEVENT
BEGIN:VEVENT
UID:20260420T173840UTC-0423UbN6f2@https://hcc.nl/
DTSTAMP:20260420T173840Z
DESCRIPTION:In deze lezing bespreken we een aantal apps (programma’s) en on
 line diensten waarvan je in het dagelijks gebruik veel gemak en plezier va
 n kunt hebben. Een aantal van de apps zijn alleen beschikbaar onder Window
 s\, de app To Do van Microsoft is beschikbaar voor Windows en IOS (Apple).
  De online diensten zijn via de browser beschikbaar op alle platformen.We 
 bespreken: Microsoft Foto’s\, To Do\, de Rekenmachine\, Sumatra pdf lezer\
 , WeTransfer\, BerekenHet\, Convertworld\, Google Translate en Google Maps
 .De gekozen onderwerpen zijn een keuze van de schrijver. Afhankelijk van d
 e interesses van de gebruiker zijn er uiteraard veel meer handige apps en 
 diensten beschikbaar. \nIn 2023 hebben wij weer meerdere interessante onde
 rwerpen op de agenda staan. Kijk ook regelmatig op onze website www.senior
 enacademie.hcc.nl.  https://hcc.nl/agenda/evenement/1032-handige-apps-dien
 sten
DTSTART:20230530T113000Z
DTEND:20230530T140000Z
LOCATION:De Twee Marken  (Trompplein 5\, 3951 CR Maarn)
SUMMARY:Handige apps/diensten
URL:https://hcc.nl/agenda/evenement/1032-handige-apps-diensten
END:VEVENT
BEGIN:VEVENT
UID:20260420T173840UTC-04244t49B7@https://hcc.nl/
DTSTAMP:20260420T173840Z
DESCRIPTION:Onze inloop is bedoeld voor iedereen die praktische hulp en ond
 ersteuning nodig heeft bij het gebruik van uw digitale apparatuur\, zoals 
 desktop\, laptop\, tablet en smartphone.\nTe denken valt aan:• opschonen v
 an uw computer• updates downloaden• apps installeren• accounts aanmaken op
  uw apparaten (breng dan wel uw gegevens mee)• e-mail problemen.• instelli
 ngen aanpassen\nOnze deskundigen zitten klaar om u met raad en daad terzij
 de te staan. https://hcc.nl/agenda/evenement/1070-inloop-digitale-hulp
DTSTART:20230524T113000Z
DTEND:20230524T140000Z
LOCATION:Gemeenschapshuis De Kuip (Bloemendalsweg 1B\, 7429 AL Colmschate)
SUMMARY:Inloop digitale hulp
URL:https://hcc.nl/agenda/evenement/1070-inloop-digitale-hulp
END:VEVENT
BEGIN:VEVENT
UID:20260420T173840UTC-0424k63sav@https://hcc.nl/
DTSTAMP:20260420T173840Z
DESCRIPTION:Onze Linux Mint werkgroep is gestart naar aanleiding van de Sen
 iorenInloop september 2022. De leden zijn aanwezig in de Grote Zaal BG. \n
 Op een kleine\, wat oudere PC is de meest uitgebreide versie Linux Mint 21
  Cinnamon geïnstalleerd.Als je wilt zien hoe makkelijk en soepeltjes die o
 ude pc toch werkt\, en dat software voor alle mogelijke internet- en kanto
 ortaken - zonder extra kosten - standaard in Linux Mint beschikbaar zijn\,
  of als je vragen hebt of gewoon een keer met Linux kennis wilt maken: dan
  ben je hartstikke (en vrijblijvend!) welkom.  https://hcc.nl/agenda/evene
 ment/1078-linux-mint-werkgroep
DTSTART:20230524T180000Z
DTEND:20230524T203000Z
LOCATION:De Meent  (Orion 3\, 1188 AM Amstelveen)
SUMMARY:Linux Mint werkgroep
URL:https://hcc.nl/agenda/evenement/1078-linux-mint-werkgroep
END:VEVENT
BEGIN:VEVENT
UID:20260420T173840UTC-0425Gul7pi@https://hcc.nl/
DTSTAMP:20260420T173840Z
DESCRIPTION:Onze inloop is bedoeld voor iedereen die praktische hulp en ond
 ersteuning nodig heeft bij het gebruik van uw digitale apparatuur\, zoals 
 desktop\, laptop\, tablet en smartphone.\nTe denken valt aan:\n\nopschonen
  van uw computer \nupdates downloaden \napps installeren \naccounts aanmak
 en op uw apparaten (breng dan wel uw gegevens mee) \ne-mail problemen \nin
 stellingen aanpassen. \n\nOnze deskundigen zitten klaar om u met raad en d
 aad terzijde te staan.\nVoor meer info over IDO\, volg deze link:Informati
 epunt Digitale Overheid https://hcc.nl/agenda/evenement/1086-inloop-digita
 le-hulp
DTSTART:20230524T080000Z
DTEND:20230524T100000Z
LOCATION:Bibliotheek Gorinchem (Groenmarkt 1\, 4201 EE Gorinchem)
SUMMARY:Inloop digitale hulp
URL:https://hcc.nl/agenda/evenement/1086-inloop-digitale-hulp
END:VEVENT
BEGIN:VEVENT
UID:20260420T173840UTC-0425BkvgZ9@https://hcc.nl/
DTSTAMP:20260420T173840Z
DESCRIPTION:In deze lezing bespreken we een aantal apps (programma’s) en on
 line diensten waarvan je in het dagelijks gebruik veel gemak en plezier va
 n kunt hebben. Een aantal van de apps zijn alleen beschikbaar onder Window
 s\, de app To Do van Microsoft is beschikbaar voor Windows en IOS (Apple).
  De online diensten zijn via de browser beschikbaar op alle platformen. We
  bespreken: Microsoft Foto’s\, To Do\, de Rekenmachine\, Sumatra pdf lezer
 \, WeTransfer\, BerekenHet\, Convertworld\, Google Translate en Google Map
 s. De gekozen onderwerpen zijn een keuze van de schrijver. Afhankelijk van
  de interesses van de gebruiker zijn er uiteraard veel meer handige apps e
 n diensten beschikbaar.\nIn 2023 hebben wij weer meerdere interessante ond
 erwerpen op de agenda staan. Kijk ook regelmatig op onze website www.senio
 renacademie.hcc.nl.  https://hcc.nl/agenda/evenement/1090-handige-apps-die
 nsten
DTSTART:20230524T080000Z
DTEND:20230524T100000Z
LOCATION:Gemeenschapshuis De Kuip (Bloemendalsweg 1B\, 7429 AL Colmschate)
SUMMARY:Handige Apps/Diensten
URL:https://hcc.nl/agenda/evenement/1090-handige-apps-diensten
END:VEVENT
BEGIN:VEVENT
UID:20260420T173840UTC-04264wrZDe@https://hcc.nl/
DTSTAMP:20260420T173840Z
DESCRIPTION:We houden weer een online sessie over Python. Om 19:00 uur begi
 nt de Python cursus voor beginners en om ongeveer 21:00 uur is er Python v
 oor gevorderden.\nZie de voorpagina voor meer informatie. https://hcc.nl/a
 genda/evenement/1119-online-python-sessie
DTSTART:20230525T170000Z
DTEND:20230525T210000Z
LOCATION: ()
SUMMARY:Online Python sessie
URL:https://hcc.nl/agenda/evenement/1119-online-python-sessie
END:VEVENT
BEGIN:VEVENT
UID:20260420T173840UTC-0426v6Gitu@https://hcc.nl/
DTSTAMP:20260420T173840Z
DESCRIPTION:We houden weer een online bijeenkomst over Games programmeren.
 \nAanmelden is niet nodig. Zie de voorpagina voor meer informatie. https:/
 /hcc.nl/agenda/evenement/1126-games-programmeren-sessie
DTSTART:20230526T180000Z
DTEND:20230526T200000Z
LOCATION: ()
SUMMARY:Games programmeren sessie
URL:https://hcc.nl/agenda/evenement/1126-games-programmeren-sessie
END:VEVENT
BEGIN:VEVENT
UID:20260420T173840UTC-0426IJPItu@https://hcc.nl/
DTSTAMP:20260420T173840Z
DESCRIPTION:Bijeenkomst voor het samen bouwen van websites met Joomla en Wo
 rdpress. Loop binnen en laat u wegwijs maken door onze specialist Harry Ho
 lman.\nDaarnaast hulp bij computer-\, tablet- en telefoonproblemen. We pro
 beren u te helpen met alle voorkomende problemen. Neem uw wachtwoorden mee
 !\n  https://hcc.nl/agenda/evenement/1130-websites-bouwen-en-inloop-comput
 erhulp
DTSTART:20230524T113000Z
DTEND:20230524T140000Z
LOCATION:Gemeenschapshuis De Kuip (Bloemendalsweg 1B\, 7429 AL Colmschate)
SUMMARY:Websites bouwen en inloop computerhulp
URL:https://hcc.nl/agenda/evenement/1130-websites-bouwen-en-inloop-computer
 hulp
END:VEVENT
BEGIN:VEVENT
UID:20260420T173840UTC-0427H1uH4w@https://hcc.nl/
DTSTAMP:20260420T173840Z
DESCRIPTION:We houden weer een online bijeenkomst over Pascal.\nAanmelden i
 s niet nodig\, zie de voorpagina voor meer informatie. https://hcc.nl/agen
 da/evenement/1132-online-pascal-sessie
DTSTART:20230527T170000Z
DTEND:20230527T190000Z
LOCATION: ()
SUMMARY:Online Pascal sessie
URL:https://hcc.nl/agenda/evenement/1132-online-pascal-sessie
END:VEVENT
BEGIN:VEVENT
UID:20260420T173840UTC-0427VKbdbU@https://hcc.nl/
DTSTAMP:20260420T173840Z
DESCRIPTION:Zie https://programmeren.hcc.nl/ https://hcc.nl/agenda/evenemen
 t/1142-visual-basic-sessie
DTSTART:20230529T180000Z
DTEND:20230529T200000Z
LOCATION: ()
SUMMARY:Visual Basic sessie
URL:https://hcc.nl/agenda/evenement/1142-visual-basic-sessie
END:VEVENT
BEGIN:VEVENT
UID:20260420T173840UTC-0427T6ntPL@https://hcc.nl/
DTSTAMP:20260420T173840Z
DESCRIPTION:Op de bijeenkomst van 25 mei willen we met elkaar gegevens en e
 rvaring uitwisselen over het gebruik en de instellingen van de printsoftwa
 re  CURA. Om ook 3D/ers die CURA niet gebruiken kennis te laten maken met 
 CURA hebben Jos en Leo een en ander voorbereid in de vorm van een presenta
 tie.\nDaarom zal deze bijeenkomst ook uitgezonden worden via ons virtuele 
 vergaderlokaal: https://wij.hcc.nl/3D-Delft\nPas op: Bijeenkomst dit keer 
 niet de 3e donderdag\, maar de 4e donderdag in mei. https://hcc.nl/agenda/
 evenement/1150-kennismaken-met-cura-hybride-bijeenkomst
DTSTART:20230525T173000Z
DTEND:20230525T200000Z
LOCATION:Buurthuis Het Voorhof  (Herman Gorterhof 165\, 2624 XL Delft)
SUMMARY:Kennismaken met Cura - hybride bijeenkomst
URL:https://hcc.nl/agenda/evenement/1150-kennismaken-met-cura-hybride-bijee
 nkomst
END:VEVENT
BEGIN:VEVENT
UID:20260420T173840UTC-0428gkHDxL@https://hcc.nl/
DTSTAMP:20260420T173840Z
DESCRIPTION:Alle werkgroepen zijn aanwezig. De meesten verzorgen maandelijk
 s de presentatie.De Borduurgroep of misschien liever de werkgroep Creatiev
 e Werkvormen bezet elke week zelfs een aparte zaal. https://hcc.nl/agenda/
 evenement/1156-inloop-voor-alle-werkgroepen
DTSTART:20230525T170000Z
DTEND:20230525T203000Z
LOCATION:NewTechPark (Vlijtseweg 148\, 7317 AK Apeldoorn)
SUMMARY:Inloop voor alle werkgroepen
URL:https://hcc.nl/agenda/evenement/1156-inloop-voor-alle-werkgroepen
END:VEVENT
BEGIN:VEVENT
UID:20260420T173840UTC-0428rfh72U@https://hcc.nl/
DTSTAMP:20260420T173840Z
DESCRIPTION:Je bent elke dinsdag- en donderdagavond welkom in onze locatie 
 NewTechPark\nDe dinsdag is voor de makers\, 3D-ontwerpen\, scannen e print
 en\, vaak zijn dat ook liefhebbers van robotica\, drones en programmeren.A
 ls je dinsdagavond tussen 19.00 en 20.00 uur inlogt met Jitsi\, kun je ken
 nismaken met hcc!3D. Soms kun je desgevraagd ook online meedoen met een ac
 tiviteit.\nDat kan dan op: https://wij.hcc.nl/3D (Alleen toegang als je zi
 chtbaar bent met voor- en achternaam. ) https://hcc.nl/agenda/evenement/11
 99-bijeenkomst-hcc-3d
DTSTART:20230530T170000Z
DTEND:20230530T193000Z
LOCATION:NewTechPark (Vlijtseweg 148\, 7317 AK Apeldoorn)
SUMMARY:Bijeenkomst HCC!3d
URL:https://hcc.nl/agenda/evenement/1199-bijeenkomst-hcc-3d
END:VEVENT
END:VCALENDAR
