BEGIN:VCALENDAR
VERSION:2.0
PRODID:-//https://hcc.nl///NONSGML kigkonsult.se iCalcreator 2.10.15//
METHOD:PUBLISH
BEGIN:VEVENT
UID:20260421T080250UTC-9739JgvBH7@https://hcc.nl/
DTSTAMP:20260421T080250Z
DESCRIPTION:Op 9 mei 2026 organiseren we van 10:00 tot 15:00 uur weer een C
 ompUfair op de vertrouwde plek:\nH.F. Witte CentrumHenri Dunantplein 4\, 3
 731 CL De Bilt\nHeel wat CompUsers platforms en HCC! intereressegroepen zu
 llen weer acte de présence geven. Zij geven demonstraties en presentaties\
 , en je kunt bij hen terecht voor al je vragen.\nNu al kunnen wij u vertel
 len dat er op 9 mei er een voordracht door de politie wordt gehouden van 1
 0.15 tot 12.00 over digitale veiligheid https://hcc.nl/agenda/evenement/98
 56-compufair
DTSTART:20260509T080000Z
DTEND:20260509T130000Z
LOCATION:Cultureel en Vergadercentrum H.F. Witte (Henri Dunantplein 4\, 373
 1 CL De Bilt)
SUMMARY:CompUfair
URL:https://hcc.nl/agenda/evenement/9856-compufair
END:VEVENT
BEGIN:VEVENT
UID:20260421T080250UTC-9740fakxub@https://hcc.nl/
DTSTAMP:20260421T080250Z
DESCRIPTION:De HCC!trainsim organiseert maandelijks een bijeenkomst voor le
 den van de HCC in De Meern. Introducés zijn ook welkom.\nDe zaal is open v
 an 10.00 tot 16.00 uur.\nHet programma voor deze dag is nog niet helemaal 
 bekend en zal ongeveer een week voor de clubdag op onze website en in onze
  nieuwsbrief bekend worden gemaakt.\n  https://hcc.nl/agenda/evenement/986
 8-clubdag
DTSTART:20260509T080000Z
DTEND:20260509T140000Z
LOCATION:Cultureel Centrum De Schalm (Oranjelaan 10\, 3454 BT De Meern)
SUMMARY:Clubdag 
URL:https://hcc.nl/agenda/evenement/9868-clubdag
END:VEVENT
BEGIN:VEVENT
UID:20260421T080250UTC-97413IrpRo@https://hcc.nl/
DTSTAMP:20260421T080250Z
DESCRIPTION:Presentatie en inloop https://hcc.nl/agenda/evenement/9978-pres
 entatie-en-inloop
DTSTART:20260511T173000Z
DTEND:20260511T200000Z
LOCATION:Dorpshuis Fort Vreeswijk (Fort Vreeswijk 1\, 3433 ZZ Nieuwegein)
SUMMARY:Presentatie en inloop
URL:https://hcc.nl/agenda/evenement/9978-presentatie-en-inloop
END:VEVENT
BEGIN:VEVENT
UID:20260421T080250UTC-9742aFBiAt@https://hcc.nl/
DTSTAMP:20260421T080250Z
DESCRIPTION:Afwijkende datum i.v.m. Dodenherdenking \nHan Bleyenberg\, advi
 seur van HCC!genealogie\, is aanwezig en helpt u bij uw stamboomonderzoek.
 \nVoor meer info klik hier https://hcc.nl/agenda/evenement/10033-bijeenkom
 st
DTSTART:20260511T173000Z
DTEND:20260511T200000Z
LOCATION:De Burgerij Campus de Ruyter  (Van Hogendorpweg 58\, 4384 HA Vliss
 ingen)
SUMMARY:Bijeenkomst 
URL:https://hcc.nl/agenda/evenement/10033-bijeenkomst
END:VEVENT
BEGIN:VEVENT
UID:20260421T080250UTC-9742rvg7ga@https://hcc.nl/
DTSTAMP:20260421T080250Z
DESCRIPTION:Digitale hulp bij computer\, tablet en smartphone problemen htt
 ps://hcc.nl/agenda/evenement/10069-inloop-digitale-hulp
DTSTART:20260507T123000Z
DTEND:20260507T150000Z
LOCATION:De Schans (Troelstradreef 160\, 5237 DE 's-Hertogenbosch)
SUMMARY:Inloop Digitale hulp
URL:https://hcc.nl/agenda/evenement/10069-inloop-digitale-hulp
END:VEVENT
BEGIN:VEVENT
UID:20260421T080250UTC-9743OmPUmr@https://hcc.nl/
DTSTAMP:20260421T080250Z
DESCRIPTION:Digitale hulp bij computer\, tablet en smartphone problemen htt
 ps://hcc.nl/agenda/evenement/10091-inloop-digitale-hulp
DTSTART:20260512T123000Z
DTEND:20260512T150000Z
LOCATION:Activiteitencentrum Orka  (Broekakkerseweg 1\, 5641 PC Eindhoven)
SUMMARY:Inloop Digitale hulp
URL:https://hcc.nl/agenda/evenement/10091-inloop-digitale-hulp
END:VEVENT
BEGIN:VEVENT
UID:20260421T080250UTC-9743HxgM6R@https://hcc.nl/
DTSTAMP:20260421T080250Z
DESCRIPTION:Inloop voor al je vragen over Apple producten... https://hcc.nl
 /agenda/evenement/10159-inloop
DTSTART:20260512T173000Z
DTEND:20260512T200000Z
LOCATION:Dorpshuis Fort Vreeswijk (Fort Vreeswijk 1\, 3433 ZZ Nieuwegein)
SUMMARY:Inloop
URL:https://hcc.nl/agenda/evenement/10159-inloop
END:VEVENT
BEGIN:VEVENT
UID:20260421T080250UTC-9743brFrAr@https://hcc.nl/
DTSTAMP:20260421T080250Z
DESCRIPTION:Op deze avond hebben we Clubbijeenkomst van HCC!midden-brabant.
 \nHet is inloop en al onze werkgroepen zijn aanwezig voor uw problemen\, v
 ragen of zo maar een gezellig praatje.\nOok op deze avond is er weer genoe
 g te beleven bij HCC! Midden-Brabant.\nEn natuurlijk staat de koffie weer 
 klaar.\nJe bent van harte welkom. https://hcc.nl/agenda/evenement/10180-cl
 ubbijeenkomst
DTSTART:20260512T180000Z
DTEND:20260512T201500Z
LOCATION:De Goede Herder (Isidorusstraat 6\, 5042 JJ Tilburg)
SUMMARY:Clubbijeenkomst
URL:https://hcc.nl/agenda/evenement/10180-clubbijeenkomst
END:VEVENT
BEGIN:VEVENT
UID:20260421T080250UTC-97444N1bTw@https://hcc.nl/
DTSTAMP:20260421T080250Z
DESCRIPTION:Inloop voor al je vragen over Apple producten... https://hcc.nl
 /agenda/evenement/10219-inloop
DTSTART:20260511T173000Z
DTEND:20260511T200000Z
LOCATION:Dorpshuis Fort Vreeswijk (Fort Vreeswijk 1\, 3433 ZZ Nieuwegein)
SUMMARY:Inloop
URL:https://hcc.nl/agenda/evenement/10219-inloop
END:VEVENT
BEGIN:VEVENT
UID:20260421T080250UTC-9744k1KZBC@https://hcc.nl/
DTSTAMP:20260421T080250Z
DESCRIPTION:Update 1-4-2026 van het programma voor 9 mei:\nGistelliszaal:\n
 10:30 - 12:00 uur Lezing Energiecontracten door Anton Doornenbal12:30 - 13
 :30 Lunch voor de HCC vrijwilligers14:00 - 16:00 Presentatie Digitale Veil
 igheid en Criminaliteit door Sybren v/d Velden -Walda \nMaelstedezaal:\n10
 :30 - 12:00 Presentatie Digitale Nalatenschap door Sander van der Meer.13:
 30 - 15:30  Linux Presentatie door Cees Heij https://hcc.nl/agenda/eveneme
 nt/10338-hcc-regiodag
DTSTART:20260509T080000Z
DTEND:20260509T140000Z
LOCATION:De Vroone (C D Vereekestraat 74\, 4421 CE Kapelle)
SUMMARY:HCC!regiodag 
URL:https://hcc.nl/agenda/evenement/10338-hcc-regiodag
END:VEVENT
BEGIN:VEVENT
UID:20260421T080250UTC-9744VSJUf7@https://hcc.nl/
DTSTAMP:20260421T080250Z
DESCRIPTION:1. IntroWat gebeurt er eigenlijk op het moment dat je je comput
 er aanzet?BIOS en UEFI zijn de systemen die je pc helpen opstarten.2. Wat 
 is BIOS?BIOS staat voor Basic Input/Output System.Het bestaat al sinds de 
 jaren ’80.Het draait in 16‑bit modus en heeft een eenvoudige\, tekstgebase
 erde interface.Beperkingen:\nKan alleen met schijven tot 2 TB overweg (MBR
 ‑partitieschema).Langzamer opstartproces.Minder beveiligingsopties.3. Wat 
 is UEFI?UEFI staat voor Unified Extensible Firmware Interface.De moderne o
 pvolger van BIOS.Draait in 32‑ of 64‑bit modus en ondersteunt grafische me
 nu’s.Voordelen:\nOndersteunt grote schijven (GPT‑partitieschema).Snellere 
 opstart.Secure Boot voor betere beveiliging.Mogelijkheid om drivers en app
 s in de firmware te laden.4. De belangrijkste verschillenOnderdeelBIOSUEFI
 InterfaceTekstGrafischSchijfformaatMBRGPTSchijfgroottemax 2 TBpraktisch on
 beperktOpstarttijdLangzamerSnellerBeveiligingBasisSecure Boot\, meer optie
 s 5. Wat gebruiken moderne pc’s?Vrijwel alle nieuwe systemen gebruiken UEF
 I.BIOS wordt alleen nog gebruikt voor compatibiliteit.6. ConclusieBIOS was
  de standaard\, maar UEFI is sneller\, veiliger en toekomstbestendig.Daaro
 m draait bijna elke moderne computer op UEFI. Als dit script precies is wa
 t je zoekt\, dan maak ik er meteen een video van. Wil je dat ik:\neen rust
 ige voice‑over gebruik\,een energieke stijl\,of een neutrale\, educatieve 
 toon?\nNB: svp van te voren aanmelden via deze link https://hcc.nl/agenda/
 evenement/10530-uefi-en-bios
DTSTART:20260509T083000Z
DTEND:20260509T130000Z
LOCATION:Wijkcentrum De Wieken (Wipmolenweg 54\, 1333 GS Almere)
SUMMARY:Uefi en Bios
URL:https://hcc.nl/agenda/evenement/10530-uefi-en-bios
END:VEVENT
BEGIN:VEVENT
UID:20260421T080250UTC-97454UpomJ@https://hcc.nl/
DTSTAMP:20260421T080250Z
DESCRIPTION: \nHemelvaartsdag 2026\n  https://hcc.nl/agenda/evenement/10550
 -hemelvaartsdag
DTSTART:20260513T070000Z
DTEND:20260513T213000Z
LOCATION:Online ()
SUMMARY:Hemelvaartsdag
URL:https://hcc.nl/agenda/evenement/10550-hemelvaartsdag
END:VEVENT
BEGIN:VEVENT
UID:20260421T080250UTC-974541IFv3@https://hcc.nl/
DTSTAMP:20260421T080250Z
DESCRIPTION:Welkom bij deze introductie in de fascinerende wereld van Artif
 iciële Intelligentie (Ai)!Misschien klinkt Ai ingewikkeld of als iets uit 
 sciencefictionfilms\, maar niets is minder waar. Aiis al een integraal ond
 erdeel van ons dagelijks leven en biedt talloze mogelijkheden om taken tev
 ereenvoudigen\, tijd te besparen en zelfs onze creativiteit te stimuleren.
 Deze syllabus dient als een naslagwerk bij de presentatie 'Ai voor Jou & M
 ij: Slimmer\, Sneller\,Simpeler!' en biedt een diepere duik in de onderwer
 pen die we bespreken\, inclusief praktischevoorbeelden en tips om zelf aan
  de slag te gaan.\nNB. Geïnspireerd door het artikel in PC-Active\, is bij
  de samenstelling van de syllabus en depresentatie gebruikgemaakt van plaa
 tjes en tekstsuggesties gegenereerd door Copilot enGemini.\nPresentator: H
 enk Geesink https://hcc.nl/agenda/evenement/10563-ai-voor-jou-mij---een-pr
 aktische-gids
DTSTART:20260507T080000Z
DTEND:20260507T100000Z
LOCATION:Kruiskerk (Mesdagplein 4\, 3443 CD Woerden)
SUMMARY:Ai voor Jou & Mij – Een Praktische Gids
URL:https://hcc.nl/agenda/evenement/10563-ai-voor-jou-mij---een-praktische-
 gids
END:VEVENT
BEGIN:VEVENT
UID:20260421T080250UTC-97461RCOu7@https://hcc.nl/
DTSTAMP:20260421T080250Z
DESCRIPTION:Jos Holtkuile\, adviseur van HCC!genealogie\, is aanwezig en he
 lpt u bij uw stamboomonderzoek. https://hcc.nl/agenda/evenement/10580-bije
 enkomst
DTSTART:20260507T183000Z
DTEND:20260507T210000Z
LOCATION:NewTechPark (Vlijtseweg 148\, 7317 AK Apeldoorn)
SUMMARY:Bijeenkomst 
URL:https://hcc.nl/agenda/evenement/10580-bijeenkomst
END:VEVENT
BEGIN:VEVENT
UID:20260421T080250UTC-97462Pe6MT@https://hcc.nl/
DTSTAMP:20260421T080250Z
DESCRIPTION:Jos Holtkuile\, adviseur van HCC!genealogie\, is aanwezig en he
 lpt u bij uw stamboomonderzoek.\nVoor meer info klik hier https://hcc.nl/a
 genda/evenement/10601-bijeenkomst
DTSTART:20260507T173000Z
DTEND:20260507T200000Z
LOCATION:NewTechPark (Vlijtseweg 148\, 7317 AK Apeldoorn)
SUMMARY:Bijeenkomst 
URL:https://hcc.nl/agenda/evenement/10601-bijeenkomst
END:VEVENT
BEGIN:VEVENT
UID:20260421T080250UTC-9747NWcVW6@https://hcc.nl/
DTSTAMP:20260421T080250Z
DESCRIPTION:Presentaties over onderwerpen waar de computer nauw bij betrokk
 en is dan wel die de computer zelf betreffen https://hcc.nl/agenda/eveneme
 nt/10611-presentatie-computergerelateerde-onderwerpen
DTSTART:20260512T080000Z
DTEND:20260512T100000Z
LOCATION:Activiteitencentrum Orka  (Broekakkerseweg 1\, 5641 PC Eindhoven)
SUMMARY:Presentatie computergerelateerde onderwerpen
URL:https://hcc.nl/agenda/evenement/10611-presentatie-computergerelateerde-
 onderwerpen
END:VEVENT
BEGIN:VEVENT
UID:20260421T080250UTC-9747TvbJsV@https://hcc.nl/
DTSTAMP:20260421T080250Z
DESCRIPTION:Programma volgt https://hcc.nl/agenda/evenement/10656-regiobije
 enkomst
DTSTART:20260508T173000Z
DTEND:20260508T200000Z
LOCATION:Gemeenschapshuis 't Trefpunt (Pancratiusstraat 23\, 6151 CD Munste
 rgeleen)
SUMMARY:Regiobijeenkomst
URL:https://hcc.nl/agenda/evenement/10656-regiobijeenkomst
END:VEVENT
BEGIN:VEVENT
UID:20260421T080250UTC-9747OFgv2t@https://hcc.nl/
DTSTAMP:20260421T080250Z
DESCRIPTION: Els Schnijder\, adviseur van HCC!genealogie\, is aanwezig en h
 elpt u bij uw stamboomonderzoek.\nVoor meer info klik hier. https://hcc.nl
 /agenda/evenement/10669-bijeenkomst
DTSTART:20260513T173000Z
DTEND:20260513T200000Z
LOCATION:De Meent  (Orion 3\, 1188 AM Amstelveen)
SUMMARY:Bijeenkomst
URL:https://hcc.nl/agenda/evenement/10669-bijeenkomst
END:VEVENT
BEGIN:VEVENT
UID:20260421T080250UTC-9748l4eW8c@https://hcc.nl/
DTSTAMP:20260421T080250Z
DESCRIPTION:Hierbij nodigen wij je van harte uit om je vòòr 22 april 2026 i
 n te schrijven voor de workshop Linux van de HCC!seniorenacademie afdeling
  Nijmegen op dinsdag 12 mei 2026.\n\ntijd: 14:00 -16:00 uur• locatie: wijk
 centrum Hatert\, Couwenbergstraat 22\, Nijmegen• presentatie: Jacques Kobu
 ssen\n\n\nlet op: maximaal 15 deelnemers \; • let op: beperkt aantal deeln
 emers geef je snel op vol=vol\n\n\nWorkshop: Stap over op Linux Mint\nLinu
 x Mint is hét gebruiksvriendelijke alternatief voor Windows. Het is snel\,
  veilig en draait uitstekend op oudere laptops. Tijdens deze workshop inst
 alleren we samen een schone versie van Linux Mint.\n\nWaarom kiezen voor L
 inux Mint?\n\nPrivacy & Veiligheid: Geen verplichte accounts of activatie 
 nodig.• Gratis software: Alle programma's en updates zijn kosteloos.• Lage
  systeemeisen: Werkt soepel op hardware waar Windows 10 of 11 moeite mee h
 eeft.• Herkenbaar: De interface lijkt sterk op Windows\, wat de overstap m
 akkelijk maakt.• Ondersteuning: Gratis aansluiten bij de HCC!Linux interes
 segroep en uitgebreide informatie op het internet.\n\nBelangrijk ter voorb
 ereiding\n\nHardware: Neem een oudere laptop mee die je niet actief meer g
 ebruikt. Zorg voor een volle accu én vergeet de stroomadapter niet mee te 
 nemen.• Back-up: De installatie wist de gehele schijf! Zorg dat al je docu
 menten en foto's veilig op een externe schijf of in de Cloud staan.• Kenni
 s: Zoek vooraf uit hoe je in de BIOS of het opstartmenu van je laptop komt
 . Controleer ook of je laptop UEFI ondersteunt.• Versies: We kiezen uit Ci
 nnamon\, Mate\, Xfce of de lichte versie LMDE 7 voor oudere apparaten.• US
 B-stick: wij zorgen voor een USB-stick met de noodzakelijke Linux distribu
 ties en documenten\n\nLet op: Installatie geschiedt volledig op eigen risi
 co.\nAanmelden\n\nwanneer: vanaf nu tot 21 april 2026• bij wie: Jacques Ko
 bussen: jh.kobussen@hccnet.nl• aantal deelnemers: maximaal 15 beperkt aant
 al deelnemers: geef je snel op vol=vol \n\nhartelijke groet\,Rob Haarmanco
 ördinator HCC!seniorenacademie afdeling Nijmegen https://hcc.nl/agenda/eve
 nement/10670-workshop-linux-mint-installatie-nb-aanmelden-voor-22-april
DTSTART:20260512T120000Z
DTEND:20260512T140000Z
LOCATION:Wijkcentrum Hatert (Couwenbergstraat 22\, 6535 RZ Nijmegen)
SUMMARY:Workshop Linux Mint installatie nb: aanmelden voor 22 april
URL:https://hcc.nl/agenda/evenement/10670-workshop-linux-mint-installatie-n
 b-aanmelden-voor-22-april
END:VEVENT
BEGIN:VEVENT
UID:20260421T080250UTC-9749aeufW6@https://hcc.nl/
DTSTAMP:20260421T080250Z
DESCRIPTION:Welkom bij deze introductie in de fascinerende wereld van Artif
 iciële Intelligentie (Ai)!Misschien klinkt Ai ingewikkeld of als iets uit 
 sciencefictionfilms\, maar niets is minder waar.Ai is al een integraal ond
 erdeel van ons dagelijks leven en biedt talloze mogelijkheden om taken te 
 vereenvoudigen\, tijd te besparen en zelfs onze creativiteit te stimuleren
 .Hoor meer van onze presentator Hans Niessen.\nNB svp van te voren aanmeld
 en via deze link https://hcc.nl/agenda/evenement/10677-ai-voor-jou-mij-sli
 mmer-sneller-simpeler
DTSTART:20260507T113000Z
DTEND:20260507T130000Z
LOCATION:Online ()
SUMMARY:AI voor jou & mij: slimmer\, sneller\, simpeler
URL:https://hcc.nl/agenda/evenement/10677-ai-voor-jou-mij-slimmer-sneller-s
 impeler
END:VEVENT
BEGIN:VEVENT
UID:20260421T080250UTC-9749I9OsJE@https://hcc.nl/
DTSTAMP:20260421T080250Z
DESCRIPTION:Verdere info volgt. Verzamelpunt: Station Heerlen https://hcc.n
 l/agenda/evenement/10678-fotowandeling-heerlen
DTSTART:20260512T080000Z
DTEND:20260512T130000Z
LOCATION:Station Heerlen (Spoorplein 11\, 6411 NZ Heerlen)
SUMMARY:Fotowandeling Heerlen
URL:https://hcc.nl/agenda/evenement/10678-fotowandeling-heerlen
END:VEVENT
BEGIN:VEVENT
UID:20260421T080250UTC-9750sCmFVj@https://hcc.nl/
DTSTAMP:20260421T080250Z
DESCRIPTION:Gebouw Kop van Zuid (ingang Oost begane grond) te EmmenBoermark
 eweg 467824 AA Emmen\nTijdens onze maandelijkse bijeenkomst in Kop van Zui
 d worden er diverse onderwerpen die ter tafel komen besproken.\nAls een va
 n onze leden een leuk onderwerp heeft\, wordt daar alle tijd voor gemaakt.
   https://hcc.nl/agenda/evenement/10709-fysieke-bijeenkomst-in-kop-van-zui
 d-in-emmen
DTSTART:20260512T120000Z
DTEND:20260512T140000Z
LOCATION:Wijkcentrum Angerslo (kop van zuid) (Boermarkeweg 46\, 7824 AA Emm
 en)
SUMMARY:Fysieke bijeenkomst in Kop van Zuid in Emmen
URL:https://hcc.nl/agenda/evenement/10709-fysieke-bijeenkomst-in-kop-van-zu
 id-in-emmen
END:VEVENT
BEGIN:VEVENT
UID:20260421T080250UTC-9750FA3juj@https://hcc.nl/
DTSTAMP:20260421T080250Z
DESCRIPTION:Grote zaal\, BG.\nWij hebben de ‘Cinnamon’ versie van ‘Linux Mi
 nt' op oude Windows PC’s en laptops geïnstalleerd. Daar is sinds kort ook 
 een moderne barebone PC bij gekomen. We zijn deze met meerdere Linux distr
 ibuties aan het configureren. En al dit staat klaar om door jou aan de tan
 d gevoeld te worden. Ze blijken het uitstekend te doen\, op alle fronten.
 \nInstalleren en werken met Linux Mint is in de praktijk niet heel veel an
 ders dan met werken op een Windows PC. Je went er snel aan en is prima te 
 doen.\nBij vragen of moeilijkheden helpen wij je graag. Hulp is ook altijd
  dichtbij op HCC Linux interessegroep\nAls je vindt dat ‘jouw oudere maar 
 prima werkende computer vervangen moeten worden omdat ie ongeschikt is voo
 r Windows 11’ dan is dat prima en heb je Linux misschien niet nodig. Doe j
 e liever iets anders met je geld dan laten wij graag dit alternatief zien.
 \nMét Linux ervaring ben je trouwens ook welkom\, we leren graag van je en
  van elkaar. https://hcc.nl/agenda/evenement/10713-linux-mint-werkgroep
DTSTART:20260513T180000Z
DTEND:20260513T203000Z
LOCATION:De Meent  (Orion 3\, 1188 AM Amstelveen)
SUMMARY:Linux Mint werkgroep
URL:https://hcc.nl/agenda/evenement/10713-linux-mint-werkgroep
END:VEVENT
BEGIN:VEVENT
UID:20260421T080250UTC-97516KwdBU@https://hcc.nl/
DTSTAMP:20260421T080250Z
DESCRIPTION:De Meent & onlineOrion 31188 AM Amstelveen\nZaal 1. \nDe enthou
 siaste 3D printing werkgroep leden hebben het over hun activiteiten\, spec
 ifieke problemen en de vaak slimme of handige oplossingen naast ideeën en 
 wensen. Op deze avonden worden IoT onderwerpen van de vorige maand niet ge
 schuwd. \nAls 3D printing jou interesseert\, dan kom je naar de Meent. Heb
  je interesse maar ben je (nog) geen HCC lid? Niet erg\, ook dan ben je we
 lkom!\nLet op: eerst even registreren in de Grote Zaal BG en dan naar de b
 ijeenkomst in zaal 1 op de 1e etage. https://hcc.nl/agenda/evenement/10714
 -3d-printing-werkgroep-fysiek-en-online
DTSTART:20260513T180000Z
DTEND:20260513T203000Z
LOCATION:De Meent  (Orion 3\, 1188 AM Amstelveen)
SUMMARY:3D Printing werkgroep - fysiek en online
URL:https://hcc.nl/agenda/evenement/10714-3d-printing-werkgroep-fysiek-en-o
 nline
END:VEVENT
BEGIN:VEVENT
UID:20260421T080250UTC-9751M57ISL@https://hcc.nl/
DTSTAMP:20260421T080250Z
DESCRIPTION:Grote Zaal\, BG. \nBezoekers kunnen met elkaar van gedachten wi
 sselen over computeronderwerpen en aanverwante zaken waar zij mee bezig zi
 jn. Natuurlijk ben je welkom met vragen over- of problemen met computers\,
  tablets\, mobieltjes en andere hardware en software. Vaak kunnen we probl
 emen ter plaatse oplossen of helpen je op weg.\nEr is internet toegang aan
 wezig en je mag je PC/laptop/tablet meenemen.Ook vind je er een rijkelijk 
 gevulde leestafel met de nieuwste computerbladen. https://hcc.nl/agenda/ev
 enement/10715-algemene-bijeenkomst
DTSTART:20260513T180000Z
DTEND:20260513T203000Z
LOCATION:De Meent  (Orion 3\, 1188 AM Amstelveen)
SUMMARY:Algemene Bijeenkomst
URL:https://hcc.nl/agenda/evenement/10715-algemene-bijeenkomst
END:VEVENT
BEGIN:VEVENT
UID:20260421T080250UTC-9752m2NVjv@https://hcc.nl/
DTSTAMP:20260421T080250Z
DESCRIPTION:De energiemarkt is de afgelopen jaren flink veranderd. Waar vro
 eger bijna iedereen automatisch bij dezelfde leverancier zat\, kun je tege
 nwoordig zelf kiezen uit verschillende aanbieders en contractvormen. Dat k
 linkt als vrijheid\, maar maakt het kiezen soms ook best lastig.\nGa je vo
 or zekerheid met een vast contract? Of kies je juist flexibiliteit met een
  variabel of dynamisch contract? En wat betekenen die keuzes eigenlijk voo
 r je maandelijkse kosten en risico’s?\nMet zonnepanelen\, warmtepomp\, thu
 isbatterij of (toekomstige) laadpaal wordt het helemaal een oerwoud.\nIn d
 eze presentatie nemen we de verschillende soorten energiecontracten stap v
 oor stap door. We leggen uit wat de verschillen zijn\, wat de voor- en nad
 elen zijn\, en waar je op moet letten bij het maken van een keuze. Zo krij
 g je meer grip op je energiekosten en kun je een contract kiezen dat past 
 bij jouw situatie.\nPresentator is Anton Doornenbal\nInloop vanaf 09.00 uu
 r\nStart presentatie 09.30 uur. https://hcc.nl/agenda/evenement/10720-pres
 entatie-over-de-verschillende-energiecontracten
DTSTART:20260504T073000Z
DTEND:20260516T093000Z
LOCATION:HCC Leiderdorp (Van der Marckstraat 19\, 2352 RA Leiderdorp)
SUMMARY:Presentatie over de verschillende energiecontracten
URL:https://hcc.nl/agenda/evenement/10720-presentatie-over-de-verschillende
 -energiecontracten
END:VEVENT
BEGIN:VEVENT
UID:20260421T080250UTC-9753PCmWia@https://hcc.nl/
DTSTAMP:20260421T080250Z
DESCRIPTION:Introductie en Basisbegrippen\nWelkom bij deze introductie in d
 e fascinerende wereld van Artificiële Intelligentie (Ai)!Misschien klinkt 
 Ai ingewikkeld of als iets uit sciencefictionfilms\, maar niets is minder 
 waar. Ai is al een integraal onderdeel van ons dagelijks leven en biedt ta
 lloze mogelijkheden om taken te vereenvoudigen\, tijd te besparen en zelfs
  onze creativiteit te stimuleren.\nDe syllabus dient als een naslagwerk bi
 j de presentatie 'Ai voor Jou & Mij: Slimmer\, Sneller\,Simpeler!' en bied
 t een diepere duik in de onderwerpen die we bespreken\, inclusief praktisc
 he voorbeelden en tips om zelf aan de slag te gaan. https://hcc.nl/agenda/
 evenement/10741-ai-voor-jou-mij---een-praktische-gids
DTSTART:20260513T110000Z
DTEND:20260513T140000Z
LOCATION:Buurthuis Het Voorhof  (Herman Gorterhof 165\, 2624 XL Delft)
SUMMARY:Ai voor Jou & Mij – Een Praktische Gids
URL:https://hcc.nl/agenda/evenement/10741-ai-voor-jou-mij---een-praktische-
 gids
END:VEVENT
BEGIN:VEVENT
UID:20260421T080250UTC-9754UHHVS6@https://hcc.nl/
DTSTAMP:20260421T080250Z
DESCRIPTION:Introductie en Basisbegrippen\nWelkom bij deze introductie in d
 e fascinerende wereld van Artificiële Intelligentie (Ai)!Misschien klinkt 
 Ai ingewikkeld of als iets uit sciencefictionfilms\, maar niets is minder 
 waar. Ai is al een integraal onderdeel van ons dagelijks leven en biedt ta
 lloze mogelijkheden om taken te vereenvoudigen\, tijd te besparen en zelfs
  onze creativiteit te stimuleren.\nDe syllabus dient als een naslagwerk bi
 j de presentatie 'Ai voor Jou & Mij: Slimmer\, Sneller\,Simpeler!' en bied
 t een diepere duik in de onderwerpen die we bespreken\, inclusief praktisc
 he voorbeelden en tips om zelf aan de slag te gaan. https://hcc.nl/agenda/
 evenement/10745-ai-voor-jou-mij---een-praktische-gids
DTSTART:20260512T080000Z
DTEND:20260512T100000Z
LOCATION:Activiteitencentrum Orka  (Broekakkerseweg 1\, 5641 PC Eindhoven)
SUMMARY:Ai voor Jou & Mij – Een Praktische Gids
URL:https://hcc.nl/agenda/evenement/10745-ai-voor-jou-mij---een-praktische-
 gids
END:VEVENT
END:VCALENDAR
