BEGIN:VCALENDAR
VERSION:2.0
PRODID:-//https://hcc.nl///NONSGML kigkonsult.se iCalcreator 2.10.15//
METHOD:PUBLISH
BEGIN:VEVENT
UID:20260421T061918UTC-8063C6sZZn@https://hcc.nl/
DTSTAMP:20260421T061918Z
DESCRIPTION: \nWe houden weer een online bijeenkomst over Liberty BASIC.\nA
 anmelden is niet nodig\, zie de voorpagina voor meer informatie. https://h
 cc.nl/agenda/evenement/562-online-liberty-basic-sessie
DTSTART:20230503T180000Z
DTEND:20230503T200000Z
LOCATION: ()
SUMMARY:Online Liberty BASIC sessie
URL:https://hcc.nl/agenda/evenement/562-online-liberty-basic-sessie
END:VEVENT
BEGIN:VEVENT
UID:20260421T061918UTC-8064CUVUdg@https://hcc.nl/
DTSTAMP:20260421T061918Z
DESCRIPTION:Onze inloop is bedoeld voor iedereen die praktische hulp en ond
 ersteuning nodig heeft bij het gebruik van uw digitale apparatuur\, zoals 
 desktop\, laptop\, tablet en smartphone.\nTe denken valt aan:\n\nopschonen
  van uw computer \nupdates downloaden \napps installeren \naccounts aanmak
 en op uw apparaten (breng dan wel uw gegevens mee) \ne-mail problemen \nin
 stellingen aanpassen. \n\nOnze deskundigen zitten klaar om u met raad en d
 aad terzijde te staan.\nVoor meer info over IDO\, volg deze link:Informati
 epunt Digitale Overheid\n  https://hcc.nl/agenda/evenement/572-inloop-digi
 tale-hulp
DTSTART:20230503T080000Z
DTEND:20230503T100000Z
LOCATION:Bibliotheek Gorinchem (Groenmarkt 1\, 4201 EE Gorinchem)
SUMMARY:Inloop: Digitale hulp
URL:https://hcc.nl/agenda/evenement/572-inloop-digitale-hulp
END:VEVENT
BEGIN:VEVENT
UID:20260421T061918UTC-80654kaIVR@https://hcc.nl/
DTSTAMP:20260421T061918Z
DESCRIPTION:Onze inloop is bedoeld voor iedereen die praktische hulp en ond
 ersteuning nodig heeft bij het gebruik van uw digitale apparatuur\, zoals 
 desktop\, laptop\, tablet en smartphone.\nTe denken valt aan:• opschonen v
 an uw computer• updates downloaden• apps installeren• accounts aanmaken op
  uw apparaten(breng dan wel uw gegevens mee)• e-mail problemen.• instellin
 gen aanpassenOnze deskundigen zitten klaar om u met raad en daad terzijde 
 te staan.\n  https://hcc.nl/agenda/evenement/574-inloop-digitale-hulp
DTSTART:20230503T173000Z
DTEND:20230503T193000Z
LOCATION:Wijkcentrum De Akkers (Lenteakker 5\, 3206 TB Spijkenisse)
SUMMARY:Inloop Digitale Hulp
URL:https://hcc.nl/agenda/evenement/574-inloop-digitale-hulp
END:VEVENT
BEGIN:VEVENT
UID:20260421T061918UTC-80654VNuvU@https://hcc.nl/
DTSTAMP:20260421T061918Z
DESCRIPTION:Onze inloop is bedoeld voor iedereen die praktische hulp en ond
 ersteuning nodig heeft bij het gebruik van uw digitale apparatuur\, zoals 
 desktop\, laptop\, tablet en smartphone.\nTe denken valt aan:• opschonen v
 an uw computer• updates downloaden• apps installeren• accounts aanmaken op
  uw apparaten(breng dan wel uw gegevens mee)• e-mail problemen.• instellin
 gen aanpassen\nOnze deskundigen zitten klaar om u met raad en daad terzijd
 e te staan.\n https://hcc.nl/agenda/evenement/576-inloop-digitale-hulp
DTSTART:20230504T073000Z
DTEND:20230504T093000Z
LOCATION:Wijkcentrum Rozenobel (Dukatenplein 2\, 4205 GE Gorinchem)
SUMMARY:Inloop Digitale Hulp
URL:https://hcc.nl/agenda/evenement/576-inloop-digitale-hulp
END:VEVENT
BEGIN:VEVENT
UID:20260421T061918UTC-8066MXaZ9U@https://hcc.nl/
DTSTAMP:20260421T061918Z
DESCRIPTION:Contact m.treurniet@hccnet.nl\nIn deze lezing bespreken we een 
 aantal apps (programma’s) en online diensten waarvan je in het dagelijks g
 ebruik veel gemak en plezier van kunt hebben. Een aantal van de apps zijn 
 alleen beschikbaar onder Windows\, de app To Do van Microsoft is beschikba
 ar voor Windows en IOS (Apple). De online diensten zijn via de browser bes
 chikbaar op alle platformen. We bespreken: Microsoft Foto’s\, To Do\, de R
 ekenmachine\, Sumatra pdf lezer\, WeTransfer\, BerekenHet\, Convertworld\,
  Google Translate en Google Maps. De gekozen onderwerpen zijn een keuze va
 n de schrijver. Afhankelijk van de interesses van de gebruiker zijn er uit
 eraard veel meer handige apps en diensten beschikbaar.\nIn 2023 hebben wij
  weer meerdere interessante onderwerpen op de agenda staan. Kijk ook regel
 matig op onze website www.seniorenacademie.hcc.nl. \n  https://hcc.nl/agen
 da/evenement/594-handige-apps-diensten
DTSTART:20230503T113000Z
DTEND:20230503T133000Z
LOCATION:Het Kernhuis (Parkrand 60\, 6714 GN Ede)
SUMMARY:Handige apps/diensten
URL:https://hcc.nl/agenda/evenement/594-handige-apps-diensten
END:VEVENT
BEGIN:VEVENT
UID:20260421T061918UTC-80678i9UIe@https://hcc.nl/
DTSTAMP:20260421T061918Z
DESCRIPTION:Contact c.heij@kader.hcc.nl\nIn deze lezing bespreken we een aa
 ntal apps (programma’s) en online diensten waarvan je in het dagelijks geb
 ruik veel gemak en plezier van kunt hebben. Een aantal van de apps zijn al
 leen beschikbaar onder Windows\, de app To Do van Microsoft is beschikbaar
  voor Windows en IOS (Apple). De online diensten zijn via de browser besch
 ikbaar op alle platformen. We bespreken: Microsoft Foto’s\, To Do\, de Rek
 enmachine\, Sumatra pdf lezer\, WeTransfer\, BerekenHet\, Convertworld\, G
 oogle Translate en Google Maps. De gekozen onderwerpen zijn een keuze van 
 de schrijver. Afhankelijk van de interesses van de gebruiker zijn er uiter
 aard veel meer handige apps en diensten beschikbaar.\nIn 2023 hebben wij w
 eer meerdere interessante onderwerpen op de agenda staan. Kijk ook regelma
 tig op onze website www.seniorenacademie.hcc.nl. \n  https://hcc.nl/agenda
 /evenement/596-handige-apps-diensten
DTSTART:20230503T120000Z
DTEND:20230503T140000Z
LOCATION:De Schans (Troelstradreef 160\, 5237 DE 's-Hertogenbosch)
SUMMARY:Handige Apps/Diensten
URL:https://hcc.nl/agenda/evenement/596-handige-apps-diensten
END:VEVENT
BEGIN:VEVENT
UID:20260421T061918UTC-8067kKwd97@https://hcc.nl/
DTSTAMP:20260421T061918Z
DESCRIPTION: \nContact njvbrenk-HCCSR@hccnet.nl\nIn deze lezing bespreken w
 e een aantal apps (programma’s) en online diensten waarvan je in het dagel
 ijks gebruik veel gemak en plezier van kunt hebben. Een aantal van de apps
  zijn alleen beschikbaar onder Windows\, de app To Do van Microsoft is bes
 chikbaar voor Windows en IOS (Apple). De online diensten zijn via de brows
 er beschikbaar op alle platformen. We bespreken: Microsoft Foto’s\, To Do\
 , de Rekenmachine\, Sumatra pdf lezer\, WeTransfer\, BerekenHet\, Convertw
 orld\, Google Translate en Google Maps. De gekozen onderwerpen zijn een ke
 uze van de schrijver. Afhankelijk van de interesses van de gebruiker zijn 
 er uiteraard veel meer handige apps en diensten beschikbaar.\nIn 2023 hebb
 en wij weer meerdere interessante onderwerpen op de agenda staan. Kijk ook
  regelmatig op onze website www.seniorenacademie.hcc.nl. \n  https://hcc.n
 l/agenda/evenement/598-handige-apps-en-diensten
DTSTART:20230504T080000Z
DTEND:20230504T100000Z
LOCATION:Kruiskerk (Mesdagplein 4\, 3443 CD Woerden)
SUMMARY:Handige apps en diensten
URL:https://hcc.nl/agenda/evenement/598-handige-apps-en-diensten
END:VEVENT
BEGIN:VEVENT
UID:20260421T061918UTC-8068L2GOLo@https://hcc.nl/
DTSTAMP:20260421T061918Z
DESCRIPTION: \nOnze inloop is bedoeld voor iedereen die praktische hulp en 
 ondersteuning nodig heeft bij het gebruik van uw digitale apparatuur\, zoa
 ls desktop\, laptop\, tablet en smartphone.Onze deskundigen zitten klaar o
 m u met raad en daad terzijde te staan.\n  https://hcc.nl/agenda/evenement
 /600-digitale-inloop
DTSTART:20230504T113000Z
DTEND:20230504T140000Z
LOCATION:De Schans (Troelstradreef 160\, 5237 DE 's-Hertogenbosch)
SUMMARY:Digitale Inloop
URL:https://hcc.nl/agenda/evenement/600-digitale-inloop
END:VEVENT
BEGIN:VEVENT
UID:20260421T061918UTC-8068CWgi00@https://hcc.nl/
DTSTAMP:20260421T061918Z
DESCRIPTION:PROXMOX door HanProxmox is een open-source platform voor het be
 heren van virtualisatie-omgevingen. Het biedt een oplossing voor het creër
 en en beheren van virtuele machines en containers op één fysieke host.Met 
 Proxmox kun je:1. Virtualisatie van besturingssystemen uitvoeren: Het is m
 ogelijk om verschillende besturingssystemen te virtualiseren\, zoals Linux
  en Windows. Dit stelt je in staat om meerdere virtuele machines (VM's) te
  creëren en te beheren op één fysieke host.2. Containerisatie van applicat
 ies: Proxmox biedt ook de mogelijkheid om applicaties te containeriseren. 
 Dit zorgt voor efficiënter gebruik van systeembronnen\, omdat meerdere con
 tainers kunnen draaien op één fysieke host.3. Beheer van virtuele machines
 : Proxmox biedt een webgebaseerde gebruikersinterface voor het beheer van 
 virtuele machines. Met de interface kun je virtuele machines maken\, start
 en\, stoppen\, pauzeren en verwijderen.4. Live migratie: Met Proxmox is he
 t mogelijk om virtuele machines live te migreren van de ene fysieke host n
 aar de andere zonder dat de VM uitgeschakeld hoeft te worden.5. Clustering
 : Proxmox ondersteunt clustering\, wat het mogelijk maakt om meerdere fysi
 eke hosts te combineren tot één virtuele omgeving. Hierdoor kunnen virtuel
 e machines en containers tussen verschillende fysieke hosts worden verplaa
 tst en beheerd.Kortom\, Proxmox is een krachtig platform voor het beheren 
 van virtualisatie- en containerisatie-omgevingen\, waardoor het efficiënte
 r en gemakkelijker wordt om meerdere besturingssystemen en applicaties te 
 draaien op één fysieke host.De presentatie is tot de Lunch 12:30 daarna ga
 an we Windows. Linux en Homeassistant op Proxmox installeren dan kan je me
 t alles tegelijkertijd werken.Wil je dat ook neem een extra pc mee die je 
 misschien niet meer gebruikt stop er een hoop geheugen in en gaan.Voor 2 E
 uro hebben wij eenOm de opgedane kennis te bewaren._______________________
 _________________En in de bar ruimte hebben we een gezellig samenzijn. Waa
 rbij je kan laten zien waar je mee bezig bent.• Hard- en Software Helpdesk
  (begeleid repareren)• Multi Media Helpdesk• Netwerk aansluitingen bedraad
  en draadloos• Foto-\, video- en muziekbewerking van 10.00 – 13.00 uur____
 ____________________________________Innerlijke verzorgingAan de bar zijn k
 offie\, thee\, tosti's\, broodjes en frisdranken verkrijgbaar tegen een kl
 eine vergoeding.Heeft u nog apparatuur dat u wil schenken aan een ander\, 
 dan kunt u dit op de kringloop tafel leggen\, bv uw oude smartphone\, lapt
 op of desktop.Wilt u wat verkopen\, neem dan contact op met het bestuur.Ni
 et hcc-leden zijn ook welkom om een keer te komen kijken\; neem uw goede b
 uur mee. https://hcc.nl/agenda/evenement/606-presentatie-domotica
DTSTART:20230506T080000Z
DTEND:20230506T150000Z
LOCATION:Wijkcentrum 't Holleblok (Holleblok 2\, 1273 EG Huizen)
SUMMARY:Presentatie domotica
URL:https://hcc.nl/agenda/evenement/606-presentatie-domotica
END:VEVENT
BEGIN:VEVENT
UID:20260421T061918UTC-8070Zv9iou@https://hcc.nl/
DTSTAMP:20260421T061918Z
DESCRIPTION:Leren vliegen met de Flightsimulator. https://hcc.nl/agenda/eve
 nement/612-flightsimulator-vliegmiddag
DTSTART:20230506T080000Z
DTEND:20230506T143000Z
LOCATION: ()
SUMMARY:Flightsimulator vliegmiddag
URL:https://hcc.nl/agenda/evenement/612-flightsimulator-vliegmiddag
END:VEVENT
BEGIN:VEVENT
UID:20260421T061918UTC-8070HoE2rM@https://hcc.nl/
DTSTAMP:20260421T061918Z
DESCRIPTION:In deze lezing bespreken we een aantal apps (programma’s) en on
 line diensten waarvan je in het dagelijks gebruik veel gemak en plezier va
 n kunt hebben. Een aantal van de apps zijn alleen beschikbaar onder Window
 s\, de app To Do van Microsoft is beschikbaar voor Windows en IOS (Apple).
  De online diensten zijn via de browser beschikbaar op alle platformen. We
  bespreken: Microsoft Foto’s\, To Do\, de Rekenmachine\, Sumatra pdf lezer
 \, WeTransfer\, BerekenHet\, Convertworld\, Google Translate en Google Map
 s. De gekozen onderwerpen zijn een keuze van de schrijver. Afhankelijk van
  de interesses van de gebruiker zijn er uiteraard veel meer handige apps e
 n diensten beschikbaar. https://hcc.nl/agenda/evenement/616-handige-apps-e
 n-online-diensten
DTSTART:20230509T113000Z
DTEND:20230509T140000Z
LOCATION:Wijkgebouw Bijdorp (Bijdorplaan 471\, 2713 SZ Zoetermeer)
SUMMARY:Handige apps en online diensten
URL:https://hcc.nl/agenda/evenement/616-handige-apps-en-online-diensten
END:VEVENT
BEGIN:VEVENT
UID:20260421T061918UTC-8071z990nh@https://hcc.nl/
DTSTAMP:20260421T061918Z
DESCRIPTION:Alle werkgroepen zijn aanwezig. De meesten verzorgen maandelijk
 s de presentatieDe Borduurgroep of misschien liever de werkgroep Creatieve
  Werkvormen bezet elke week zelfs een aparte zaal. https://hcc.nl/agenda/e
 venement/618-inloop-voor-alle-werkgroepen
DTSTART:20230504T170000Z
DTEND:20230504T203000Z
LOCATION:NewTechPark (Vlijtseweg 148\, 7317 AK Apeldoorn)
SUMMARY:Inloop voor alle werkgroepen
URL:https://hcc.nl/agenda/evenement/618-inloop-voor-alle-werkgroepen
END:VEVENT
BEGIN:VEVENT
UID:20260421T061918UTC-8071iUXOxl@https://hcc.nl/
DTSTAMP:20260421T061918Z
DESCRIPTION:Voordat de grijze golf vakantiegangers op gang komt houden we n
 og één bijeenkomst van GENEALOGIE-APELDOORN\, op donderdag 4 mei a.s. in N
 ewTechPark (NTP).\nOp het programma staat de heer Arie van Herk\, voorzitt
 er van de Stichting Erfgoed Gezien. Hij zal ons laten zien wat die stichti
 ng betekent en waar die zich mee bezig houdt. U kunt eventueel al een kijk
 je nemen op hun website: https://www.immaterieelerfgoed.nl/.Mocht er tijd 
 over zijn\, dan kunt u nog met vragen\, ideeën of voorstellen komen voor h
 et nieuwe seizoen 2023/2024.\nEn om 20.00 uur zijn we natuurlijk twee minu
 ten stil in verband met dodenherdenking https://hcc.nl/agenda/evenement/62
 0-bijeenkomst-genealogie
DTSTART:20230504T173000Z
DTEND:20230504T195000Z
LOCATION:NewTechPark (Vlijtseweg 148\, 7317 AK Apeldoorn)
SUMMARY:Bijeenkomst Genealogie
URL:https://hcc.nl/agenda/evenement/620-bijeenkomst-genealogie
END:VEVENT
BEGIN:VEVENT
UID:20260421T061918UTC-8072KenuAf@https://hcc.nl/
DTSTAMP:20260421T061918Z
DESCRIPTION:Het hcc-steunpunt in Vaassen heeft een nieuwe locatie. Jasmijns
 traat 36\, 8171 APDe vrijwilligers helpen tijdens de clubdag onder andere 
 met het upgraden van de computer. Ook het inbouwen van (meegebrachte) hard
 ware is op de clubdag gratis.Tevens zijn er regelmatig demonstraties en pr
 esentaties.Voor het verhelpen van een computerprobleem dient men de kast e
 n de software mee te nemen naar de clubdag.U hoeft natuurlijk niet een com
 puterprobleem te hebben om gezellig langs te komen!Kom gezellig een bakje 
 koffie drinken en misschien kunt u zelf ook anderen helpen die met een com
 puterprobleem zitten. https://hcc.nl/agenda/evenement/622-inloop
DTSTART:20230506T080000Z
DTEND:20230506T120000Z
LOCATION: ()
SUMMARY:Inloop
URL:https://hcc.nl/agenda/evenement/622-inloop
END:VEVENT
BEGIN:VEVENT
UID:20260421T061918UTC-8072MVUgou@https://hcc.nl/
DTSTAMP:20260421T061918Z
DESCRIPTION:Je bent elke dinsdag- en donderdagavond welkom in onze locatie 
 NewTechPark\nDe dinsdag is voor de makers\, 3D-ontwerpen\, scannen e print
 en\, vaak zijn dat ook liefhebbers van robotica\, drones en programmeren.A
 ls je dinsdagavond tussen 19.00 en 20.00 uur inlogt met Jitsi\, kun je ken
 nismaken met hcc!3D. Soms kun je desgevraagd ook online meedoen met een ac
 tiviteit.\nDat kan dan op:   https://wij.hcc.nl/3D (Alleen toegang als je 
 zichtbaar bent met voor- en achternaam. ) https://hcc.nl/agenda/evenement/
 624-bijeenkomst-hcc-3d
DTSTART:20230509T170000Z
DTEND:20230509T190000Z
LOCATION:NewTechPark (Vlijtseweg 148\, 7317 AK Apeldoorn)
SUMMARY:Bijeenkomst HCC!3D
URL:https://hcc.nl/agenda/evenement/624-bijeenkomst-hcc-3d
END:VEVENT
BEGIN:VEVENT
UID:20260421T061918UTC-8073VmAbib@https://hcc.nl/
DTSTAMP:20260421T061918Z
DESCRIPTION:We proberen de inns en outs van 3D printen onder de knie te kri
 jgen\, zie contact. https://hcc.nl/agenda/evenement/626-3d-printen
DTSTART:20230506T180000Z
DTEND:20230506T200000Z
LOCATION:Wijkhuis de Westwijzer  (Cortenbachstraat 70\, 5707 TJ Helmond)
SUMMARY:3D printen
URL:https://hcc.nl/agenda/evenement/626-3d-printen
END:VEVENT
BEGIN:VEVENT
UID:20260421T061918UTC-8074U3U1Vs@https://hcc.nl/
DTSTAMP:20260421T061918Z
DESCRIPTION:We houden weer een online bijeenkomst over Games programmeren.
 \nAanmelden is niet nodig. Zie de voorpagina voor meer informatie. https:/
 /hcc.nl/agenda/evenement/628-games-programmeren-sessie
DTSTART:20230505T180000Z
DTEND:20230505T200000Z
LOCATION: ()
SUMMARY:Games programmeren sessie
URL:https://hcc.nl/agenda/evenement/628-games-programmeren-sessie
END:VEVENT
BEGIN:VEVENT
UID:20260421T061918UTC-8074cp0npW@https://hcc.nl/
DTSTAMP:20260421T061918Z
DESCRIPTION:We houden weer een online bijeenkomst over Pascal.\nAanmelden i
 s niet nodig\, zie de voorpagina voor meer informatie. https://hcc.nl/agen
 da/evenement/630-pascal-sessie
DTSTART:20230506T170000Z
DTEND:20230506T190000Z
LOCATION: ()
SUMMARY:Pascal sessie
URL:https://hcc.nl/agenda/evenement/630-pascal-sessie
END:VEVENT
BEGIN:VEVENT
UID:20260421T061918UTC-8074n20US0@https://hcc.nl/
DTSTAMP:20260421T061918Z
DESCRIPTION:We houden weer een online bijeenkomst over Visual Basic.\nAanme
 lden is niet nodig\, zie de voorpagina voor meer informatie. https://hcc.n
 l/agenda/evenement/632-visual-basic-sessie
DTSTART:20230508T180000Z
DTEND:20230508T200000Z
LOCATION: ()
SUMMARY:Visual Basic sessie
URL:https://hcc.nl/agenda/evenement/632-visual-basic-sessie
END:VEVENT
BEGIN:VEVENT
UID:20260421T061918UTC-8075aCcFnI@https://hcc.nl/
DTSTAMP:20260421T061918Z
DESCRIPTION:We houden weer een online algemene bijeenkomst.\nAanmelden is n
 iet nodig\, zie de voorpagina voor meer informatie. https://hcc.nl/agenda/
 evenement/634-algemene-sessie-programmeren
DTSTART:20230509T173000Z
DTEND:20230509T193000Z
LOCATION: ()
SUMMARY:Algemene sessie programmeren
URL:https://hcc.nl/agenda/evenement/634-algemene-sessie-programmeren
END:VEVENT
BEGIN:VEVENT
UID:20260421T061918UTC-8076furPLv@https://hcc.nl/
DTSTAMP:20260421T061918Z
DESCRIPTION:Onze inloop is bedoeld voor iedereen die praktische hulp en ond
 ersteuning nodig heeft bij het gebruik van uw digitale apparatuur\, zoals 
 desktop\, laptop\, tablet en smartphone.Te denken valt aan:\n\nopschonen v
 an uw computer \nupdates downloaden \napps installeren \naccounts aanmaken
  op uw apparaten (breng dan wel uw gegevens mee) \ne-mail problemen \ninst
 ellingen aanpassen. \n\nOnze deskundigen zitten klaar om u met raad en daa
 d terzijde te staan.\nVoor meer info over IDO\, volg deze link:Informatiep
 unt Digitale Overheid https://hcc.nl/agenda/evenement/644-inloop-digitale-
 hulp-ido
DTSTART:20230509T083000Z
DTEND:20230509T093000Z
LOCATION:Buurtkamer Stalkaarsen (Dokter Hiemstralaan 77\, 4205 KK Gorinchem
 )
SUMMARY:Inloop Digitale Hulp / IDO
URL:https://hcc.nl/agenda/evenement/644-inloop-digitale-hulp-ido
END:VEVENT
BEGIN:VEVENT
UID:20260421T061918UTC-8076oVsbJ3@https://hcc.nl/
DTSTAMP:20260421T061918Z
DESCRIPTION:Niet iedereen heeft 2 tv-toestellen in huis staan. Dus het zou 
 fijn zijn om zo nu en dan je pc als tv te kunnen inzetten. Dat kan sinds k
 ort met 'Android tv op je pc'.\nDe software is nog niet af\, zodat er hier
  en daar nog wat scherpe kantjes aan zitten.\nWe laten in de presentatie z
 ien wat de systeemeisen zijn en hoe je het kunt installeren en gebruiken.
 \nZaal open: 19.30 uur\nStart presentatie 20:00 uur\nPresentator is Ger St
 ok https://hcc.nl/agenda/evenement/776-android-tv-op-je-pc
DTSTART:20230508T173000Z
DTEND:20230508T200000Z
LOCATION:Huis van de Wijk Oostgaarde (De Linie 5\, 2905 AX Capelle aan den 
 IJssel)
SUMMARY:Android TV op je pc
URL:https://hcc.nl/agenda/evenement/776-android-tv-op-je-pc
END:VEVENT
BEGIN:VEVENT
UID:20260421T061918UTC-8077zwRBvR@https://hcc.nl/
DTSTAMP:20260421T061918Z
DESCRIPTION: https://hcc.nl/agenda/evenement/780-inloopbijeenkomst
DTSTART:20230506T110000Z
DTEND:20230506T150000Z
LOCATION:Olympiagebouw (Olympiaweg 17\, 1816 MJ Alkmaar)
SUMMARY:Inloopbijeenkomst
URL:https://hcc.nl/agenda/evenement/780-inloopbijeenkomst
END:VEVENT
BEGIN:VEVENT
UID:20260421T061918UTC-8077Skp7pG@https://hcc.nl/
DTSTAMP:20260421T061918Z
DESCRIPTION:Maandelijkse bijeenkomst in verenigingsgebouw De Dissel in Hoog
 landerveen nabij Hoevelaken.\nDe juiste plaatst om met elkaar te overlegge
 n over de robotica hobby.\nEen enthousiaste groep leden is er iedere maand
  met diverse robots en andere hardware aan de slag.\nEr wordt geoefend\, o
 verlegd en geknutseld.\nWil je meer weten van Robots\, wil je zelf aan de 
 slag kom dat langs.\nJe wordt met open armen ontvangen. https://hcc.nl/age
 nda/evenement/782-maandelijkse-bijeenkomst-hcc-robotica
DTSTART:20230506T080000Z
DTEND:20230506T140000Z
LOCATION:De Dissel  (Disselplein 8\, 3829 MD Hooglanderveen)
SUMMARY:Maandelijkse bijeenkomst HCC!robotica
URL:https://hcc.nl/agenda/evenement/782-maandelijkse-bijeenkomst-hcc-roboti
 ca
END:VEVENT
BEGIN:VEVENT
UID:20260421T061918UTC-8078DXTJJ2@https://hcc.nl/
DTSTAMP:20260421T061918Z
DESCRIPTION:Leren vliegen met de Flightsimulator. https://hcc.nl/agenda/eve
 nement/784-flightsim-vliegmiddag
DTSTART:20230506T080000Z
DTEND:20230506T143000Z
LOCATION:Wijkcentrum 't Slot (Kastelenplein 167\, 5653 LX Eindhoven)
SUMMARY:Flightsim vliegmiddag
URL:https://hcc.nl/agenda/evenement/784-flightsim-vliegmiddag
END:VEVENT
BEGIN:VEVENT
UID:20260421T061918UTC-8079EFCpUK@https://hcc.nl/
DTSTAMP:20260421T061918Z
DESCRIPTION:Problemen met computer\, laptop\, tablet of smartphone? Kom lan
 gs en wij kijken en helpen. https://hcc.nl/agenda/evenement/786-helpdesk
DTSTART:20230509T110000Z
DTEND:20230509T140000Z
LOCATION:Activiteitencentrum Orka  (Broekakkerseweg 1\, 5641 PC Eindhoven)
SUMMARY:Helpdesk
URL:https://hcc.nl/agenda/evenement/786-helpdesk
END:VEVENT
BEGIN:VEVENT
UID:20260421T061918UTC-8079Ca4jUW@https://hcc.nl/
DTSTAMP:20260421T061918Z
DESCRIPTION: https://hcc.nl/agenda/evenement/788-inloopbijeenkomst
DTSTART:20230504T120000Z
DTEND:20230504T140000Z
LOCATION:De Hoeksteen (kerk) (Velingspad 1\, 9502 RA Stadskanaal)
SUMMARY:Inloopbijeenkomst
URL:https://hcc.nl/agenda/evenement/788-inloopbijeenkomst
END:VEVENT
BEGIN:VEVENT
UID:20260421T061918UTC-8079NNRPH5@https://hcc.nl/
DTSTAMP:20260421T061918Z
DESCRIPTION:Deze maand uitzonderlijk op de tweede maandag van de maand bije
 enkomst in de Mechelse rand (Tisselt).\nHet programma:\n\ninstallatie en c
 onfiguratie van netwerk\, hard- en software\;\nUbuntu - Mint - Linux - Ope
 n Source steunpunt\;\ntablets\, smartphones\, Android\, iOS\;\neen vrijbli
 jvende babbel\;\nadvies van collega computergebruikers\;\nenkele actuele t
 ijdschriften ter inzage\;\ninternet\, bekabeld & draadloos netwerk\, ...\n
 \nElke geinteresseerde computergebruiker is welkom\, om de sfeer te proeve
 n\, om kennis te maken met onze leden en hun computerbezigheden\, om ervar
 ingen uit te wisselen\, om nieuwe dingen te ontdekken\, om een oplossing v
 oor hard- en softwareproblemen te vinden\, ... https://hcc.nl/agenda/evene
 ment/790-inloopbijeenkomst
DTSTART:20230508T180000Z
DTEND:20230508T210000Z
LOCATION:Fanfarelokaal Bingo (Blaasveldstraat  29 \, 2830 TI Tisselt)
SUMMARY:Inloopbijeenkomst
URL:https://hcc.nl/agenda/evenement/790-inloopbijeenkomst
END:VEVENT
BEGIN:VEVENT
UID:20260421T061918UTC-8080UOwtXF@https://hcc.nl/
DTSTAMP:20260421T061918Z
DESCRIPTION:Zoals gebruikelijk komen we op de 1e zaterdag van de maand weer
  bijeen in Hooglanderveen (vlakbij Amersfoort) om ideeën\, ervaringen\, ti
 ps\, en andere informatie uit te wisselen op het gebied van AI (= kunstmat
 ige intelligentie).\nEen belangrijk onderdeel is de 'plenaire sessie'\, ee
 n groepsgesprek waarin allerlei aspecten van AI aan de orde kunnen komen. 
 Deze staat gepland om 13:00 en zal\, als de techniek meewerkt\, ook online
  te volgen zijn via wij.hcc.nl.\nDe plenaire sessie begint met een 'invent
 arisatierondje' waarin iedereen één of meer onderwerpen kan aandragen\, wa
 arna de voorzitter bepaalt in welke volgorde deze aan de beurt komen. Voor
  (en soms ook na) de plenaire sessie is er gelegenheid voor een bezoekje a
 an de kantine\, een kijkje bij de Robotica interessegroep\, informele gesp
 rekken in kleinere groepjes\, en/of zelfwerkzaamheid.\nWilt u geregeld van
  tevoren een herinnering aan onze bijeenkomsten ontvangen\, dan kunt U zic
 h (via het menu-item 'HCC' bovenaan) aanmelden voor de HCC-AI nieuwsbrief 
 (per e-mail). https://hcc.nl/agenda/evenement/792-bijeenkomst-interessegro
 ep-ai
DTSTART:20230506T090000Z
DTEND:20230506T140000Z
LOCATION:De Dissel  (Disselplein 8\, 3829 MD Hooglanderveen)
SUMMARY:Bijeenkomst Interessegroep AI
URL:https://hcc.nl/agenda/evenement/792-bijeenkomst-interessegroep-ai
END:VEVENT
BEGIN:VEVENT
UID:20260421T061918UTC-8081A97Vdu@https://hcc.nl/
DTSTAMP:20260421T061918Z
DESCRIPTION:Elke maand wordt op de tweede dinsdag van de maand een lezing v
 erzorgd met wisselende onderwerpen. Voor meer informatie: abonneer u op de
  nieuwsbrief van de regio zuidoost-Brabant en de Seniorenacademie Eindhove
 n. https://hcc.nl/agenda/evenement/794-presentatie-seniorenacademie
DTSTART:20230509T080000Z
DTEND:20230509T100000Z
LOCATION:Activiteitencentrum Orka  (Broekakkerseweg 1\, 5641 PC Eindhoven)
SUMMARY:Presentatie Seniorenacademie
URL:https://hcc.nl/agenda/evenement/794-presentatie-seniorenacademie
END:VEVENT
BEGIN:VEVENT
UID:20260421T061918UTC-8082F2uZEn@https://hcc.nl/
DTSTAMP:20260421T061918Z
DESCRIPTION:Heeft u een vraag over of een probleem met uw Android apparaat?
  Onze deskundigen zitten klaar om u te helpen.\n\nInstellingen aanpassen\n
 Downloaden van Apps\nUpdaten van Apps\nInstellen van e-mail\n\nEn nog veel
  meer! https://hcc.nl/agenda/evenement/796-inloop-android-hulp
DTSTART:20230508T180000Z
DTEND:20230508T200000Z
LOCATION:Huis van de Wijk Oostgaarde (De Linie 5\, 2905 AX Capelle aan den 
 IJssel)
SUMMARY:Inloop Android hulp
URL:https://hcc.nl/agenda/evenement/796-inloop-android-hulp
END:VEVENT
BEGIN:VEVENT
UID:20260421T061918UTC-80823IurXx@https://hcc.nl/
DTSTAMP:20260421T061918Z
DESCRIPTION:Niet iedereen heeft 2 tv-toestellen in huis staan. Dus het zou 
 fijn zijn om zo nu en dan je pc als tv te kunnen inzetten. Dat kan sinds k
 ort met 'Android tv op je pc'.\nDe software is nog niet af\, zodat er hier
  en daar nog wat scherpe kantjes aan zitten.\nWe laten in de presentatie z
 ien wat de systeemeisen zijn en hoe je het kunt installeren en gebruiken.
 \nZaal open: 13.00 uur\nStart presentatie 13.30 uur\nPresentator is Ger St
 ok https://hcc.nl/agenda/evenement/914-android-tv-op-je-pc
DTSTART:20230509T110000Z
DTEND:20230509T140000Z
LOCATION:Speeltuin Pascal (Pascalweg 12\, 3076 JP Rotterdam)
SUMMARY:Android TV op je pc
URL:https://hcc.nl/agenda/evenement/914-android-tv-op-je-pc
END:VEVENT
END:VCALENDAR
