BEGIN:VCALENDAR
VERSION:2.0
PRODID:-//https://hcc.nl///NONSGML kigkonsult.se iCalcreator 2.10.15//
METHOD:PUBLISH
BEGIN:VEVENT
UID:20260423T232804UTC-1408objsMM@https://hcc.nl/
DTSTAMP:20260423T232804Z
DESCRIPTION:Onze inloop is bedoeld voor iedereen die praktische hulp en ond
 ersteuning nodig heeft bij het gebruik van uw digitale apparatuur\, zoals 
 desktop\, laptop\, tablet en smartphone.Te denken valt aan:• opschonen van
  uw computer• updates downloaden• apps installeren• accounts aanmaken op u
 w apparaten(breng dan wel uw gegevens mee)• e-mail problemen.• instellinge
 n aanpassenOnze deskundigen zitten klaar om u met raad en daad terzijde te
  staan. https://hcc.nl/agenda/evenement/1303-inloop-digitale-hulp
DTSTART:20240430T080000Z
DTEND:20240430T100000Z
LOCATION:Bibliotheek Hardinxveld-Giessendam (Pietersweer 34\, 3371 PN Hardi
 nxveld-Giessendam)
SUMMARY:Inloop digitale hulp
URL:https://hcc.nl/agenda/evenement/1303-inloop-digitale-hulp
END:VEVENT
BEGIN:VEVENT
UID:20260423T232804UTC-1410wRv6SK@https://hcc.nl/
DTSTAMP:20260423T232804Z
DESCRIPTION:Onze inloop is bedoeld voor iedereen die praktische hulp en ond
 ersteuning nodig heeft bij het gebruik van uw digitale apparatuur\, zoals 
 desktop\, laptop\, tablet en smartphone.Te denken valt aan:• opschonen van
  uw computer• updates downloaden• apps installeren• accounts aanmaken op u
 w apparaten (breng dan wel uw gegevens mee)• e-mail problemen.• instelling
 en aanpassenOnze deskundigen zitten klaar om u met raad en daad terzijde t
 e staan. https://hcc.nl/agenda/evenement/2326-inloop-digitale-hulp
DTSTART:20240430T113000Z
DTEND:20240430T140000Z
LOCATION:Activiteitencentrum Orka  (Broekakkerseweg 1\, 5641 PC Eindhoven)
SUMMARY:Inloop digitale Hulp
URL:https://hcc.nl/agenda/evenement/2326-inloop-digitale-hulp
END:VEVENT
BEGIN:VEVENT
UID:20260423T232804UTC-1411mvRTZO@https://hcc.nl/
DTSTAMP:20260423T232804Z
DESCRIPTION:Onze inloop is bedoeld voor iedereen die praktische hulp en ond
 ersteuning nodig heeft bij het gebruik van uw tablet en smartphone.\nTe de
 nken valt aan:- apps installeren- accounts aanmaken op uw apparaten (breng
  dan uw inloggegevens mee)- E-mail problemen.- Instellingen aanpassen. Zow
 el voor Apple\, Android als Windows!\nOnze deskundigen zitten klaar om u m
 et raad en daad terzijde te staan. https://hcc.nl/agenda/evenement/2651-in
 loop-digitale-hulp
DTSTART:20240502T073000Z
DTEND:20240502T090000Z
LOCATION:Wijkcentrum Rozenobel (Dukatenplein 2\, 4205 GE Gorinchem)
SUMMARY:Inloop Digitale Hulp
URL:https://hcc.nl/agenda/evenement/2651-inloop-digitale-hulp
END:VEVENT
BEGIN:VEVENT
UID:20260423T232804UTC-1412sdEhLJ@https://hcc.nl/
DTSTAMP:20260423T232804Z
DESCRIPTION:Werkgroep Airliners1e donderdag van de maand\nvan: 19:30 tot 22
 :00 uurcoordinator  Ron Koningsronkonings@zeelandnet.nl https://hcc.nl/age
 nda/evenement/2850-flightsim-werkgroep-airliners
DTSTART:20240502T173000Z
DTEND:20240502T200000Z
LOCATION:'s-Heer Arendhuis (Torenring 46\, 4458 BC 's-Heer Arendskerke)
SUMMARY:Flightsim Werkgroep Airliners
URL:https://hcc.nl/agenda/evenement/2850-flightsim-werkgroep-airliners
END:VEVENT
BEGIN:VEVENT
UID:20260423T232804UTC-1413D0BVOp@https://hcc.nl/
DTSTAMP:20260423T232804Z
DESCRIPTION:Presentatie over een computergerelateerd onderwerp voor leden e
 n belangstellenden\, voorafgegaan door een ALV https://hcc.nl/agenda/evene
 ment/4033-maandelijkse-presentatie-met-alv
DTSTART:20240501T180000Z
DTEND:20240501T200000Z
LOCATION: ()
SUMMARY:Maandelijkse presentatie - met ALV
URL:https://hcc.nl/agenda/evenement/4033-maandelijkse-presentatie-met-alv
END:VEVENT
BEGIN:VEVENT
UID:20260423T232804UTC-1414mv8TpV@https://hcc.nl/
DTSTAMP:20260423T232804Z
DESCRIPTION:Met elkaar bespreken we de theorie en praktijk van het filmen h
 ttps://hcc.nl/agenda/evenement/4067-videobewerken
DTSTART:20240502T173000Z
DTEND:20240502T203000Z
LOCATION:Wijkhuis de Westwijzer  (Cortenbachstraat 70\, 5707 TJ Helmond)
SUMMARY:Videobewerken
URL:https://hcc.nl/agenda/evenement/4067-videobewerken
END:VEVENT
BEGIN:VEVENT
UID:20260423T232804UTC-1415JT3KNT@https://hcc.nl/
DTSTAMP:20260423T232804Z
DESCRIPTION:Heeft u een vraag over of een probleem met uw Android apparaat?
  Onze deskundigen zitten klaar om u te helpen.\n\nInstellingen aanpassen\n
 Downloaden van apps\nUpdaten van Apps\nInstellen van e-mail\nEn nog veel m
 eer!\n https://hcc.nl/agenda/evenement/4442-inloop-android-hulp
DTSTART:20240501T080000Z
DTEND:20240501T100000Z
LOCATION:Bibliotheek Gorinchem (Groenmarkt 1\, 4201 EE Gorinchem)
SUMMARY:Inloop Android hulp
URL:https://hcc.nl/agenda/evenement/4442-inloop-android-hulp
END:VEVENT
BEGIN:VEVENT
UID:20260423T232804UTC-14159C93UI@https://hcc.nl/
DTSTAMP:20260423T232804Z
DESCRIPTION:Het onderwerp deze avond is een lezing over Familysearch\, de w
 ebsite van de Mormonen. De dame die voor ons optreedt is mevrouw Yvonne Bo
 sch. Ze trad ook op op de landelijke bijeenkomst van HCC!genealogie in De 
 Bilt\, afgelopen januari.\nZe heeft een boeiend verhaal over alle ins en o
 uts van Familysearch middels een informatieve en enthousiaste diapresentat
 ie. De genealogische gegevens die de mormonen wereldwijd verzameld hebben 
 is van onschatbare waarde voor ons 'simpele internet-onderzoekers'. Kom na
 ar deze voordracht en doe je voordeel met de inhoud\, of kom met je specif
 ieke zoek-vragen.\nAanvang van de presentatie is 19.30u\; ergens een koffi
 epauze en sluiting uiterlijk 21.50u. Zie voor locatie de agenda's bij HCC-
  Apeldoorn en bij NGV afd. Apeldoorn. https://hcc.nl/agenda/evenement/4498
 -hcc-apeldoorn-genealogie
DTSTART:20240502T173000Z
DTEND:20240502T200000Z
LOCATION:NewTechPark (Vlijtseweg 148\, 7317 AK Apeldoorn)
SUMMARY:HCC!apeldoorn - Genealogie
URL:https://hcc.nl/agenda/evenement/4498-hcc-apeldoorn-genealogie
END:VEVENT
BEGIN:VEVENT
UID:20260423T232804UTC-1417exeepE@https://hcc.nl/
DTSTAMP:20260423T232804Z
DESCRIPTION:1 mei 2024Vakantiefoto’s maken\, bewerken en backuppen.Hoe kies
 t u het tijdstip\, standpunt\, focus\, achtergrond\, wel/niet flitsen\, de
  regel van derden.Met welke basisinstellingen kunt u foto’s te verbeteren?
 We bespreken 3 basisapps:WINDOWS: Foto's...   MAC: Voorvertoning en iPad\,
  iPhone en AndroidSnapseedHoe maakt en bewaart u een backup van uw foto’s?
 Na een stuk theorie ook even een stuk zelf doen.Neem een laptop mee of een
  iPad\, iPhone of Android met Snapseed mee. https://hcc.nl/agenda/evenemen
 t/4586-vakantiefotos-maken-en-bewerken
DTSTART:20240501T113000Z
DTEND:20240501T133000Z
LOCATION:Het Kernhuis (Parkrand 60\, 6714 GN Ede)
SUMMARY:Vakantiefoto's maken en bewerken
URL:https://hcc.nl/agenda/evenement/4586-vakantiefotos-maken-en-bewerken
END:VEVENT
BEGIN:VEVENT
UID:20260423T232804UTC-14179PE8Iw@https://hcc.nl/
DTSTAMP:20260423T232804Z
DESCRIPTION:Spraakherkenning in Windows -----------------------------------
 --------------------------------------------------------------------------
 ---\nEen van de oudste behoeften van de mens ivm de PC is om tegen de comp
 uter te kunnen praten. Geen gedoe met muis en toetsenbord\, maar gewoon pr
 aten tegen een computer die je dan nog verstaat ook. Maar kan dit nu ook e
 cht?\nIedereen heeft vast weleens de behoefte gehad eens flink tegen zijn 
 computer te schreeuwen. Maar het gekke is dat dit tegenwoordig niet alleen
  kan\, maar dat die computer het nog verstaat ook. Spraakherkenning is daa
 rbij de achterliggende techniek die maakt dat een computer (maar ook een s
 martphone\, andere slimme apparaten of zelfs de routeplanner in de auto --
 - We beperken ons hier echter tot Windows!) de menselijke stem verstaat en
  omzet in geschreven tekst of een uit te voeren actie. https://hcc.nl/agen
 da/evenement/4594-spraakherkenning-in-windows
DTSTART:20240430T113000Z
DTEND:20240430T140000Z
LOCATION:De Twee Marken  (Trompplein 5\, 3951 CR Maarn)
SUMMARY:Spraakherkenning in Windows
URL:https://hcc.nl/agenda/evenement/4594-spraakherkenning-in-windows
END:VEVENT
BEGIN:VEVENT
UID:20260423T232804UTC-1419K0at5m@https://hcc.nl/
DTSTAMP:20260423T232804Z
DESCRIPTION:Info volgt https://hcc.nl/agenda/evenement/4687-maak-een-leuk-f
 ilmpje
DTSTART:20240501T120000Z
DTEND:20240501T140000Z
LOCATION:De Schans (Troelstradreef 160\, 5237 DE 's-Hertogenbosch)
SUMMARY:Maak een leuk filmpje
URL:https://hcc.nl/agenda/evenement/4687-maak-een-leuk-filmpje
END:VEVENT
BEGIN:VEVENT
UID:20260423T232804UTC-1419LjJpAF@https://hcc.nl/
DTSTAMP:20260423T232804Z
DESCRIPTION:Onze inloop is bedoeld voor iedereen die praktische hulp en ond
 ersteuning nodig heeft bij het gebruik van uw digitale apparatuur\, zoals 
 desktop\, laptop\, tablet en smartphone.\nTe denken valt aan:\n-opschonen 
 van uw computer-updates downloaden-apps installeren-accounts aanmaken op u
 w apparaten(breng dan wel uw gegevens mee)-e-mail problemen.-instellingen 
 aanpassen\nOnze deskundigen zitten klaar om u met raad en daad terzijde te
  staan.\nDeze inloop is alleen toegankelijk voor leden van HCC en de FNV h
 ttps://hcc.nl/agenda/evenement/4705-inloop-digitale-hulp
DTSTART:20240426T110000Z
DTEND:20240426T140000Z
LOCATION:FNV Regionaal Vakbondshuis (Pegasusweg 200\, 3067 KX Rotterdam)
SUMMARY:Inloop Digitale Hulp
URL:https://hcc.nl/agenda/evenement/4705-inloop-digitale-hulp
END:VEVENT
BEGIN:VEVENT
UID:20260423T232804UTC-1420Mdgsku@https://hcc.nl/
DTSTAMP:20260423T232804Z
DESCRIPTION:Spraakherkenning in WindowsEen van de oudste behoeften van de P
 C is om tegen de computer te kunnen praten. Geen gedoe met muis en toetsen
 bord\, maar gewoon praten tegen een computer die je dan nog verstaat ook. 
 Maar kan dit nu ook echt?Iedereen heeft vast weleens de behoefte gehad een
 s flink tegen zijn computer te schreeuwen. Maar het gekke is dat dit tegen
 woordig niet alleen kan\, maar dat die computer het nog verstaat ook. Spra
 akherkenning is daarbij de achterliggende techniek die maakt dat een compu
 ter (maar ook een smartphone\, andere slimme apparaten of zelfs de routepl
 anner in de auto --- we beperken ons hier echter tot Windows!) de menselij
 ke stem verstaat en omzet in geschreven tekst of een uit te voeren actie. 
 https://hcc.nl/agenda/evenement/4713-spraakherkenning-in-windows
DTSTART:20240430T080000Z
DTEND:20240430T100000Z
LOCATION:MFC De Oase  (Ericaplein 1\, 6951 CP Dieren)
SUMMARY:Spraakherkenning in Windows
URL:https://hcc.nl/agenda/evenement/4713-spraakherkenning-in-windows
END:VEVENT
BEGIN:VEVENT
UID:20260423T232804UTC-1422LDZFvb@https://hcc.nl/
DTSTAMP:20260423T232804Z
DESCRIPTION:Op een werkgroep avond van de Open Source werkgroep helpen deel
 nemers elkaar met vraagstukken en problemen die voortvloeien uit het gebru
 ik van open source software.\nSoftware die meestal gratis legaal is te dow
 nloaden\, waarvan de broncode vrij beschikbaar is en bovendien meestal vri
 j gekopïeerd mag worden. Veel deelnemers nemen een computer of laptop mee 
 naar de bijeenkomst om het een en ander direct te kunnen uitproberen.\nOp 
 de werkgroep avond is een internet verbinding aanwezig\, zodat open source
  programma's\, updates en aanvullingen terplekke kunnen worden gedownload 
 en met de hulp van een andere deelnemer kunnen worden geïnstalleerd. https
 ://hcc.nl/agenda/evenement/4749-hcc-linux-nlb-open-source-werkgroep
DTSTART:20240430T180000Z
DTEND:20240430T203000Z
LOCATION:Zalencentrum De Witte Kerk (Agnes Huijnstraat 3\, 5914 PE Venlo)
SUMMARY:HCC!linux - NLB Open Source werkgroep
URL:https://hcc.nl/agenda/evenement/4749-hcc-linux-nlb-open-source-werkgroe
 p
END:VEVENT
BEGIN:VEVENT
UID:20260423T232804UTC-1423OXsPue@https://hcc.nl/
DTSTAMP:20260423T232804Z
DESCRIPTION:Alle werkgroepen zijn aanwezig. De meesten verzorgen maandelijk
 s de presentatie. De Borduurgroep of misschien liever de werkgroep Creatie
 ve Werkvormen bezet elke week zelfs een aparte zaal. https://hcc.nl/agenda
 /evenement/4789-hcc-apeldoorn-inloop-voor-alle-werkgroepen
DTSTART:20240502T180000Z
DTEND:20240502T200000Z
LOCATION:NewTechPark (Vlijtseweg 148\, 7317 AK Apeldoorn)
SUMMARY:HCC!apeldoorn - Inloop voor alle werkgroepen
URL:https://hcc.nl/agenda/evenement/4789-hcc-apeldoorn-inloop-voor-alle-wer
 kgroepen
END:VEVENT
BEGIN:VEVENT
UID:20260423T232804UTC-1424Cl78VW@https://hcc.nl/
DTSTAMP:20260423T232804Z
DESCRIPTION:Gebruik je Home Assistant voor het bekijken en besturen van je 
 automatisering thuis dan kan het leuk en interessant zijn om zelf sensoren
  te gaan bouwen. \nVoor het beste resultaat neem je een Windowslaptop en e
 en micro USB kabel mee zodat je direct aan de gang kan. Voor oefenmateriaa
 l wordt gezorgd. Wil je het oefensetje mee naar huis nemen dan kan dat voo
 r 10 euro. Meld je aan bij Erik Roukens\, dan zorgen we dat er genoeg oefe
 nsetjes aanwezig zijn.\nPresentatie Erik Roukens\nZaal open: 19.30 uur\nSt
 art workshop: 20.00 uur https://hcc.nl/agenda/evenement/4817-workshop-bouw
 -zelf-je-sensoren
DTSTART:20240429T173000Z
DTEND:20240429T200000Z
LOCATION:Huis van de Wijk Oostgaarde (De Linie 5\, 2905 AX Capelle aan den 
 IJssel)
SUMMARY:Workshop: Bouw zelf je sensoren
URL:https://hcc.nl/agenda/evenement/4817-workshop-bouw-zelf-je-sensoren
END:VEVENT
BEGIN:VEVENT
UID:20260423T232804UTC-1425xu0esm@https://hcc.nl/
DTSTAMP:20260423T232804Z
DESCRIPTION:Op dinsdagavond 30 april is er een gezamenlijke online bijeenko
 mst van HCC!apple en HCC!fotovideo. We laten je dan zien hoe je een bewege
 nde animatie kunt maken met het iPad programma Procreate Dreams.\nDe moois
 te animatie belonen we met een Apple Gift Card van 20 euro. Voor een kabou
 terpad zijn we op zoek naar een animatie van een kabouter met puntmuts\, b
 aard en knapzak die al lopend niet vooruit komt. De mooiste doorlopende ka
 bouter animatie die we bij het kabouterpad kunnen gebruiken wordt eveneens
  beloond met een Apple Gift Card van 20 euro.\nKlik hier om je aan te meld
 en. https://hcc.nl/agenda/evenement/4821-presentatie-procreate-dreams-met-
 animatie-wedstrijd
DTSTART:20240430T180000Z
DTEND:20240430T193000Z
LOCATION:Online ()
SUMMARY:Presentatie Procreate Dreams met animatie wedstrijd
URL:https://hcc.nl/agenda/evenement/4821-presentatie-procreate-dreams-met-a
 nimatie-wedstrijd
END:VEVENT
BEGIN:VEVENT
UID:20260423T232804UTC-1426Ze2lNU@https://hcc.nl/
DTSTAMP:20260423T232804Z
DESCRIPTION:We houden weer een online Visual Basic sessie.\nAanmelden is ni
 et nodig. Zie dit artikel voor meer informatie. https://hcc.nl/agenda/even
 ement/4833-hcc-programmeren-visual-basic-sessie
DTSTART:20240429T180000Z
DTEND:20240429T200000Z
LOCATION:Online ()
SUMMARY:HCC!programmeren - Visual Basic sessie
URL:https://hcc.nl/agenda/evenement/4833-hcc-programmeren-visual-basic-sess
 ie
END:VEVENT
BEGIN:VEVENT
UID:20260423T232804UTC-14272OJSHw@https://hcc.nl/
DTSTAMP:20260423T232804Z
DESCRIPTION:We houden weer een online Pascal sessie.\nAanmelden is niet nod
 ig. Zie dit artikel voor meer informatie. https://hcc.nl/agenda/evenement/
 4835-hcc-programmeren-pascal-sessie
DTSTART:20240427T170000Z
DTEND:20240427T200000Z
LOCATION:Online ()
SUMMARY:HCC!programmeren - Pascal sessie
URL:https://hcc.nl/agenda/evenement/4835-hcc-programmeren-pascal-sessie
END:VEVENT
BEGIN:VEVENT
UID:20260423T232804UTC-1428VbXeU2@https://hcc.nl/
DTSTAMP:20260423T232804Z
DESCRIPTION:We houden weer een online games programmeren sessie.\nAanmelden
  is niet nodig. Zie dit artikel voor meer informatie. https://hcc.nl/agend
 a/evenement/4837-hcc-programmeren-games-programmeren-sessie
DTSTART:20240426T180000Z
DTEND:20240426T200000Z
LOCATION:Online ()
SUMMARY:HCC!programmeren - Games programmeren sessie
URL:https://hcc.nl/agenda/evenement/4837-hcc-programmeren-games-programmere
 n-sessie
END:VEVENT
BEGIN:VEVENT
UID:20260423T232804UTC-1428cMwjs2@https://hcc.nl/
DTSTAMP:20260423T232804Z
DESCRIPTION:Onze inloop is bedoeld voor iedereen die praktische hulp en ond
 ersteuning nodig heeft bij het gebruik van uw digitale apparatuur\, zoals 
 desktop\, laptop\, tablet en smartphone.Te denken valt aan:opschonen van u
 w computerupdates downloadenapps installerenaccounts aanmaken op uw appara
 ten(breng dan wel uw gegevens mee)e-mail problemen.instellingen aanpassenO
 nze deskundigen zitten klaar om u met raad en daad terzijde te staan. http
 s://hcc.nl/agenda/evenement/4907-hcc-seniorenacademie-inloop-digitale-hulp
DTSTART:20240502T113000Z
DTEND:20240502T133000Z
LOCATION:De Schans (Troelstradreef 160\, 5237 DE 's-Hertogenbosch)
SUMMARY:HCC!seniorenacademie - Inloop Digitale Hulp.
URL:https://hcc.nl/agenda/evenement/4907-hcc-seniorenacademie-inloop-digita
 le-hulp
END:VEVENT
BEGIN:VEVENT
UID:20260423T232804UTC-1429cpAa2b@https://hcc.nl/
DTSTAMP:20260423T232804Z
DESCRIPTION:We houden weer een online Liberty Basic sessie.\nAanmelden is n
 iet nodig. Zie dit artikel voor meer informatie. https://hcc.nl/agenda/eve
 nement/4911-hcc-programmeren-liberty-basic-sessie
DTSTART:20240501T180000Z
DTEND:20240501T210000Z
LOCATION:Online ()
SUMMARY:HCC!programmeren - Liberty Basic sessie
URL:https://hcc.nl/agenda/evenement/4911-hcc-programmeren-liberty-basic-ses
 sie
END:VEVENT
BEGIN:VEVENT
UID:20260423T232804UTC-1430V8vTG0@https://hcc.nl/
DTSTAMP:20260423T232804Z
DESCRIPTION:We houden weer een online algemene sessie.\nAanmelden is niet n
 odig. Zie dit artikel voor meer informatie. https://hcc.nl/agenda/evenemen
 t/4913-hcc-programmeren-algemene-sessie
DTSTART:20240430T173000Z
DTEND:20240430T200000Z
LOCATION:Online ()
SUMMARY:HCC!programmeren - algemene sessie 
URL:https://hcc.nl/agenda/evenement/4913-hcc-programmeren-algemene-sessie
END:VEVENT
BEGIN:VEVENT
UID:20260423T232804UTC-1431UNaFmL@https://hcc.nl/
DTSTAMP:20260423T232804Z
DESCRIPTION:We houden weer een online Python sessie met de cursus voor begi
 nners.\nAanmelden is niet nodig. Zie dit artikel voor meer informatie. htt
 ps://hcc.nl/agenda/evenement/4943-hcc-programmeren-python-sessie
DTSTART:20240502T170000Z
DTEND:20240502T210000Z
LOCATION:Online ()
SUMMARY:HCC!programmeren - Python sessie
URL:https://hcc.nl/agenda/evenement/4943-hcc-programmeren-python-sessie
END:VEVENT
BEGIN:VEVENT
UID:20260423T232804UTC-1431co7Xwa@https://hcc.nl/
DTSTAMP:20260423T232804Z
DESCRIPTION:Heeft u een vraag over of een probleem met uw Android apparaat?
  Onze deskundigen zitten klaar om u te helpen.\n\nInstellingen aanpassen\n
 Downloaden van apps\nUpdaten van Apps\nInstellen van e-mail\nEn nog veel m
 eer!\n https://hcc.nl/agenda/evenement/4945-hcc-android-inloop-android-hul
 p
DTSTART:20240429T190000Z
DTEND:20240429T210000Z
LOCATION:Huis van de Wijk Oostgaarde (De Linie 5\, 2905 AX Capelle aan den 
 IJssel)
SUMMARY:HCC!android - Inloop Android hulp
URL:https://hcc.nl/agenda/evenement/4945-hcc-android-inloop-android-hulp
END:VEVENT
BEGIN:VEVENT
UID:20260423T232804UTC-1432Hmu9Na@https://hcc.nl/
DTSTAMP:20260423T232804Z
DESCRIPTION:De Liberty Basic programmeer werkgroep komt voor de eerste keer
  van deze maand online bijeen.De leden programmeren online en jij kan meed
 oen met Liberty BASIC programmeren. Het blijkt eenvoudig(er) dan andere BA
 SIC talen\, zegt men\, en het zou ook uitdagender zijn... Misschien vind j
 e het leuk om eens mee te kijken wat ze doen\, deze bijeenkomsten zijn ges
 chikt voor beginners- én gevorderden.\nOp elke 4e woensdagavond van de maa
 nden januari – juni en in september\, oktober en november\, komen de Liber
 ty BASIC leden ook fysiek bij elkaar in de Meent. Leuk om hier eens voor n
 aar Amstelveen te komen.\nDeze maand vindt die fysieke bijeenkomst plaats 
 op 22 mei.\nVoor meer informatie en instructies kijk je op https://program
 meren.hcc.nl/ of mail de coördinator: coördinator/docent  https://hcc.nl/a
 genda/evenement/4963-liberty-basic-werkgroep
DTSTART:20240501T180000Z
DTEND:20240501T203000Z
LOCATION:Online ()
SUMMARY:Liberty Basic werkgroep.
URL:https://hcc.nl/agenda/evenement/4963-liberty-basic-werkgroep
END:VEVENT
BEGIN:VEVENT
UID:20260423T232804UTC-1434j6UKzi@https://hcc.nl/
DTSTAMP:20260423T232804Z
DESCRIPTION:Onze inloop is bedoeld voor iedereen die praktische hulp en ond
 ersteuning nodig heeft bij het gebruik van uw digitale apparatuur\, zoals 
 desktop\, laptop\, tablet en smartphone.Te denken valt aan:opschonen van u
 w computerupdates downloadenapps installerenaccounts aanmaken op uw appara
 ten(breng dan wel uw gegevens mee)e-mail problemen.instellingen aanpassenO
 nze deskundigen zitten klaar om u met raad en daad terzijde te staan. http
 s://hcc.nl/agenda/evenement/4969-inloop-digitale-hulp
DTSTART:20240501T173000Z
DTEND:20240501T193000Z
LOCATION:Wijkcentrum De Akkers (Lenteakker 5\, 3206 TB Spijkenisse)
SUMMARY:Inloop Digitale Hulp
URL:https://hcc.nl/agenda/evenement/4969-inloop-digitale-hulp
END:VEVENT
BEGIN:VEVENT
UID:20260423T232804UTC-1435s8jvPv@https://hcc.nl/
DTSTAMP:20260423T232804Z
DESCRIPTION:Onze inloop is bedoeld voor iedereen die praktische hulp en ond
 ersteuning nodig heeft bij het gebruik van uw digitale apparatuur\, zoals 
 desktop\, laptop\, tablet en smartphone.Te denken valt aan:opschonen van u
 w computerupdates downloadenapps installerenaccounts aanmaken op uw appara
 ten(breng dan wel uw gegevens mee)e-mail problemen.instellingen aanpassenO
 nze deskundigen zitten klaar om u met raad en daad terzijde te staan. http
 s://hcc.nl/agenda/evenement/4971-inloop-digitale-hulp
DTSTART:20240502T113000Z
DTEND:20240502T153000Z
LOCATION:De Schans (Troelstradreef 160\, 5237 DE 's-Hertogenbosch)
SUMMARY:Inloop Digitale Hulp
URL:https://hcc.nl/agenda/evenement/4971-inloop-digitale-hulp
END:VEVENT
BEGIN:VEVENT
UID:20260423T232804UTC-1435Pl3lJR@https://hcc.nl/
DTSTAMP:20260423T232804Z
DESCRIPTION:Onze inloop is bedoeld voor iedereen die praktische hulp en ond
 ersteuning nodig heeft bij het gebruik van uw digitale apparatuur\, zoals 
 desktop\, laptop\, tablet en smartphone.Te denken valt aan:opschonen van u
 w computerupdates downloadenapps installerenaccounts aanmaken op uw appara
 ten(breng dan wel uw gegevens mee)e-mail problemen.instellingen aanpassenO
 nze deskundigen zitten klaar om u met raad en daad terzijde te staan. http
 s://hcc.nl/agenda/evenement/4977-inloop-digitale-hulp
DTSTART:20240502T073000Z
DTEND:20240502T093000Z
LOCATION:Wijkcentrum Rozenobel (Dukatenplein 2\, 4205 GE Gorinchem)
SUMMARY:Inloop Digitale Hulp
URL:https://hcc.nl/agenda/evenement/4977-inloop-digitale-hulp
END:VEVENT
BEGIN:VEVENT
UID:20260423T232804UTC-1436Fv6ooi@https://hcc.nl/
DTSTAMP:20260423T232804Z
DESCRIPTION:Onze inloop is bedoeld voor iedereen die praktische hulp en ond
 ersteuning nodig heeft bij het gebruik van uw digitale apparatuur\, zoals 
 desktop\, laptop\, tablet en smartphone.Te denken valt aan:opschonen van u
 w computerupdates downloadenapps installerenaccounts aanmaken op uw appara
 ten(breng dan wel uw gegevens mee)e-mail problemen.instellingen aanpassenO
 nze deskundigen zitten klaar om u met raad en daad terzijde te staan. http
 s://hcc.nl/agenda/evenement/4979-inloop-digitale-hulp
DTSTART:20240502T163000Z
DTEND:20240502T180000Z
LOCATION:Piazza-flat (Wijnkoperstraat 102\, 4204 HL Gorinchem)
SUMMARY:Inloop Digitale Hulp
URL:https://hcc.nl/agenda/evenement/4979-inloop-digitale-hulp
END:VEVENT
BEGIN:VEVENT
UID:20260423T232804UTC-1437va7VEl@https://hcc.nl/
DTSTAMP:20260423T232804Z
DESCRIPTION:Polarsteps is een website- en/of smartphone-app die u de mogeli
 jkheid biedt uw vakantie-belevenissen overzichtelijk en mooi gepresenteerd
  in een reisdagboek te zetten. Dit alles compleet met de foto’s die u gema
 akt heeft\; de teksten die u toevoegt en een kaart waarop de locaties staa
 n die u bezocht heeft en waarop via GPS bijgehouden wordt hoe u er gekomen
  bent.Polarsteps is zeer handig om een verslag te maken van een mooie reis
  of een weekendje weg. De app volgt automatisch uw route. U maakt zelf de 
 verschillende stappen aan en voegt daaraan tekst en foto’s toe. Zo krijgt 
 u een uitgebreid digitaal reisdagboek. https://hcc.nl/agenda/evenement/502
 8-polarsteps
DTSTART:20240502T080000Z
DTEND:20240502T100000Z
LOCATION:Kruiskerk (Mesdagplein 4\, 3443 CD Woerden)
SUMMARY:Polarsteps
URL:https://hcc.nl/agenda/evenement/5028-polarsteps
END:VEVENT
END:VCALENDAR
