BEGIN:VCALENDAR
VERSION:2.0
PRODID:-//https://hcc.nl///NONSGML kigkonsult.se iCalcreator 2.10.15//
METHOD:PUBLISH
BEGIN:VEVENT
UID:20260419T235204UTC-8072ZGl1US@https://hcc.nl/
DTSTAMP:20260419T235204Z
DESCRIPTION:  Heeft u een vraag over of een probleem met uw Android apparaa
 t? Onze deskundigen zitten klaar om u te helpen.\n\nInstellingen aanpassen
 \nDownloaden van Apps\nUpdaten van Apps\nInstellen van e-mail\n\nEn nog ve
 el meer!\n  https://hcc.nl/agenda/evenement/472-inloop-android-hulp
DTSTART:20230426T080000Z
DTEND:20230426T100000Z
LOCATION:Bibliotheek Gorinchem (Groenmarkt 1\, 4201 EE Gorinchem)
SUMMARY:Inloop Android hulp
URL:https://hcc.nl/agenda/evenement/472-inloop-android-hulp
END:VEVENT
BEGIN:VEVENT
UID:20260419T235204UTC-8073Lcv8KC@https://hcc.nl/
DTSTAMP:20260419T235204Z
DESCRIPTION:Algemene bijeenkomst\,  Grote zaal BG\,  20:00 - 22:30 uur:\nBe
 ste lezer\,\nBezoekers kunnen met elkaar van gedachten wisselen over compu
 teronderwerpen en aanverwante zaken waar zij mee bezig zijn.\nNatuurlijk b
 en je welkom met vragen over of problemen met computers\, tablets en ander
 e hard- en software.\nMeestal kunnen we problemen ter plaatse oplossen of 
 we helpen je op weg.\nEr is een internettoegang aanwezig en je mag je PC/l
 aptop/tablet meenemen.\nOnze leestafel is opnieuw rijkelijk gevuld met de 
 nieuwste computer- en ict-bladen. https://hcc.nl/agenda/evenement/482-bije
 enkomst
DTSTART:20230426T180000Z
DTEND:20230426T203000Z
LOCATION:De Meent  (Orion 3\, 1188 AM Amstelveen)
SUMMARY:Bijeenkomst
URL:https://hcc.nl/agenda/evenement/482-bijeenkomst
END:VEVENT
BEGIN:VEVENT
UID:20260419T235204UTC-8074nKolvK@https://hcc.nl/
DTSTAMP:20260419T235204Z
DESCRIPTION: \nGrote zaal BG\,  20:00 - 22:30 uur:\nBeste lezer\,\nOnze Lin
 ux Mint werkgroep is\, zoals je eerder hebt kunnen lezen\, gestart naar aa
 nleiding van de SeniorenInloop september 2022.\nDe werkgroep heeft op een 
 kleine al wat oudere PC de meest uitgebreide versie van Linux Mint 21 – de
  Cinnamon distributie geïnstalleerd.\nAls je wilt zien hoe soepel die oude
  pc werkt\, of eindelijk eens met Linux kennis wilt maken\, dan ben je (vr
 ijblijvend!) welkom. https://hcc.nl/agenda/evenement/484-linux-mint-werkgr
 oep
DTSTART:20230426T180000Z
DTEND:20230426T203000Z
LOCATION:De Meent  (Orion 3\, 1188 AM Amstelveen)
SUMMARY:Linux Mint werkgroep
URL:https://hcc.nl/agenda/evenement/484-linux-mint-werkgroep
END:VEVENT
BEGIN:VEVENT
UID:20260419T235204UTC-80755dtnvB@https://hcc.nl/
DTSTAMP:20260419T235204Z
DESCRIPTION:Zaal 8\,  20:00-22:30 uur\, de Meent & online: \nBeste lezer\,
 \nDe deelnemers praten over heel diverse Internet of Things dingen waarbij
  ze gerust ook verder praten\nover de 3D onderwerpen van 8 maart jl.\nKom 
 deze avond naar de Meent of kies voor online deelname. In dat geval stuur 
 je een mailtje met je HCC-lidnummer en IoT online op de onderwerpregel\, a
 an hccregio.amsterdam@gmail.com\nVoor fysieke deelname kom je gewoon naar 
 de Meent.\nGeïnteresseerd maar geen HCC! lid? Ook dan ben je welkom! https
 ://hcc.nl/agenda/evenement/486-iot-werkgroep
DTSTART:20230426T180000Z
DTEND:20230426T203000Z
LOCATION:De Meent  (Orion 3\, 1188 AM Amstelveen)
SUMMARY:IoT werkgroep
URL:https://hcc.nl/agenda/evenement/486-iot-werkgroep
END:VEVENT
BEGIN:VEVENT
UID:20260419T235204UTC-8076cc5UkV@https://hcc.nl/
DTSTAMP:20260419T235204Z
DESCRIPTION: \nWoensdag 26 april ons Koffie-uurtje HCC!Noord in 2023\n\nVoo
 r deelname aan het digitale koffie-uurtje HCC!Noord is de volgende URL aan
 gemaakt:https://wij.hcc.nl/hccnoord-koffieuurtje https://hcc.nl/agenda/eve
 nement/496-koffie-uurtje
DTSTART:20230426T180000Z
DTEND:20230426T190000Z
LOCATION: ()
SUMMARY:Koffie-uurtje
URL:https://hcc.nl/agenda/evenement/496-koffie-uurtje
END:VEVENT
BEGIN:VEVENT
UID:20260419T235204UTC-807775ZkZX@https://hcc.nl/
DTSTAMP:20260419T235204Z
DESCRIPTION:Steeds meer worden digitale media gebruikt voor mededelingen wa
 arvoor vroeger gewoon de post het normale kanaal was. Ook de (semi-) overh
 eid maakt steeds meer gebruik van websites en apps. Deze lezing geeft een 
 overzicht van de meest gebruikte digitale overheidscommunicatie. Daarnaast
  wordt ook door verzekeringsmaatschappijen en pensioenorganisaties gebruik
 gemaakt van het internet. Dit wordt niet besproken omdat het niet fundamen
 teel anders is dan bij de overheid.\nIn 2023 hebben wij weer meerdere inte
 ressante onderwerpen op de agenda staan. Kijk ook regelmatig op onze websi
 te www.seniorenacademie.hcc.nl. \n  https://hcc.nl/agenda/evenement/504-on
 ze-digitale-wereld
DTSTART:20230426T080000Z
DTEND:20230426T100000Z
LOCATION:Gemeenschapshuis De Kuip (Bloemendalsweg 1B\, 7429 AL Colmschate)
SUMMARY:Onze Digitale Wereld
URL:https://hcc.nl/agenda/evenement/504-onze-digitale-wereld
END:VEVENT
BEGIN:VEVENT
UID:20260419T235204UTC-8078dP9UMC@https://hcc.nl/
DTSTAMP:20260419T235204Z
DESCRIPTION: \nWe houden deze keer een bijeenkomst over Liberty BASIC in Am
 stelveen en online.\nAanmelden is niet nodig\, zie de voorpagina voor meer
  informatie.\n  https://hcc.nl/agenda/evenement/521-liberty-basic-bijeenko
 mst
DTSTART:20230426T180000Z
DTEND:20230426T200000Z
LOCATION:De Meent  (Orion 3\, 1188 AM Amstelveen)
SUMMARY:Liberty BASIC bijeenkomst
URL:https://hcc.nl/agenda/evenement/521-liberty-basic-bijeenkomst
END:VEVENT
BEGIN:VEVENT
UID:20260419T235204UTC-8079aJdkTv@https://hcc.nl/
DTSTAMP:20260419T235204Z
DESCRIPTION:Onze inloop is bedoeld voor iedereen die praktische hulp en ond
 ersteuning nodig heeft bij het gebruik van uw digitale apparatuur\, zoals 
 desktop\, laptop\, tablet en smartphone.\nTe denken valt aan:\n\nopschonen
  van uw computer \nupdates downloaden \napps installeren \naccounts aanmak
 en op uw apparaten (breng dan wel uw gegevens mee) \ne-mail problemen \nin
 stellingen aanpassen. \n\nOnze deskundigen zitten klaar om u met raad en d
 aad terzijde te staan.\nVoor meer info over IDO\, volg deze link:Informati
 epunt Digitale Overheid\n  https://hcc.nl/agenda/evenement/540-inloop-digi
 tale-hulp
DTSTART:20230426T080000Z
DTEND:20230426T100000Z
LOCATION:Bibliotheek Gorinchem (Groenmarkt 1\, 4201 EE Gorinchem)
SUMMARY:Inloop: Digitale hulp
URL:https://hcc.nl/agenda/evenement/540-inloop-digitale-hulp
END:VEVENT
BEGIN:VEVENT
UID:20260419T235204UTC-8080zLpsgl@https://hcc.nl/
DTSTAMP:20260419T235204Z
DESCRIPTION: \nSteeds meer worden digitale media gebruikt voor mededelingen
  waarvoor vroeger gewoon de post het normale kanaal was. Ook de (semi-) ov
 erheid maakt steeds meer gebruik van websites en apps. Deze lezing geeft e
 en overzicht van de meest gebruikte digitale overheidscommunicatie. Daarna
 ast wordt ook door verzekeringsmaatschappijen en pensioenorganisaties gebr
 uik gemaakt van het Internet. Dit wordt niet besproken omdat het niet fund
 amenteel anders is dan bij de overheid.\nIn 2023 hebben wij weer meerdere 
 interessante onderwerpen op de agenda staan. Kijk ook regelmatig op onze w
 ebsite www.seniorenacademie.hcc.nl. \n  https://hcc.nl/agenda/evenement/54
 2-onze-digitale-wereld
DTSTART:20230426T080000Z
DTEND:20230426T100000Z
LOCATION:'t Vinkhuys  (Diamantlaan 94\, 9743 BJ Groningen)
SUMMARY:Onze Digitale Wereld
URL:https://hcc.nl/agenda/evenement/542-onze-digitale-wereld
END:VEVENT
BEGIN:VEVENT
UID:20260419T235204UTC-8081EA7ENs@https://hcc.nl/
DTSTAMP:20260419T235204Z
DESCRIPTION: \nOnze inloop is bedoeld voor iedereen die praktische hulp en 
 ondersteuning nodig heeft bij het gebruik van uw digitale apparatuur\, zoa
 ls desktop\, laptop\, tablet en smartphone.\nTe denken valt aan:• opschone
 n van uw computer• updates downloaden• apps installeren• accounts aanmaken
  op uw apparaten(breng dan wel uw gegevens mee)• e-mail problemen.• instel
 lingen aanpassen\nOnze deskundigen zitten klaar om u met raad en daad terz
 ijde te staan.\n  https://hcc.nl/agenda/evenement/544-inloop-digitale-hulp
DTSTART:20230426T113000Z
DTEND:20230426T140000Z
LOCATION:Gemeenschapshuis De Kuip (Bloemendalsweg 1B\, 7429 AL Colmschate)
SUMMARY:Inloop Digitale Hulp
URL:https://hcc.nl/agenda/evenement/544-inloop-digitale-hulp
END:VEVENT
BEGIN:VEVENT
UID:20260419T235204UTC-80825RnvA1@https://hcc.nl/
DTSTAMP:20260419T235204Z
DESCRIPTION:Onze inloop is bedoeld voor iedereen die praktische hulp en ond
 ersteuning nodig heeft bij het gebruik van uw digitale apparatuur\, zoals 
 desktop\, laptop\, tablet en smartphone.Te denken valt aan:• opschonen van
  uw computer• updates downloaden• apps installeren• accounts aanmaken op u
 w apparaten(breng dan wel uw gegevens mee)• e-mail problemen.• instellinge
 n aanpassenOnze deskundigen zitten klaar om u met raad en daad terzijde te
  staan.\n  https://hcc.nl/agenda/evenement/546-inloop-digitale-hulp
DTSTART:20230426T173000Z
DTEND:20230426T193000Z
LOCATION:Wijkcentrum De Akkers (Lenteakker 5\, 3206 TB Spijkenisse)
SUMMARY:Inloop Digitale Hulp
URL:https://hcc.nl/agenda/evenement/546-inloop-digitale-hulp
END:VEVENT
BEGIN:VEVENT
UID:20260419T235204UTC-8083UIjUT1@https://hcc.nl/
DTSTAMP:20260419T235204Z
DESCRIPTION:In 2023 hebben wij weer meerdere interessante onderwerpen op de
  agenda staan. Kijk ook regelmatig op onze website www.seniorenacademie.hc
 c.nl. \n https://hcc.nl/agenda/evenement/548-deze-maand-vervalt-de-present
 atie-vanwege-koningsdag
DTSTART:20230427T080000Z
DTEND:20230427T100000Z
LOCATION:Wijkhuis de Westwijzer  (Cortenbachstraat 70\, 5707 TJ Helmond)
SUMMARY:Deze maand vervalt de presentatie vanwege Koningsdag
URL:https://hcc.nl/agenda/evenement/548-deze-maand-vervalt-de-presentatie-v
 anwege-koningsdag
END:VEVENT
BEGIN:VEVENT
UID:20260419T235204UTC-8084CeGTEL@https://hcc.nl/
DTSTAMP:20260419T235204Z
DESCRIPTION:Alle werkgroepen zijn deze keer niet aanwezig. De meesten verzo
 rgen maandelijks de presentatieDe Borduurgroep of misschien liever de werk
 groep Creatieve Werkvormen bezet elke week zelfs een aparte zaal.\n  https
 ://hcc.nl/agenda/evenement/550-geen-inloop-ivm-koningsdag
DTSTART:20230427T170000Z
DTEND:20230427T203000Z
LOCATION:NewTechPark (Vlijtseweg 148\, 7317 AK Apeldoorn)
SUMMARY:Geen inloop ivm. Koningsdag
URL:https://hcc.nl/agenda/evenement/550-geen-inloop-ivm-koningsdag
END:VEVENT
BEGIN:VEVENT
UID:20260419T235204UTC-8084VADEIj@https://hcc.nl/
DTSTAMP:20260419T235204Z
DESCRIPTION: \nIn verband met Koningsdag is er op 27 april a.s. geen bijeen
 komst van HCC!Apple (ondanks hetgeen in de Agenda staat). De eerstvolgende
  bijeenkomst is op donderdag 25 mei a.s.\nLocatie Apeldoorn NewTechParkVli
 jtseweg 148Apeldoorn https://hcc.nl/agenda/evenement/552-geen-bijeenkomst-
 hcc-apple
DTSTART:20230427T173000Z
DTEND:20230427T203000Z
LOCATION:NewTechPark (Vlijtseweg 148\, 7317 AK Apeldoorn)
SUMMARY:Geen bijeenkomst HCC!Apple
URL:https://hcc.nl/agenda/evenement/552-geen-bijeenkomst-hcc-apple
END:VEVENT
BEGIN:VEVENT
UID:20260419T235204UTC-8085n8wBuW@https://hcc.nl/
DTSTAMP:20260419T235204Z
DESCRIPTION:Contact : HCC!ZOB bestuur\nAlgemene Leden Vergadering 2023.\n\n
 Wijkcentrum ‘t Slot ligt aan het Kastelenplein\, met ruime\, gratis parkee
 rgelegenheid voor de deur. https://hcc.nl/agenda/evenement/554-alv-2023
DTSTART:20230501T180000Z
DTEND:20230501T200000Z
LOCATION:Wijkcentrum 't Slot (Kastelenplein 167\, 5653 LX Eindhoven)
SUMMARY:ALV-2023
URL:https://hcc.nl/agenda/evenement/554-alv-2023
END:VEVENT
BEGIN:VEVENT
UID:20260419T235204UTC-8086R98ZvI@https://hcc.nl/
DTSTAMP:20260419T235204Z
DESCRIPTION:\nOp 2 mei staat een presentatie gepland 'Astrofotografie zonde
 r telescoop' door Ernst Roelofs (Maastricht).\nDe presentatie zal online -
  hybride\, als webinar en bij HCC!noord-Limburg fysiek worden gegeven door
  Ernst Roelofs. Geïnteresseerden kunnen de presentatie dus vanuit huis bij
 wonen\, maar waarbij wij als Noord-Limburg de presentatie tevens op onze b
 eamer tonen zodat we ook fysieke bezoekers kunnen ontvangen. De presentato
 r heeft op deze manier al vaker gewerkt en heeft daar dus positieve ervari
 ngen mee. \nJe hoeft je voor deze online presentatie niet van te voren aan
  te melden\, je kan vanaf 19.15 uur deelnemen\; vanaf dat moment zal de ju
 iste URL gepubliceerd worden op de voorpagina van HCC!Noord-Limburg websit
 e.     \n  https://hcc.nl/agenda/evenement/556-algemene-activiteit-astrofo
 tografie-zonder-telescoop-lezing-door-ernst-roelofs-hybride
DTSTART:20230502T171500Z
DTEND:20230502T200000Z
LOCATION:De Witte Kerk (Agnes Huijnstraat 3\, 5914 PE Venlo)
SUMMARY:Algemene activiteit :' Astrofotografie zonder telescoop' lezing doo
 r Ernst Roelofs - Hybride 
URL:https://hcc.nl/agenda/evenement/556-algemene-activiteit-astrofotografie
 -zonder-telescoop-lezing-door-ernst-roelofs-hybride
END:VEVENT
BEGIN:VEVENT
UID:20260419T235204UTC-8087ZJ2MbK@https://hcc.nl/
DTSTAMP:20260419T235204Z
DESCRIPTION: \nWe houden weer een online bijeenkomst over Visual Basic.\nAa
 nmelden is niet nodig\, zie de voorpagina voor meer informatie. https://hc
 c.nl/agenda/evenement/558-online-visual-basic-sessie
DTSTART:20230501T180000Z
DTEND:20230501T200000Z
LOCATION: ()
SUMMARY:Online Visual Basic sessie
URL:https://hcc.nl/agenda/evenement/558-online-visual-basic-sessie
END:VEVENT
BEGIN:VEVENT
UID:20260419T235204UTC-8088L3Eff1@https://hcc.nl/
DTSTAMP:20260419T235204Z
DESCRIPTION:We houden weer een online algemene bijeenkomst op dinsdagavond.
 \nAanmelden is niet nodig\, zie de voorpagina voor meer informatie. https:
 //hcc.nl/agenda/evenement/560-online-algemene-sessie
DTSTART:20230502T173000Z
DTEND:20230502T193000Z
LOCATION: ()
SUMMARY:Online algemene sessie
URL:https://hcc.nl/agenda/evenement/560-online-algemene-sessie
END:VEVENT
BEGIN:VEVENT
UID:20260419T235204UTC-8089Ge6Rrv@https://hcc.nl/
DTSTAMP:20260419T235204Z
DESCRIPTION: \nWe houden weer een online sessie over Python. Om 19:00 uur b
 egint de Python cursus voor beginners en om ongeveer 21:00 uur is er Pytho
 n voor gevorderden.\nZie de voorpagina voor meer informatie. https://hcc.n
 l/agenda/evenement/563-online-python-sessie
DTSTART:20230427T170000Z
DTEND:20230427T210000Z
LOCATION: ()
SUMMARY:Online Python sessie
URL:https://hcc.nl/agenda/evenement/563-online-python-sessie
END:VEVENT
BEGIN:VEVENT
UID:20260419T235204UTC-8089OZCbpX@https://hcc.nl/
DTSTAMP:20260419T235204Z
DESCRIPTION:We houden weer een online bijeenkomst over Games programmeren.
 \nAanmelden is niet nodig. Zie de voorpagina voor meer informatie. https:/
 /hcc.nl/agenda/evenement/564-online-games-programmeren-sessie
DTSTART:20230428T180000Z
DTEND:20230428T200000Z
LOCATION: ()
SUMMARY:Online Games programmeren sessie
URL:https://hcc.nl/agenda/evenement/564-online-games-programmeren-sessie
END:VEVENT
BEGIN:VEVENT
UID:20260419T235204UTC-8090J6G4mm@https://hcc.nl/
DTSTAMP:20260419T235204Z
DESCRIPTION: \nWe houden weer een online bijeenkomst over Pascal.\nAanmelde
 n is niet nodig\, zie de voorpagina voor meer informatie. https://hcc.nl/a
 genda/evenement/566-online-pascal-sessie
DTSTART:20230429T170000Z
DTEND:20230429T190000Z
LOCATION: ()
SUMMARY:Online Pascal sessie
URL:https://hcc.nl/agenda/evenement/566-online-pascal-sessie
END:VEVENT
BEGIN:VEVENT
UID:20260419T235204UTC-8091fvMnwH@https://hcc.nl/
DTSTAMP:20260419T235204Z
DESCRIPTION:Je kunt daar terecht met vragen over computer hard- en software
 \, tablets\, gsm's etc. Wellicht zijn er leden aanwezig die zich bezighoud
 en met fotobewerkingssoftware of videobewerking. Ook over ChatGPT bijvoorb
 eeld. We helpen elkaar bij eventuele vragen.\nTijdens deze bijeenkomst zij
 n er werkgroepen actief. Apple - HCCapple SteenwijkA. De werkgroep Apple (
 in contact met HCC!apple). Vragen over hard- en software kunnen gesteld wo
 rden.B. En de werkgroep Raspberry Pi.\n  https://hcc.nl/agenda/evenement/5
 68-steenwijk-inloop-bijeenkomst
DTSTART:20230502T113000Z
DTEND:20230502T143000Z
LOCATION:Theater de Meenthe (Stationsplein 1\, 8331 GM Steenwijk)
SUMMARY:Steenwijk\, inloop bijeenkomst
URL:https://hcc.nl/agenda/evenement/568-steenwijk-inloop-bijeenkomst
END:VEVENT
BEGIN:VEVENT
UID:20260419T235204UTC-8092KkrHwd@https://hcc.nl/
DTSTAMP:20260419T235204Z
DESCRIPTION:Onze inloop is bedoeld voor iedereen die praktische hulp en ond
 ersteuning nodig heeft bij het gebruik van uw digitale apparatuur\, zoals 
 desktop\, laptop\, tablet en smartphone.\nTe denken valt aan:• opschonen v
 an uw computer• updates downloaden• apps installeren• accounts aanmaken op
  uw apparaten(breng dan wel uw gegevens mee)• e-mail problemen.• instellin
 gen aanpassenOnze deskundigen zitten klaar om u met raad en daad terzijde 
 te staan.\n  https://hcc.nl/agenda/evenement/570-inloop-digitale-hulp
DTSTART:20230502T080000Z
DTEND:20230502T100000Z
LOCATION:Bibliotheek Hardinxveld-Giessendam (Pietersweer 34\, 3371 PN Hardi
 nxveld-Giessendam)
SUMMARY:Inloop Digitale Hulp
URL:https://hcc.nl/agenda/evenement/570-inloop-digitale-hulp
END:VEVENT
BEGIN:VEVENT
UID:20260419T235204UTC-80932HVBhN@https://hcc.nl/
DTSTAMP:20260419T235204Z
DESCRIPTION: \nDe HCC!trainsim organiseert maandelijks een bijeenkomst voor
  leden van de HCC in De Meern. Introducés zijn ook welkom.\nVoor de bijeen
 komst van 29 april 2023 hoef je je niet aan te melden via onze website. Wi
 j vragen je de bijeenkomst alleen te bezoeken als je geen coronagerelateer
 de klachten hebt en rekening te houden met de andere deelnemers.\nDe zaal 
 is open van 11.00 tot 16.00 uur.\nHet programma voor deze dag is nog niet 
 helemaal bekend en zal binnenkort op onze website en in onze nieuwsbrief b
 ekend worden gemaakt.\n \n  https://hcc.nl/agenda/evenement/580-clubdag-de
 -meern
DTSTART:20230429T090000Z
DTEND:20230429T140000Z
LOCATION:Cultureel Centrum De Schalm (Oranjelaan 10\, 3454 BT De Meern)
SUMMARY:Clubdag De Meern
URL:https://hcc.nl/agenda/evenement/580-clubdag-de-meern
END:VEVENT
BEGIN:VEVENT
UID:20260419T235204UTC-8094uk1XSv@https://hcc.nl/
DTSTAMP:20260419T235204Z
DESCRIPTION:Roelof van den Hof gaat ons vertellen  hoe je voorzorgsmaatrege
 len kunt nemen om problemen te voorkomen en als er problemen zijn hoe je z
 e zo mogelijk kunt oplossen.\nInhoud: Hoe houd ik Windows draaiende?  1- C
 ontroleren van updates  2- Herstelpunt automatisch maken controleren/aanze
 tten  3- Instelling Gebruikersaccountbeheer controleren  4- Een Windows he
 rstelstation maken  5- Een wachtwoordherstelschijf maken  6- Standaard- en
  administrator-account gebruiken  7- Viruscontrole gedownloade bestanden  
 8- Windows Repair Toolbox  9- Wat als de pc raar doet10- Windows herstel11
 - Ultimate Windows Tweaker\nVoor deelname aan deze online presentatie is e
 en URL aangemaakt.Tot 19:00 uur is deze afgeschermd met een wachtwoord.\nA
 anschuven kan dus vanaf 19:15 uur.URL:  https://wij.hcc.nl/HCC-Noord-Windo
 ws  https://hcc.nl/agenda/evenement/582-hoe-houd-ik-windows-draaiende
DTSTART:20230501T173000Z
DTEND:20230501T200000Z
LOCATION: ()
SUMMARY:Hoe houd ik Windows draaiende?
URL:https://hcc.nl/agenda/evenement/582-hoe-houd-ik-windows-draaiende
END:VEVENT
BEGIN:VEVENT
UID:20260419T235204UTC-80955M7v7I@https://hcc.nl/
DTSTAMP:20260419T235204Z
DESCRIPTION:Op 17 april gaf Will Peters een inleiding over het programma Ch
 atGPT in Amersfoort.\nIn de laatste PC-Active (nr.329) staan 3 artikelen v
 an Toon van Daele over ChatGPT.ChatGPT is een van de programma's dat gebru
 ik maakt van kunstmatige intelligentie\, ook wel artificial intelligence (
 AI) genoemd.Men verwacht dat de doorbraak van deze ontwikkelingen nogal im
 pact op ons leven zal hebben. Je kunt het vergelijken met het ontstaan van
  internet-winkels. Zo kunnen we elektronica onderdelen bijna alleen nog vi
 a een webshop kopen.Een reisbureau in de winkelstraat wordt ook al een zel
 dzaamheid. Een vakantie boeken we via internet en 'chatten' we bij eventue
 le vragen i.p.v. dat we de telefoon gebruiken.De Europese Commissie is mom
 enteel bezig met het het opstellen van regeltjes voor het gebruik van kuns
 tmatige intelligentie (the Artificial Intelligence Act). Zij willen met na
 me misbruik van deze ontwikkelingen voorkomen.Dichter bij huis: we zien da
 t leraren al met deze ontwikkelingen in hun werksituatie geconfronteerd wo
 rden.Met de opdracht: 'geef een samenvatting van 400 woorden over het boek
  Turks fruit van Jan Wolkers' heeft een leerling zijn huiswerk binnen 5 mi
 nuten af.Met de opdracht: 'formuleer een bezwaarschrift tegen de WOZ-waard
 e van 5000AB 123' krijgen we een brief met een correcte indeling\, die als
  uitgangspunt voor ons bezwaar kan dienen.In deze presentatie wil ik begri
 ppen en gebruikte benamingen in Jip en Janneke taal toelichten\, met name 
 over ChatGPT (Microsoft)\, maar ook van de concurrentie zoals Bard (Google
 ).Ook kunnen we hopelijk enkele voorbeelden live demonstreren.\n https://h
 cc.nl/agenda/evenement/584-presentatie-over-chatgpt
DTSTART:20230501T173000Z
DTEND:20230501T200000Z
LOCATION:Cultuurhuis Schoneveld Houten (Zonnehout 36\, 3991 MX Houten)
SUMMARY:Presentatie over ChatGPT
URL:https://hcc.nl/agenda/evenement/584-presentatie-over-chatgpt
END:VEVENT
BEGIN:VEVENT
UID:20260419T235204UTC-8097Gmvm4U@https://hcc.nl/
DTSTAMP:20260419T235204Z
DESCRIPTION:Werkgroep Genealogie\nHan Blijenberg van HCC!genealogie kan u h
 elpen met het onderzoek naar uw familie.\nMeer info op:  HCC!zeeland - Hom
 e \n  https://hcc.nl/agenda/evenement/586-bijeenkomst-hcc-zeeland
DTSTART:20230501T173000Z
DTEND:20230501T200000Z
LOCATION:De Burgerij Campus de Ruyter  (Van Hogendorpweg 58\, 4384 HA Vliss
 ingen)
SUMMARY:Bijeenkomst HCC!zeeland
URL:https://hcc.nl/agenda/evenement/586-bijeenkomst-hcc-zeeland
END:VEVENT
BEGIN:VEVENT
UID:20260419T235204UTC-8098o7GmF0@https://hcc.nl/
DTSTAMP:20260419T235204Z
DESCRIPTION:In deze lezing bespreken we een aantal apps (programma’s) en on
 line diensten waarvan je in het dagelijks gebruik veel gemak en plezier va
 n kunt hebben. Een aantal van de apps zijn alleen beschikbaar onder Window
 s\, de app To Do van Microsoft is beschikbaar voor Windows en IOS (Apple).
  De online diensten zijn via de browser beschikbaar op alle platformen. We
  bespreken: Microsoft Foto’s\, To Do\, de Rekenmachine\, Sumatra pdf lezer
 \, WeTransfer\, BerekenHet\, Convertworld\, Google Translate en Google Map
 s. De gekozen onderwerpen zijn een keuze van de schrijver. Afhankelijk van
  de interesses van de gebruiker zijn er uiteraard veel meer handige apps e
 n diensten beschikbaar.\nIn 2023 hebben wij weer meerdere interessante ond
 erwerpen op de agenda staan. Kijk ook regelmatig op onze website www.senio
 renacademie.hcc.nl. \n  https://hcc.nl/agenda/evenement/588-handige-apps-d
 iensten
DTSTART:20230502T080000Z
DTEND:20230502T100000Z
LOCATION:Wijkcentrum Hatert (Couwenbergstraat 22\, 6535 RZ Nijmegen)
SUMMARY:Handige apps/diensten
URL:https://hcc.nl/agenda/evenement/588-handige-apps-diensten
END:VEVENT
BEGIN:VEVENT
UID:20260419T235204UTC-8099h5B2ua@https://hcc.nl/
DTSTAMP:20260419T235204Z
DESCRIPTION:Contact hccsr.team.gorcum@gmail.com\nOnze inloop is bedoeld voo
 r iedereen die praktische hulp en ondersteuning nodig heeft bij het gebrui
 k van uw digitale apparatuur\, zoals desktop\, laptop\, tablet en smartpho
 ne.Te denken valt aan:\n\nopschonen van uw computer \nupdates downloaden 
 \napps installeren \naccounts aanmaken op uw apparaten (breng dan wel uw g
 egevens mee) \ne-mail problemen \ninstellingen aanpassen. \n\nOnze deskund
 igen zitten klaar om u met raad en daad terzijde te staan.\nVoor meer info
  over IDO\, volg deze link:Informatiepunt Digitale Overheid\n  https://hcc
 .nl/agenda/evenement/590-inloop-digitale-hulp-ido
DTSTART:20230502T083000Z
DTEND:20230502T100000Z
LOCATION:Buurtkamer Stalkaarsen (Dokter Hiemstralaan 77\, 4205 KK Gorinchem
 )
SUMMARY:Inloop Digitale Hulp / IDO
URL:https://hcc.nl/agenda/evenement/590-inloop-digitale-hulp-ido
END:VEVENT
BEGIN:VEVENT
UID:20260419T235204UTC-8100MexViu@https://hcc.nl/
DTSTAMP:20260419T235204Z
DESCRIPTION: \nContact l.poppema@kader.hcc.nl\nIn deze lezing bespreken we 
 een aantal apps (programma’s) en online diensten waarvan je in het dagelij
 ks gebruik veel gemak en plezier van kunt hebben. Een aantal van de apps z
 ijn alleen beschikbaar onder Windows\, de app To Do van Microsoft is besch
 ikbaar voor Windows en IOS (Apple). De online diensten zijn via de browser
  beschikbaar op alle platformen. We bespreken: Microsoft Foto’s\, To Do\, 
 de Rekenmachine\, Sumatra pdf lezer\, WeTransfer\, BerekenHet\, Convertwor
 ld\, Google Translate en Google Maps. De gekozen onderwerpen zijn een keuz
 e van de schrijver. Afhankelijk van de interesses van de gebruiker zijn er
  uiteraard veel meer handige apps en diensten beschikbaar.\nIn 2023 hebben
  wij weer meerdere interessante onderwerpen op de agenda staan. Kijk ook r
 egelmatig op onze website www.seniorenacademie.hcc.nl.  https://hcc.nl/age
 nda/evenement/592-handige-apps-diensten
DTSTART:20230502T110000Z
DTEND:20230502T140000Z
LOCATION:Speeltuin Pascal (Pascalweg 12\, 3076 JP Rotterdam)
SUMMARY:Handige apps/diensten
URL:https://hcc.nl/agenda/evenement/592-handige-apps-diensten
END:VEVENT
END:VCALENDAR
