BEGIN:VCALENDAR
VERSION:2.0
PRODID:-//https://hcc.nl///NONSGML kigkonsult.se iCalcreator 2.10.15//
METHOD:PUBLISH
BEGIN:VEVENT
UID:20260419T153841UTC-5887lI5w8z@https://hcc.nl/
DTSTAMP:20260419T153841Z
DESCRIPTION:Steeds meer worden digitale media gebruikt voor mededelingen wa
 arvoor vroeger gewoon de post het normale kanaal was. Ook de (semi-) overh
 eid maakt steeds meer gebruik van websites en apps. Deze lezing geeft een 
 overzicht van de meest gebruikte digitale overheidscommunicatie. Daarnaast
  wordt ook door verzekeringsmaatschappijen en pensioenorganisaties gebruik
  gemaakt van het Internet. Dit wordt niet besproken omdat het niet fundame
 nteel anders is dan bij de overheid. https://hcc.nl/agenda/evenement/325-o
 nze-digitale-wereld
DTSTART:20230406T080000Z
DTEND:20230406T100000Z
LOCATION:Kruiskerk (Mesdagplein 4\, 3443 CD Woerden)
SUMMARY:Onze digitale wereld
URL:https://hcc.nl/agenda/evenement/325-onze-digitale-wereld
END:VEVENT
BEGIN:VEVENT
UID:20260419T153841UTC-58898vnHpb@https://hcc.nl/
DTSTAMP:20260419T153841Z
DESCRIPTION:Onze inloop is bedoeld voor iedereen die praktische hulp en ond
 ersteuning nodig heeft bij het gebruik van uw digitale apparatuur\, zoals 
 desktop\, laptop\, tablet en smartphone.Onze deskundigen zitten klaar om u
  met raad en daad terzijde te staan. https://hcc.nl/agenda/evenement/329-i
 nloop-digitale-hulp
DTSTART:20230406T113000Z
DTEND:20230406T140000Z
LOCATION:De Schans (Troelstradreef 160\, 5237 DE 's-Hertogenbosch)
SUMMARY:Inloop Digitale Hulp
URL:https://hcc.nl/agenda/evenement/329-inloop-digitale-hulp
END:VEVENT
BEGIN:VEVENT
UID:20260419T153841UTC-5890O6dbtU@https://hcc.nl/
DTSTAMP:20260419T153841Z
DESCRIPTION:Onze inloop is bedoeld voor iedereen die praktische hulp en ond
 ersteuning nodig heeft bij het gebruik van uw digitale apparatuur\, zoals 
 desktop\, laptop\, tablet en smartphone.Te denken valt aan:• opschonen van
  uw computer• updates downloaden• apps installeren• accounts aanmaken op u
 w apparaten(breng dan wel uw gegevens mee)• e-mail problemen.• instellinge
 n aanpassenOnze deskundigen zitten klaar om u met raad en daad terzijde te
  staan. https://hcc.nl/agenda/evenement/333-inloop-digitale-hulp
DTSTART:20230406T073000Z
DTEND:20230406T093000Z
LOCATION:Wijkcentrum Rozenobel (Dukatenplein 2\, 4205 GE Gorinchem)
SUMMARY:Inloop Digitale Hulp
URL:https://hcc.nl/agenda/evenement/333-inloop-digitale-hulp
END:VEVENT
BEGIN:VEVENT
UID:20260419T153841UTC-5892PVoS7s@https://hcc.nl/
DTSTAMP:20260419T153841Z
DESCRIPTION:Onze inloop is bedoeld voor iedereen die praktische hulp en ond
 ersteuning nodig heeft bij het gebruik van uw digitale apparatuur\, zoals 
 desktop\, laptop\, tablet en smartphone.Te denken valt aan:• opschonen van
  uw computer• updates downloaden• apps installeren• accounts aanmaken op u
 w apparaten(breng dan wel uw gegevens mee)• e-mail problemen.• instellinge
 n aanpassenOnze deskundigen zitten klaar om u met raad en daad terzijde te
  staan. https://hcc.nl/agenda/evenement/347-inloop-digitale-hulp
DTSTART:20230411T080000Z
DTEND:20230411T100000Z
LOCATION:Bibliotheek Hardinxveld-Giessendam (Pietersweer 34\, 3371 PN Hardi
 nxveld-Giessendam)
SUMMARY:Inloop Digitale Hulp
URL:https://hcc.nl/agenda/evenement/347-inloop-digitale-hulp
END:VEVENT
BEGIN:VEVENT
UID:20260419T153841UTC-58934GHLoa@https://hcc.nl/
DTSTAMP:20260419T153841Z
DESCRIPTION:Steeds meer worden digitale media gebruikt voor mededelingen wa
 arvoor vroeger gewoon de post het normale kanaal was. Ook de (semi-) overh
 eid maakt steeds meer gebruik van websites en apps. Deze lezing geeft een 
 overzicht van de meest gebruikte digitale overheidscommunicatie. Daarnaast
  wordt ook door verzekeringsmaatschappijen en pensioenorganisaties gebruik
  gemaakt van het Internet. Dit wordt niet besproken omdat het niet fundame
 nteel anders is dan bij de overheid. https://hcc.nl/agenda/evenement/349-o
 nze-digitale-wereld
DTSTART:20230411T080000Z
DTEND:20230411T100000Z
LOCATION:Activiteitencentrum Orka  (Broekakkerseweg 1\, 5641 PC Eindhoven)
SUMMARY:Onze Digitale Wereld
URL:https://hcc.nl/agenda/evenement/349-onze-digitale-wereld
END:VEVENT
BEGIN:VEVENT
UID:20260419T153841UTC-58949rWJlR@https://hcc.nl/
DTSTAMP:20260419T153841Z
DESCRIPTION:Onze inloop is bedoeld voor iedereen die praktische hulp en ond
 ersteuning nodig heeft bij het gebruik van uw tablet en smartphone.Te denk
 en valt aan:- apps installeren- accounts aanmaken op uw apparaten(breng da
 n uw inloggegevens mee)- E-mail problemen.- Instellingen aanpassenZowel vo
 or Apple\, Android als Windows!Onze deskundigen zitten klaar om u met raad
  en daad terzijde te staan. https://hcc.nl/agenda/evenement/351-inloop-dig
 itale-hulp
DTSTART:20230411T110000Z
DTEND:20230411T130000Z
LOCATION:Bibliotheek Leerdam (Meent 40\, 4141 AC Leerdam)
SUMMARY:Inloop Digitale Hulp
URL:https://hcc.nl/agenda/evenement/351-inloop-digitale-hulp
END:VEVENT
BEGIN:VEVENT
UID:20260419T153841UTC-5896B4WhXN@https://hcc.nl/
DTSTAMP:20260419T153841Z
DESCRIPTION:Steeds meer worden digitale media gebruikt voor mededelingen wa
 arvoor vroeger gewoon de post het normale kanaal was. Ook de (semi-) overh
 eid maakt steeds meer gebruik van websites en apps. Deze lezing geeft een 
 overzicht van de meest gebruikte digitale overheidscommunicatie. Daarnaast
  wordt ook door verzekeringsmaatschappijen en pensioenorganisaties gebruik
  gemaakt van het Internet. Dit wordt niet besproken omdat het niet fundame
 nteel anders is dan bij de overheid. https://hcc.nl/agenda/evenement/353-o
 nze-digitale-wereld
DTSTART:20230411T113000Z
DTEND:20230411T133000Z
LOCATION:Dorpshuis Badhoevedorp (Snelliuslaan 35\, 1171 CZ Badhoevedorp)
SUMMARY:Onze Digitale Wereld
URL:https://hcc.nl/agenda/evenement/353-onze-digitale-wereld
END:VEVENT
BEGIN:VEVENT
UID:20260419T153841UTC-5898LtwXM5@https://hcc.nl/
DTSTAMP:20260419T153841Z
DESCRIPTION:Steeds meer worden digitale media gebruikt voor mededelingen wa
 arvoor vroeger gewoon de post het normale kanaal was. Ook de (semi-) overh
 eid maakt steeds meer gebruik van websites en apps. Deze lezing geeft een 
 overzicht van de meest gebruikte digitale overheidscommunicatie. Daarnaast
  wordt ook door verzekeringsmaatschappijen en pensioenorganisaties gebruik
  gemaakt van het Internet. Dit wordt niet besproken omdat het niet fundame
 nteel anders is dan bij de overheid. https://hcc.nl/agenda/evenement/355-o
 nze-digitale-wereld
DTSTART:20230411T113000Z
DTEND:20230411T140000Z
LOCATION:Wijkgebouw Bijdorp (Bijdorplaan 471\, 2713 SZ Zoetermeer)
SUMMARY:Onze Digitale Wereld
URL:https://hcc.nl/agenda/evenement/355-onze-digitale-wereld
END:VEVENT
BEGIN:VEVENT
UID:20260419T153841UTC-5899jWSfwM@https://hcc.nl/
DTSTAMP:20260419T153841Z
DESCRIPTION:Steeds meer worden digitale media gebruikt voor mededelingen wa
 arvoor vroeger gewoon de post het normale kanaal was. Ook de (semi-) overh
 eid maakt steeds meer gebruik van websites en apps. Deze lezing geeft een 
 overzicht van de meest gebruikte digitale overheidscommunicatie. Daarnaast
  wordt ook door verzekeringsmaatschappijen en pensioenorganisaties gebruik
  gemaakt van het Internet. Dit wordt niet besproken omdat het niet fundame
 nteel anders is dan bij de overheid. https://hcc.nl/agenda/evenement/357-o
 nze-digitale-wereld
DTSTART:20230411T120000Z
DTEND:20230411T140000Z
LOCATION:De Brug (Schuilenburgerweg 2\, 3816 TB Amersfoort)
SUMMARY:Onze Digitale Wereld
URL:https://hcc.nl/agenda/evenement/357-onze-digitale-wereld
END:VEVENT
BEGIN:VEVENT
UID:20260419T153841UTC-5901Zt5I2S@https://hcc.nl/
DTSTAMP:20260419T153841Z
DESCRIPTION:Onze inloop is bedoeld voor iedereen die praktische hulp en ond
 ersteuning nodig heeft bij het gebruik van uw digitale apparatuur\, zoals 
 desktop\, laptop\, tablet en smartphone.\nTe denken valt aan:\n\nopschonen
  van uw computer \nupdates downloaden \napps installeren \naccounts aanmak
 en op uw apparaten (breng dan wel uw gegevens mee) \ne-mail problemen \nin
 stellingen aanpassen. \n\nOnze deskundigen zitten klaar om u met raad en d
 aad terzijde te staan. https://hcc.nl/agenda/evenement/359-inloop-digitale
 -hulp
DTSTART:20230412T080000Z
DTEND:20230412T100000Z
LOCATION:Bibliotheek Gorinchem (Groenmarkt 1\, 4201 EE Gorinchem)
SUMMARY:Inloop Digitale Hulp
URL:https://hcc.nl/agenda/evenement/359-inloop-digitale-hulp
END:VEVENT
BEGIN:VEVENT
UID:20260419T153841UTC-5902vvddXf@https://hcc.nl/
DTSTAMP:20260419T153841Z
DESCRIPTION:Steeds meer worden digitale media gebruikt voor mededelingen wa
 arvoor vroeger gewoon de post het normale kanaal was. Ook de (semi-) overh
 eid maakt steeds meer gebruik van websites en apps. Deze lezing geeft een 
 overzicht van de meest gebruikte digitale overheidscommunicatie. Daarnaast
  wordt ook door verzekeringsmaatschappijen en pensioenorganisaties gebruik
  gemaakt van het Internet. Dit wordt niet besproken omdat het niet fundame
 nteel anders is dan bij de overheid. https://hcc.nl/agenda/evenement/361-o
 nze-digitale-wereld
DTSTART:20230412T110000Z
DTEND:20230412T140000Z
LOCATION:Buurthuis Het Voorhof  (Herman Gorterhof 165\, 2624 XL Delft)
SUMMARY:Onze Digitale Wereld
URL:https://hcc.nl/agenda/evenement/361-onze-digitale-wereld
END:VEVENT
BEGIN:VEVENT
UID:20260419T153841UTC-5903JasljZ@https://hcc.nl/
DTSTAMP:20260419T153841Z
DESCRIPTION:Onze inloop is bedoeld voor iedereen die praktische hulp en ond
 ersteuning nodig heeft bij het gebruik van uw digitale apparatuur\, zoals 
 desktop\, laptop\, tablet en smartphone.\nTe denken valt aan:• opschonen v
 an uw computer• updates downloaden• apps installeren• accounts aanmaken op
  uw apparaten(breng dan wel uw gegevens mee)• e-mail problemen.• instellin
 gen aanpassen\nOnze deskundigen zitten klaar om u met raad en daad terzijd
 e te staan. https://hcc.nl/agenda/evenement/363-inloop-digitale-hulp
DTSTART:20230412T113000Z
DTEND:20230412T140000Z
LOCATION:Gemeenschapshuis De Kuip (Bloemendalsweg 1B\, 7429 AL Colmschate)
SUMMARY:Inloop Digitale Hulp
URL:https://hcc.nl/agenda/evenement/363-inloop-digitale-hulp
END:VEVENT
BEGIN:VEVENT
UID:20260419T153841UTC-5910g0g1Iz@https://hcc.nl/
DTSTAMP:20260419T153841Z
DESCRIPTION:Onze inloop is bedoeld voor iedereen die praktische hulp en ond
 ersteuning nodig heeft bij het gebruik van uw digitale apparatuur\, zoals 
 desktop\, laptop\, tablet en smartphone.Te denken valt aan:• opschonen van
  uw computer• updates downloaden• apps installeren• accounts aanmaken op u
 w apparaten(breng dan wel uw gegevens mee)• e-mail problemen.• instellinge
 n aanpassenOnze deskundigen zitten klaar om u met raad en daad terzijde te
  staan. https://hcc.nl/agenda/evenement/365-inloop-digitale-hulp
DTSTART:20230412T173000Z
DTEND:20230412T193000Z
LOCATION:Wijkcentrum De Akkers (Lenteakker 5\, 3206 TB Spijkenisse)
SUMMARY:Inloop Digitale Hulp
URL:https://hcc.nl/agenda/evenement/365-inloop-digitale-hulp
END:VEVENT
BEGIN:VEVENT
UID:20260419T153841UTC-5913eWWRfK@https://hcc.nl/
DTSTAMP:20260419T153841Z
DESCRIPTION:Donderdag\, 06 april 2023\, 19:00 - 22:30 uur\nAlle werkgroepen
  zijn aanwezig. De meesten verzorgen maandelijks de presentatieDe Borduurg
 roep of misschien liever de werkgroep Creatieve Werkvormen bezet elke week
  zelfs een aparte zaal. https://hcc.nl/agenda/evenement/369-inloop-voor-al
 le-werkgroepen
DTSTART:20230406T170000Z
DTEND:20230406T203000Z
LOCATION:NewTechPark (Vlijtseweg 148\, 7317 AK Apeldoorn)
SUMMARY:Inloop voor alle werkgroepen
URL:https://hcc.nl/agenda/evenement/369-inloop-voor-alle-werkgroepen
END:VEVENT
BEGIN:VEVENT
UID:20260419T153841UTC-5915Rv6vJe@https://hcc.nl/
DTSTAMP:20260419T153841Z
DESCRIPTION:Maandag\, 10 april 2023 van 20:00 tot 22:00 uur\nContact : HCC!
 ZOB\nGesprekken over FS (Fllight Simulator) en bijbehorende onderwerpen\n 
  https://hcc.nl/agenda/evenement/373-hcc-zob-zwetsavond-fs
DTSTART:20230410T180000Z
DTEND:20230410T200000Z
LOCATION:Wijkcentrum 't Slot (Kastelenplein 167\, 5653 LX Eindhoven)
SUMMARY:HCC!ZOB - Zwetsavond FS
URL:https://hcc.nl/agenda/evenement/373-hcc-zob-zwetsavond-fs
END:VEVENT
BEGIN:VEVENT
UID:20260419T153841UTC-5916sbAUVj@https://hcc.nl/
DTSTAMP:20260419T153841Z
DESCRIPTION:Dinsdag\, 11 april 2023\, 10:00 - 12:00 uur\nMaandelijkse prese
 ntatie van de Seniorenacademie. Voor meer info zie de website en de nieuws
 brief \n  https://hcc.nl/agenda/evenement/379-maandelijkse-presentatie-van
 -de-seniorenacademie
DTSTART:20230411T080000Z
DTEND:20230411T100000Z
LOCATION:Activiteitencentrum Orka  (Broekakkerseweg 1\, 5641 PC Eindhoven)
SUMMARY:Maandelijkse presentatie van de Seniorenacademie
URL:https://hcc.nl/agenda/evenement/379-maandelijkse-presentatie-van-de-sen
 iorenacademie
END:VEVENT
BEGIN:VEVENT
UID:20260419T153841UTC-5918C9G8Hv@https://hcc.nl/
DTSTAMP:20260419T153841Z
DESCRIPTION:Zaterdag\, 08 april 2023\, 10:30 - 15:00 uur\n Programma:\n11.0
 0 - Werkgroepen\, Albert van der Horst/Willem Ouwerkerk\n11.15 - Lezing no
 Forth R\, Albert Nijhof\n12.00 - Presentatie noForth T\, Willem Ouwerkerk
 \n            Als je noForth T wil proberen\, neem je PIco bordje mee!\n13
 .00 - Pauze\n13.30 - Algemene Leden Vergadering (ALV)\nGevolgd door een mu
 zikaal intermezzo\, FIGleaf rag\n\n  https://hcc.nl/agenda/evenement/380-h
 cc-forth-bijeenkomst-met-algemene-leden-vergadering
DTSTART:20230408T083000Z
DTEND:20230408T130000Z
LOCATION:Zuiderkapel - naast het kerkgebouw (Boslaan 3\, 3722 BA Bilthoven)
SUMMARY:HCC!Forth- Bijeenkomst met Algemene Leden Vergadering
URL:https://hcc.nl/agenda/evenement/380-hcc-forth-bijeenkomst-met-algemene-
 leden-vergadering
END:VEVENT
BEGIN:VEVENT
UID:20260419T153841UTC-5919SUV5ux@https://hcc.nl/
DTSTAMP:20260419T153841Z
DESCRIPTION:Donderdag\, 06 april 2023\, 19:30 - 21:50 uur\nDeze herhaling i
 s een uitzondering op het normale herhaalsysteem\n  \nBijeenkomst van de w
 erkgroep Genealogie\nWe gaan op zoek naar verborgen gegevens\, vastlopers 
 in uw genealogisch onderzoek.\nNeem vooral uw laptop mee\, zodat we met z'
 n allen kunnen zoeken.\nHeeft u nog nieuwe\, genealogisch-interessante web
 sites ontdekt die wij nog niet kennen\, dan horen we dat graag!\n  https:/
 /hcc.nl/agenda/evenement/382-bijeenkomst-genealogie
DTSTART:20230406T173000Z
DTEND:20230406T195000Z
LOCATION:NewTechPark (Vlijtseweg 148\, 7317 AK Apeldoorn)
SUMMARY:Bijeenkomst Genealogie
URL:https://hcc.nl/agenda/evenement/382-bijeenkomst-genealogie
END:VEVENT
BEGIN:VEVENT
UID:20260419T153841UTC-5921gg3Gkt@https://hcc.nl/
DTSTAMP:20260419T153841Z
DESCRIPTION:Zaterdag\, 08 april 2023\, 14:00 - 16:00 uur\n \nZie:  https://
 www.coderdojo-apeldoorn.nl/ https://hcc.nl/agenda/evenement/384-coderdojo
DTSTART:20230408T120000Z
DTEND:20230408T140000Z
LOCATION:CODA FabLab  (Vosselmanstraat 299\, 7311 CL Apeldoorn)
SUMMARY:CoderDojo
URL:https://hcc.nl/agenda/evenement/384-coderdojo
END:VEVENT
BEGIN:VEVENT
UID:20260419T153841UTC-5922N6waWw@https://hcc.nl/
DTSTAMP:20260419T153841Z
DESCRIPTION:Zaterdag\, 08 april 2023\, 13:15 uur - 16.15 uur\nWie wel eens 
 met elektronica speelt en z'n eigen schakelingen bouwt of wel eens bezig i
 s met Arduino o.i.d. zal ongetwijfeld gebruik maken van prikborjes/breadbo
 ards om tijdelijke schakelingen te maken.\nAls je een schakeling permanent
  wilt gebruiken is het handiger om een eigen printplaat te maken. Er zijn 
 standaard printplaten. Deze printplaten hebben een raster van gaten en aan
  de onderkant koper. Het koper heb je zelf in het juiste patroon aan elkaa
 r te solderen. Een andere mogelijkheid is een printplaat maken bij een fab
 rikant. Het ontwerp heb je zelf te maken op de computer. Hiervoor zijn er 
 diverse programma's beschikbaar.\nÉén daarvan is LibrePCB. LibrePCB is gra
 tis\, open source en beschikbaar voor zowel Windows als Linux en Mac.\nWil
  je ook je eigen printplaat ontwerpen? Erik Krom vertelt je zaterdag 8 apr
 il alles over het realiseren van idee naar een tastbaar product.\n https:/
 /hcc.nl/agenda/evenement/386-eigen-printplaten-ontwerpen-met-librepcb
DTSTART:20230408T111500Z
DTEND:20230408T141500Z
LOCATION: Wijkcentrum De Wereld (Laan van Berlijn 1\, 2034 SB Haarlem)
SUMMARY:Eigen printplaten ontwerpen met LibrePCB
URL:https://hcc.nl/agenda/evenement/386-eigen-printplaten-ontwerpen-met-lib
 repcb
END:VEVENT
BEGIN:VEVENT
UID:20260419T153841UTC-5923Ive8Gh@https://hcc.nl/
DTSTAMP:20260419T153841Z
DESCRIPTION:Je bent elke dinsdag- en donderdagavond welkom in onze locatie 
 NewTechPark\nDe dinsdag is voor de makers\, 3D-ontwerpen\, scannen e print
 en\, vaak zijn dat ook liefhebbers van robotica\, drones en programmeren.A
 ls je dinsdagavond tussen 19.00 en 20.00 uur inlogt met Jitsi\, kun je ken
 nismaken met hcc!3D. Soms kun je desgevraagd ook online meedoen met een ac
 tiviteit.\nDat kan dan op:   https://wij.hcc.nl/3D (Alleen toegang als je 
 zichtbaar bent met voor- en achternaam. )\n  https://hcc.nl/agenda/eveneme
 nt/387-bijeenkomst-hcc-3d
DTSTART:20230411T170000Z
DTEND:20230411T193000Z
LOCATION:NewTechPark (Vlijtseweg 148\, 7317 AK Apeldoorn)
SUMMARY:Bijeenkomst hcc!3D
URL:https://hcc.nl/agenda/evenement/387-bijeenkomst-hcc-3d
END:VEVENT
BEGIN:VEVENT
UID:20260419T153841UTC-5924lLI5Z8@https://hcc.nl/
DTSTAMP:20260419T153841Z
DESCRIPTION:Tijdens de komende regiobijeenkomst krijg je bij HCC!kennemerla
 nd als HCC-lid maar liefst 50% korting op onderstaande producten van Ewent
 .\n• Ewent EW1355 USB autolader 5-poorts (2+3)\, 10\,8A van € 15\,98 voor 
 € 8\,00• Ewent EW3564 Over-ear stereo headset met microfoon en volumeregel
 ing van € 24\,98 voor 12\,50• Ewent EW3707 Video Grabber\, USB van € 32\,5
 0 voor € 16\,25• en de Ewent EW9916 USB-C naar lightning kabel\, 2 meter v
 an € 19\,98 voor € 10\,00\nOok zijn de slimme stekkers WOOX R6113 en de R6
 118 slimme stekker met energiemeter te koop: van € 19\,98 voor € 10\,00. E
 n daarnaast Het Grote iPad & iPhone Boek 2023 van € 12\,99 voor slechts 6\
 ,50. \nOp=op!\n  https://hcc.nl/agenda/evenement/389-verkoop-producten-met
 -50-korting
DTSTART:20230408T113000Z
DTEND:20230408T141500Z
LOCATION: Wijkcentrum De Wereld (Laan van Berlijn 1\, 2034 SB Haarlem)
SUMMARY:Verkoop producten met 50% korting
URL:https://hcc.nl/agenda/evenement/389-verkoop-producten-met-50-korting
END:VEVENT
BEGIN:VEVENT
UID:20260419T153841UTC-5926CBAd37@https://hcc.nl/
DTSTAMP:20260419T153841Z
DESCRIPTION:We houden weer een online algemene bijeenkomst.\nAanmelden is n
 iet nodig\, zie de voorpagina voor meer informatie. https://hcc.nl/agenda/
 evenement/391-online-algemene-sessie
DTSTART:20230411T173000Z
DTEND:20230411T193000Z
LOCATION: ()
SUMMARY:Online algemene sessie
URL:https://hcc.nl/agenda/evenement/391-online-algemene-sessie
END:VEVENT
BEGIN:VEVENT
UID:20260419T153841UTC-5926VRbvt5@https://hcc.nl/
DTSTAMP:20260419T153841Z
DESCRIPTION:Contact : HCC!ZOB bestuur\nProblemen met computer\, laptop\, ta
 blet of smartphone? Kom langs en wij kijken en helpen. https://hcc.nl/agen
 da/evenement/393-hcc-zob-helpdesk
DTSTART:20230411T110000Z
DTEND:20230411T140000Z
LOCATION:Activiteitencentrum Orka  (Broekakkerseweg 1\, 5641 PC Eindhoven)
SUMMARY:HCC!ZOB Helpdesk
URL:https://hcc.nl/agenda/evenement/393-hcc-zob-helpdesk
END:VEVENT
BEGIN:VEVENT
UID:20260419T153841UTC-59278e4PAj@https://hcc.nl/
DTSTAMP:20260419T153841Z
DESCRIPTION: Vanwege Tweede Paasdag is er deze keer geen online bijeenkomst
  over Visual Basic.\nDe volgende sessie over één week op maandagavond gaat
  wel door.\nZie de voorpagina voor meer informatie. https://hcc.nl/agenda/
 evenement/395-geen-online-visual-basic-sessie
DTSTART:20230410T180000Z
DTEND:20230410T190000Z
LOCATION: ()
SUMMARY:Geen online Visual Basic sessie
URL:https://hcc.nl/agenda/evenement/395-geen-online-visual-basic-sessie
END:VEVENT
BEGIN:VEVENT
UID:20260419T153841UTC-5928JZgl8A@https://hcc.nl/
DTSTAMP:20260419T153841Z
DESCRIPTION:We houden weer een online bijeenkomst over Liberty BASIC.\nAanm
 elden is niet nodig\, zie de voorpagina voor meer informatie. https://hcc.
 nl/agenda/evenement/397-online-liberty-basic-sessie
DTSTART:20230412T180000Z
DTEND:20230412T200000Z
LOCATION: ()
SUMMARY:Online Liberty BASIC sessie
URL:https://hcc.nl/agenda/evenement/397-online-liberty-basic-sessie
END:VEVENT
BEGIN:VEVENT
UID:20260419T153841UTC-59295Ewg4i@https://hcc.nl/
DTSTAMP:20260419T153841Z
DESCRIPTION:Zwolle\nOp de locatie Wijkcentrum Holtenbroek in Zwolle zijn de
  werkgroepen FlightSimulator\, Linux-Ubuntu\, Video-bewerken en Raspberry 
 Pi actief.Elke eerste donderdag van de maand is er van 19.30 tot 22.00 uur
  een inloopbijeenkomst met helpdesk en de werkgroepen. Op elke derde donde
 rdag van de maand is er een lezing of workshop van 20.00 tot 22.00 uur.\nM
 eer informatieVoor meer informatie bezoek de website: https://ijssellanden
 .hcc.nl\, https://hcc.nl/agenda/evenement/401-inloopbijeenkomst-ijsselland
 en-zwolle
DTSTART:20230406T173000Z
DTEND:20230406T200000Z
LOCATION:Wijkcentrum Holtenbroek (Bachlaan 20\, 8031 HL Zwolle)
SUMMARY:Inloopbijeenkomst IJssellanden - Zwolle
URL:https://hcc.nl/agenda/evenement/401-inloopbijeenkomst-ijssellanden-zwol
 le
END:VEVENT
END:VCALENDAR
