BEGIN:VCALENDAR
VERSION:2.0
PRODID:-//https://hcc.nl///NONSGML kigkonsult.se iCalcreator 2.10.15//
METHOD:PUBLISH
BEGIN:VEVENT
UID:20260422T062049UTC-0644BanvGl@https://hcc.nl/
DTSTAMP:20260422T062049Z
DESCRIPTION:Donderdag\, 30 maart 2023\, 19:30 - 22:30 uur\nHennie Hoevenaar
  verzorgt samen met Anton Doornenbal de presentatie 'Alternatieven en aanv
 ullingen voor gas'\n Praktijkervaringen met:\n\ninfraroodpanelen\nairco\nz
 onnepanelen\nwarmtepompen\n\nTijd om eens te kijken naar maatregelen om en
 ergie te besparen\nWe gaan ook even kijken in de Climate Room in aanbouw\,
  waar Apeldoornse bedrijven aan samenwerken. Wellicht kan Remeha hier wat 
 over zeggen.Deze avond is ook nog nog net te zien wat Technodiscovery de b
 asisscholen voorschotelt als het gaat over Duurzame Energie: Energie\, Wat
 er en Veiligheid.\n\nDe presentatie is online te volgen als je om 20.00 uu
 r inlogt op https://wij.hcc.nl/APD en je naam zichtbaar is.\n\n  https://h
 cc.nl/agenda/evenement/293-duurzame-energie
DTSTART:20230330T173000Z
DTEND:20230330T203000Z
LOCATION:NewTechPark (Vlijtseweg 148\, 7317 AK Apeldoorn)
SUMMARY:Duurzame energie
URL:https://hcc.nl/agenda/evenement/293-duurzame-energie
END:VEVENT
BEGIN:VEVENT
UID:20260422T062049UTC-06450NnowJ@https://hcc.nl/
DTSTAMP:20260422T062049Z
DESCRIPTION:Zaterdag\, 01 April 2023 van 10:00 tot 16:30 uur\nContact : HCC
 !ZOB bestuur\n \nLeren vliegen met de Flightsimulator https://hcc.nl/agend
 a/evenement/295-fs-vliegdag
DTSTART:20230401T080000Z
DTEND:20230401T143000Z
LOCATION:Kastelenplein - 't Slot (Kastelenplein 167\, 5653 LX Eindhoven)
SUMMARY:FS vliegdag
URL:https://hcc.nl/agenda/evenement/295-fs-vliegdag
END:VEVENT
BEGIN:VEVENT
UID:20260422T062049UTC-06461W0Uu2@https://hcc.nl/
DTSTAMP:20260422T062049Z
DESCRIPTION:Zaterdag\, 01 april 2023\, 10:00 - 14:00 uur\n \nHet hcc-steunp
 unt in Vaassen heeft een nieuwe locatie. Jasmijnstraat 36\, 8171 AP \nDe v
 rijwilligers helpen tijdens de clubdag onder andere met het upgraden van d
 e computer.\nOok het inbouwen van (meegebrachte) hardware is op de clubdag
  gratis.Tevens zijn er regelmatig demonstraties en presentaties.Voor het v
 erhelpen van een computerprobleem dient men de kast en de software mee te 
 nemen naar de clubdag.\nU hoeft natuurlijk niet een computerprobleem te he
 bben om gezellig langs te komen!\nKom gezellig een bakje koffie drinken en
  misschien kunt u zelf ook anderen helpen die met een computerprobleem zit
 ten https://hcc.nl/agenda/evenement/297-inloop-bijeenkomst
DTSTART:20230401T080000Z
DTEND:20230401T120000Z
LOCATION:Huis van de buurt Triton (Jasmijnstraat 36\, 8171 AP Vaassen)
SUMMARY:Inloop bijeenkomst
URL:https://hcc.nl/agenda/evenement/297-inloop-bijeenkomst
END:VEVENT
BEGIN:VEVENT
UID:20260422T062049UTC-0646aI5mZL@https://hcc.nl/
DTSTAMP:20260422T062049Z
DESCRIPTION:Dinsdag\, 04 april 2023\, 19:00 uur\nJe bent elke dinsdag- en d
 onderdagavond welkom in onze locatie NewTechPark\nDe dinsdag is voor de ma
 kers\, 3D-ontwerpen\, scannen en printen\, vaak zijn dat ook liefhebbers v
 an robotica\, drones en programmeren.\nAls je dinsdagavond tussen 19.00 en
  20.00 uur inlogt met Jitsi\, kun je kennismaken met hcc!3D. \nSoms kun je
  desgevraagd ook online meedoen met een activiteit.\nDat kan dan op:   htt
 ps://wij.hcc.nl/3D (Alleen toegang als je zichtbaar bent met voor- en acht
 ernaam. )\n  https://hcc.nl/agenda/evenement/299-bijeenkomst-3d
DTSTART:20230404T170000Z
DTEND:20230404T200000Z
LOCATION:NewTechPark (Vlijtseweg 148\, 7317 AK Apeldoorn)
SUMMARY:Bijeenkomst 3D
URL:https://hcc.nl/agenda/evenement/299-bijeenkomst-3d
END:VEVENT
BEGIN:VEVENT
UID:20260422T062049UTC-0647fTr8Xv@https://hcc.nl/
DTSTAMP:20260422T062049Z
DESCRIPTION:Dinsdag\, 04 april 2023\, 13:30 - 16:30 uur\nOp 4 april 2023 is
  er op de locatie Steenwijk\, Theater de Meenthe\, Stationsplein 1\, 8331 
 GM Steenwijk  weer een inloop bijeenkomst.\nU kunt daar terecht met vragen
  over computer hardware en software\, tablets\, gsm's etc. Wellicht zijn e
 r leden aanwezig die zich bezighouden met fotobewerkingssoftware of videob
 ewerking. We helpen elkaar bij eventuele vragen. Denk daarbij ook aan het 
 installeren van Linux Mint\, zoals dat uitgelegd is in de Workshop in maar
 t. De download van die Workshop kunt u krijgen op de site van HCC!Jssellan
 den.\nTijdens deze bijeenkomst zijn er werkgroepen actief:\nA. De werkgroe
 p Apple (in contact met HCC!apple). Vragen over hard- en software kunnen w
 orden gesteld.\nB. De werkgroep Raspberry Pi\n  https://hcc.nl/agenda/even
 ement/301-steenwijk-inloop
DTSTART:20230404T113000Z
DTEND:20230404T143000Z
LOCATION:Theater de Meenthe (Stationsplein 1\, 8331 GM Steenwijk)
SUMMARY:Steenwijk - Inloop
URL:https://hcc.nl/agenda/evenement/301-steenwijk-inloop
END:VEVENT
BEGIN:VEVENT
UID:20260422T062049UTC-0647mbGE9m@https://hcc.nl/
DTSTAMP:20260422T062049Z
DESCRIPTION:Zaterdag\, 01 april 2023 van 20:00 tot 22:30 uur\nContact : HCC
 !ZOB\nWe proberen de inns en outs van 3D printen onder de knie te krijgen\
 , zie contact. https://hcc.nl/agenda/evenement/303-3d-printen
DTSTART:20230401T180000Z
DTEND:20230401T203000Z
LOCATION:Wijkhuis de Westwijzer  (Cortenbachstraat 70\, 5707 TJ Helmond)
SUMMARY:3D printen
URL:https://hcc.nl/agenda/evenement/303-3d-printen
END:VEVENT
BEGIN:VEVENT
UID:20260422T062049UTC-0648A1xJvV@https://hcc.nl/
DTSTAMP:20260422T062049Z
DESCRIPTION:Maandag\, 03 april 2023\, 20:00 - 22:00 uur\nContact Bestuur No
 ord Limburg\nOp de eerste dinsdagavond van elke maand plant HCC!Hoord-Limb
 urg telkens een algemene activiteit in de vorm van een presentatie\, demon
 stratie of lezing.\nOnderwerp:\nWindows nader bekeken en e-mail-Instelling
 en in Windows programma’s\n  https://hcc.nl/agenda/evenement/305-algemene-
 activiteit
DTSTART:20230403T180000Z
DTEND:20230403T200000Z
LOCATION:De Witte Kerk (Agnes Huijnstraat 3\, 5914 PE Venlo)
SUMMARY:Algemene activiteit
URL:https://hcc.nl/agenda/evenement/305-algemene-activiteit
END:VEVENT
BEGIN:VEVENT
UID:20260422T062049UTC-0648Umi5bn@https://hcc.nl/
DTSTAMP:20260422T062049Z
DESCRIPTION:Maandag\, 03 april 2023 van 20:00 tot 22:00 uur\nContact : HCC!
 ZOB bestuur\nLezing over computergerelateerde onderwerpen.\nVoor meer info
 rmatie raadpleeg de website en abonneer u op de nieuwsbrief. https://hcc.n
 l/agenda/evenement/307-hcc-zob-avondlezing
DTSTART:20230403T180000Z
DTEND:20230403T200000Z
LOCATION:Wijkcentrum 't Slot (Kastelenplein 167\, 5653 LX Eindhoven)
SUMMARY:HCC!ZOB Avondlezing
URL:https://hcc.nl/agenda/evenement/307-hcc-zob-avondlezing
END:VEVENT
BEGIN:VEVENT
UID:20260422T062049UTC-0649pdgpiC@https://hcc.nl/
DTSTAMP:20260422T062049Z
DESCRIPTION:Maandag\, 03 april 2023\, 20:00 - 22:00 uur\nHeeft u een vraag 
 over of een probleem met uw Android apparaat? Onze deskundigen zitten klaa
 r om u te helpen.\n\nInstellingen aanpassen\nDownloaden van apps\nUpdaten 
 van apps\nInstellen van e-mail\n\nEn nog veel meer!\n  https://hcc.nl/agen
 da/evenement/308-inloop-android-hulp
DTSTART:20230403T180000Z
DTEND:20230403T200000Z
LOCATION: ()
SUMMARY:Inloop Android hulp.
URL:https://hcc.nl/agenda/evenement/308-inloop-android-hulp
END:VEVENT
BEGIN:VEVENT
UID:20260422T062049UTC-0649UUS1gg@https://hcc.nl/
DTSTAMP:20260422T062049Z
DESCRIPTION:Zaterdag\, 01 april 2023\, 11:00 - 16:00 uur\n   \nDe HCC!train
 sim organiseert maandelijks een bijeenkomst voor leden van de HCC in De Me
 ern. Introducees zijn ook welkom.\nVoor de bijeenkomst van 1 april 2023 ho
 ef je je niet aan te melden via onze website. Wij vragen je de bijeenkomst
  alleen te bezoeken als je geen coronagerelateerde klachten hebt en rekeni
 ng te houden met de andere deelnemers.\nDe zaal is open van 11.00 tot 16.0
 0 uur.\nHet programma voor deze dag is nog niet helemaal bekend en zal bin
 nenkort op onze website en in onze nieuwsbrief bekend worden gemaakt.\nDit
  item is bijgewerkt op 27 februari 2023 11.00 uur.\n https://hcc.nl/agenda
 /evenement/310-clubdag-de-meern
DTSTART:20230401T090000Z
DTEND:20230401T140000Z
LOCATION:Cultureel Centrum De Schalm (Oranjelaan 10\, 3454 BT De Meern)
SUMMARY:Clubdag De Meern
URL:https://hcc.nl/agenda/evenement/310-clubdag-de-meern
END:VEVENT
BEGIN:VEVENT
UID:20260422T062049UTC-0649XZVrhp@https://hcc.nl/
DTSTAMP:20260422T062049Z
DESCRIPTION:Woensdag\, 05 april 2023\, 10:00 - 12:00 uur\nHeeft u een vraag
  over of een probleem met uw Android apparaat? Onze deskundigen zitten kla
 ar om u te helpen.\n\nInstellingen aanpassen\nDownloaden van Apps\nUpdaten
  van Apps\nInstellen van e-mail\n\nEn nog veel meer!\n  https://hcc.nl/age
 nda/evenement/312-inloop-android-hulp
DTSTART:20230405T080000Z
DTEND:20230405T100000Z
LOCATION:Bibliotheek Gorinchem (Groenmarkt 1\, 4201 EE Gorinchem)
SUMMARY:Inloop Android hulp.
URL:https://hcc.nl/agenda/evenement/312-inloop-android-hulp
END:VEVENT
BEGIN:VEVENT
UID:20260422T062049UTC-0650VH1C8H@https://hcc.nl/
DTSTAMP:20260422T062049Z
DESCRIPTION:Maandag\, 03 april 2023\, 19:30 - 21:30 uur\n   \nOp maandagavo
 nd 3 april houdt HCC!apple haar jaarvergadering in Cultuurhuis Schoneveld 
  Houten\, Zonnehout 36.\nVanaf 19:30 uur kun je die deze vergadering en de
  daarop volgende presentatie over toegankelijkheid ook online bijwonen als
  je je hieronder aanmeldt.\nAls je fysiek aanwezig kunt zijn in Houten vra
 gen we je om jezelf hieronder niet aan te melden.\nTijdens die presentatie
  zal een lid met een visuele handicap uitleggen hoe hij dankzij de vele to
 egankelijkheidsopties van Apple toch zijn werk kan doen op een iPhone en i
 Pad.\nAanmelding voor deze online presentatie is (na inloggen) alleen moge
 lijk voor leden van HCC!apple. https://hcc.nl/agenda/evenement/314-jaarver
 gadering-hcc-apple-en-presentatie-toegankelijkheid
DTSTART:20230403T173000Z
DTEND:20230403T193000Z
LOCATION:Cultuurhuis Schoneveld Houten (Zonnehout 36\, 3991 MX Houten)
SUMMARY:Jaarvergadering HCC!apple en presentatie toegankelijkheid
URL:https://hcc.nl/agenda/evenement/314-jaarvergadering-hcc-apple-en-presen
 tatie-toegankelijkheid
END:VEVENT
BEGIN:VEVENT
UID:20260422T062049UTC-0650kCKV1B@https://hcc.nl/
DTSTAMP:20260422T062049Z
DESCRIPTION:Zondag\, 02 april 2023\, 10:00 - 17:00 uur\n  \nOp zaterdag 1 a
 pril en zondag 2 april 2023 organiseert de GrootSpoorGroep weer een uniek 
 festival voor de liefhebbers van grote modeltreinen.De locatie is: ‘’De Ho
 endrik’’\, Het Dorpsplein 22\, 6674 BW in Herveld.\nToegangsprijs vanaf 12
  jaar € 5\,-Kinderen van 4 - 12 jaar onder begeleiding van een volwassene:
  € 2\,-\nwww.grootspoorgroep.nl\nHCC!m zal daar ook aanwezig zijn https://
 hcc.nl/agenda/evenement/316-grootspoorgroep-festival-2023
DTSTART:20230401T080000Z
DTEND:20230402T150000Z
LOCATION:’De Hoendrik’’ (Het Dorpsplein 22\, 6674 BW Herveld)
SUMMARY:Grootspoorgroep Festival 2023
URL:https://hcc.nl/agenda/evenement/316-grootspoorgroep-festival-2023
END:VEVENT
BEGIN:VEVENT
UID:20260422T062049UTC-06511vxVMw@https://hcc.nl/
DTSTAMP:20260422T062049Z
DESCRIPTION:Zondag\, 02 april 2023\, 13:30 - 15:00 uur\n   \nDeze middag ga
 an we dronevliegen bij het Sybrandy’s Speelpark te Oudemirdum (Friesland).
  De uitdaging is om die middag aanwezige auto's van een autoclub te volgen
  en te filmen met je drone.\nAdres: Liemerige wei 4\, 8567 HM\, Oudemirdum
 \n\nWe verzamelen ons op het parkeerveld zoals in de link hieronder is aan
 gegeven.\nVolg de HCC!drones bordjes voor het juiste parkeervak.We hebben 
 een gelegenheid gekregen om de auto’s te filmen van een Citroen autoclub d
 ie hier die middag aanwezig is. Die rijden een kleine route terwijl wij me
 t de drones opnamen maken.Je kan hier zelf een invulling aan geven\, bijvo
 orbeeld filmen met je drone in active track mode of zelf volgen van een au
 to.\nHier een impressie filmpje van de omgeving.\nDe leden van de autoclub
  krijgen een kaartje die ze invullen met naam\, type auto en email adres e
 n/of eventueel telefoonnummer. Deze geven ze aan de drone operator waar ze
  een afspraak mee maken om hun te gaan filmen en volgen met hun drone.\nMe
 t de locatie is afgesproken dat we niet boven het speelpark zelf gaan vlie
 gen in verband met de veiligheid en privacy. Hou je hieraan als je komt.\n
 Hier een impressie videootje van de locaties.\nVoor versnaperingen kan je 
 terecht bij het cafetaria bij het strand.Aanmelden is verplicht via de lin
 k onderaan deze pagina (eerst inloggen).\nDit alles is onder voorbehoud va
 n goed vliegweer. De vrijdagmiddag ervoor gaan we beoordelen of het door k
 an gaan. Deelnemers die zich hebben ingeschreven krijgen vrijdag een beves
 tigingsmail.\nOpm: De club neemt geen aansprakelijkheid voor schade aan je
  drone of aan derden. Check altijd je eigen aansprakelijkheidsverzekering.
 Veel vliegplezier gewenst!\nExacte HCC!drones parkeer locatie:https://goo.
 gl/maps/sHPYTwmCtpxq2Mwt9\nU moet inloggen om uw komst te bevestigen. http
 s://hcc.nl/agenda/evenement/318-vliegmiddag-met-autoclub-in-gaasterland
DTSTART:20230402T113000Z
DTEND:20230402T130000Z
LOCATION:Liemerige wei 4\, 8567 HM\, Oudemirdum (Liemerige Wei 4\, 8567 HM 
 Oudemirdum)
SUMMARY:Vliegmiddag met autoclub in Gaasterland
URL:https://hcc.nl/agenda/evenement/318-vliegmiddag-met-autoclub-in-gaaster
 land
END:VEVENT
BEGIN:VEVENT
UID:20260422T062049UTC-065254s1Fe@https://hcc.nl/
DTSTAMP:20260422T062049Z
DESCRIPTION:Zaterdag\, 01 April 2023\, 13:00 - 17:00\nOp zaterdag 1 april h
 ouden we onze jaarlijkse ledenvergadering.\nDe zaalbijeenkomst begint om 1
 3:00. De vergadering begint rond 13:30\, als er voldoende leden aanwezig z
 ijn. De statuten vereisen dat minimaal 10 leden nodig zijn om een ALV te h
 ouden.\n  https://hcc.nl/agenda/evenement/320-alv
DTSTART:20230401T110000Z
DTEND:20230401T150000Z
LOCATION: ()
SUMMARY:ALV
URL:https://hcc.nl/agenda/evenement/320-alv
END:VEVENT
BEGIN:VEVENT
UID:20260422T062049UTC-0652Uhapel@https://hcc.nl/
DTSTAMP:20260422T062049Z
DESCRIPTION:Onze inloop is bedoeld voor iedereen die praktische hulp en ond
 ersteuning nodig heeft bij het gebruik van uw digitale apparatuur\, zoals 
 desktop\, laptop\, tablet en smartphone.Te denken valt aan:• opschonen van
  uw computer• updates downloaden• apps installeren• accounts aanmaken op u
 w apparaten(breng dan wel uw gegevens mee)• e-mail problemen.• instellinge
 n aanpassenOnze deskundigen zitten klaar om u met raad en daad terzijde te
  staan. https://hcc.nl/agenda/evenement/323-inloop-digitale-hulp
DTSTART:20230404T080000Z
DTEND:20230404T100000Z
LOCATION:Bibliotheek AanZet (Pietersweer 34\, 3371 PN Hardinxveld-Giessenda
 m)
SUMMARY:Inloop digitale hulp
URL:https://hcc.nl/agenda/evenement/323-inloop-digitale-hulp
END:VEVENT
BEGIN:VEVENT
UID:20260422T062049UTC-0653deHu3d@https://hcc.nl/
DTSTAMP:20260422T062049Z
DESCRIPTION:Onze inloop is bedoeld voor iedereen die praktische hulp en ond
 ersteuning nodig heeft bij het gebruik van uw digitale apparatuur\, zoals 
 desktop\, laptop\, tablet en smartphone.Te denken valt aan:\n\nopschonen v
 an uw computer \nupdates downloaden \napps installeren \naccounts aanmaken
  op uw apparaten (breng dan wel uw gegevens mee) \ne-mail problemen \ninst
 ellingen aanpassen. \n\nOnze deskundigen zitten klaar om u met raad en daa
 d terzijde te staan.\nVoor meer info over IDO\, volg deze link:Informatiep
 unt Digitale Overheid https://hcc.nl/agenda/evenement/327-inloop-digitale-
 hulp-ido
DTSTART:20230404T083000Z
DTEND:20230404T103000Z
LOCATION:Buurtkamer Stalkaarsen (Dokter Hiemstralaan 77\, 4205 KK Gorinchem
 )
SUMMARY:Inloop digitale hulp / IDO
URL:https://hcc.nl/agenda/evenement/327-inloop-digitale-hulp-ido
END:VEVENT
BEGIN:VEVENT
UID:20260422T062049UTC-0653VDtLm4@https://hcc.nl/
DTSTAMP:20260422T062049Z
DESCRIPTION:De smart tv neemt voor velen een belangrijke plaats in. De ontw
 ikkeling gaat snel en de mogelijkheden nemen enorm toe. Laat u zich hierdo
 or verleiden om\, wellicht eerder dan noodzakelijk\, uw tv te vervangen do
 or een moderner exemplaar? Laat u zich daarbij dan leiden door uw behoefte
  of door de gladde praatjes van de verkoper?Deze presentatie geeft u voldo
 ende informatie over de belangrijkste aspecten van een smart tv\, aan de h
 and waarvan u een betere keuze kunt maken: wel of geen nieuwe tv en\, kies
 t u voor een nieuwe tv\, welke. https://hcc.nl/agenda/evenement/331-smart-
 tv
DTSTART:20230405T113000Z
DTEND:20230405T133000Z
LOCATION:Het Kernhuis (Parkrand 60\, 6714 GN Ede)
SUMMARY:Smart TV
URL:https://hcc.nl/agenda/evenement/331-smart-tv
END:VEVENT
BEGIN:VEVENT
UID:20260422T062049UTC-0654Uejiss@https://hcc.nl/
DTSTAMP:20260422T062049Z
DESCRIPTION:Steeds meer worden digitale media gebruikt voor mededelingen wa
 arvoor vroeger gewoon de post het normale kanaal was. Ook de (semi-) overh
 eid maakt steeds meer gebruik van websites en apps. Deze lezing geeft een 
 overzicht van de meest gebruikte digitale overheidscommunicatie. Daarnaast
  wordt ook door verzekeringsmaatschappijen en pensioenorganisaties gebruik
  gemaakt van het Internet. Dit wordt niet besproken omdat het niet fundame
 nteel anders is dan bij de overheid. https://hcc.nl/agenda/evenement/335-o
 nze-digitale-wereld
DTSTART:20230405T120000Z
DTEND:20230405T140000Z
LOCATION:De Schans (Troelstradreef 160\, 5237 DE 's-Hertogenbosch)
SUMMARY:Onze Digitale Wereld
URL:https://hcc.nl/agenda/evenement/335-onze-digitale-wereld
END:VEVENT
BEGIN:VEVENT
UID:20260422T062049UTC-0654uEPKp2@https://hcc.nl/
DTSTAMP:20260422T062049Z
DESCRIPTION:Steeds meer worden digitale media gebruikt voor mededelingen wa
 arvoor vroeger gewoon de post het normale kanaal was. Ook de (semi-) overh
 eid maakt steeds meer gebruik van websites en apps. Deze lezing geeft een 
 overzicht van de meest gebruikte digitale overheidscommunicatie. Daarnaast
  wordt ook door verzekeringsmaatschappijen en pensioenorganisaties gebruik
  gemaakt van het Internet. Dit wordt niet besproken omdat het niet fundame
 nteel anders is dan bij de overheid. https://hcc.nl/agenda/evenement/337-o
 nze-digitale-wereld
DTSTART:20230404T110000Z
DTEND:20230404T140000Z
LOCATION:Speeltuin Pascal (Pascalweg 12\, 3076 JP Rotterdam)
SUMMARY:Onze Digitale Wereld
URL:https://hcc.nl/agenda/evenement/337-onze-digitale-wereld
END:VEVENT
BEGIN:VEVENT
UID:20260422T062049UTC-0654La3VMB@https://hcc.nl/
DTSTAMP:20260422T062049Z
DESCRIPTION:Steeds meer worden digitale media gebruikt voor mededelingen wa
 arvoor vroeger gewoon de post het normale kanaal was. Ook de (semi-) overh
 eid maakt steeds meer gebruik van websites en apps. Deze lezing geeft een 
 overzicht van de meest gebruikte digitale overheidscommunicatie. Daarnaast
  wordt ook door verzekeringsmaatschappijen en pensioenorganisaties gebruik
  gemaakt van het Internet. Dit wordt niet besproken omdat het niet fundame
 nteel anders is dan bij de overheid. https://hcc.nl/agenda/evenement/339-o
 nze-digitale-wereld
DTSTART:20230404T080000Z
DTEND:20230404T100000Z
LOCATION:Wijkcentrum Hatert (Couwenbergstraat 22\, 6535 RZ Nijmegen)
SUMMARY:Onze Digitale Wereld
URL:https://hcc.nl/agenda/evenement/339-onze-digitale-wereld
END:VEVENT
BEGIN:VEVENT
UID:20260422T062049UTC-0655Av6IoS@https://hcc.nl/
DTSTAMP:20260422T062049Z
DESCRIPTION:Steeds meer worden digitale media gebruikt voor mededelingen wa
 arvoor vroeger gewoon de post het normale kanaal was. Ook de (semi-) overh
 eid maakt steeds meer gebruik van websites en apps. Deze lezing geeft een 
 overzicht van de meest gebruikte digitale overheidscommunicatie. Daarnaast
  wordt ook door verzekeringsmaatschappijen en pensioenorganisaties gebruik
  gemaakt van het Internet. Dit wordt niet besproken omdat het niet fundame
 nteel anders is dan bij de overheid. https://hcc.nl/agenda/evenement/341-o
 nze-digitale-wereld
DTSTART:20230401T080000Z
DTEND:20230401T100000Z
LOCATION:Wijkcentrum 't Holleblok (Holleblok 2\, 1273 EG Huizen)
SUMMARY:Onze Digitale Wereld
URL:https://hcc.nl/agenda/evenement/341-onze-digitale-wereld
END:VEVENT
BEGIN:VEVENT
UID:20260422T062049UTC-0655m5ULbV@https://hcc.nl/
DTSTAMP:20260422T062049Z
DESCRIPTION:Onze inloop is bedoeld voor iedereen die praktische hulp en ond
 ersteuning nodig heeft bij het gebruik van uw digitale apparatuur\, zoals 
 desktop\, laptop\, tablet en smartphone.Te denken valt aan:• opschonen van
  uw computer• updates downloaden• apps installeren• accounts aanmaken op u
 w apparaten(breng dan wel uw gegevens mee)• e-mail problemen.• instellinge
 n aanpassenOnze deskundigen zitten klaar om u met raad en daad terzijde te
  staan. https://hcc.nl/agenda/evenement/343-inloop-digitale-hulp
DTSTART:20230405T173000Z
DTEND:20230405T193000Z
LOCATION:Wijkcentrum De Akkers (Lenteakker 5\, 3206 TB Spijkenisse)
SUMMARY:Inloop Digitale Hulp
URL:https://hcc.nl/agenda/evenement/343-inloop-digitale-hulp
END:VEVENT
BEGIN:VEVENT
UID:20260422T062049UTC-0656659P77@https://hcc.nl/
DTSTAMP:20260422T062049Z
DESCRIPTION:Het is volop in de aandacht op dit moment. Teksten maken met he
 t ChatGPT programma.\nChatGPT is een AI-model dat is ontwikkeld door OpenA
 I en is een type Natural Language Processing (NLP)-model. Het is gespecial
 iseerd in taalverwerking en kan daarom taalvaardigheden vertonen\, zoals a
 ntwoorden geven op vragen\, gesprekken voeren en tekst genereren.\nEen bel
 angrijk voordeel van ChatGPT is dat het een enorme hoeveelheid kennis heef
 t opgeleverd tijdens het trainingsproces. Dit betekent dat het model in st
 aat is om antwoorden te geven op vragen over een breed scala aan onderwerp
 en\, waaronder wetenschap\, technologie\, geschiedenis en vele andere.\nOm
  deel te nemen\, moet u zich vooraf aanmelden. Log in met uw HCC account i
 n de rechterkolom en klik hieronder op AANMELDEN. https://hcc.nl/agenda/ev
 enement/345-webinar-meer-over-chatgpt
DTSTART:20230405T113000Z
DTEND:20230405T123000Z
LOCATION:Speeltuin Pascal (Pascalweg 12\, 3076 JP Rotterdam)
SUMMARY:Webinar: Meer over ChatGPT
URL:https://hcc.nl/agenda/evenement/345-webinar-meer-over-chatgpt
END:VEVENT
BEGIN:VEVENT
UID:20260422T062049UTC-0656dRRVSI@https://hcc.nl/
DTSTAMP:20260422T062049Z
DESCRIPTION:Dinsdag\, 04 april 2023 van 20:00 tot 22:30 uur\nContact : Het 
 bestuur\nOp dinsdag 4 april organiseert HCC!Noord-Limburg i.s.m. collega's
  van HCC!Groningen en HCC!Friesland de presentatie ‘Energiekosten bekijken
  met slimme meter’ (dit is de inhaalslag van vorige maand\, toen we proble
 men hadden met de Jitsi webinar software).\nDeze presentatie zal online\, 
 als webinar en bij HCC!friesland fysiek gegeven worden door Roel Tiemersma
  uit Friesland en bij HCC!Noord-Limburg via Jitsi als webinar. Geïnteresse
 erden kunnen de presentatie dus vanuit thuis bijwonen\, maar waarbij wij a
 ls Noord-Limburg de presentatie tevens op onze beamer tonen zodat we ook f
 ysieke bezoekers kunnen ontvangen. De presentator heeft op deze manier al 
 vaker gewerkt en heeft daar dus positieve ervaringen mee.\nInfo over de pr
 esentatie:\nIn deze tijd van energieschaarste en stijgende prijs is het va
 n wezenlijk belang\, dat we besparen en minder uitgeven.\nDe presentatie b
 estaat uit 2 delen:\n\nRoel Tiemersma van de regio Fryslân vertelt en laat
  zien hoe je via internet op je telefoon je slimme meter kunt uitlezen en 
 ook kunt zien wat je zonnepanelen hebben opgeleverd.\nJan Boerema van de r
 egio Groningen vertelt en laat zien hoe de Raspberry Pi gebruikt om je sli
 mme meter uit te lezen en een periode-overzicht krijgt van het stroomgebru
 ik.\n\nDe presentaties komen voor alle leden achteraf beschikbaar in ons D
 ownload deel v/d website.\nJe hoeft je voor deze online presentatie niet v
 an te voren aan te melden\, vanaf ca. 19.45 uur op 4 april zal de Jitsi we
 binar link gepubliceerd worden op de voorpagina van HCC!Noord-Limburg. htt
 ps://hcc.nl/agenda/evenement/371-presentatie-energiekosten-bekijken-met-sl
 imme-meter
DTSTART:20230404T180000Z
DTEND:20230404T203000Z
LOCATION:Zalencentrum De Witte Kerk (Agnes Huijnstraat 3\, 5914 PE Venlo)
SUMMARY:Presentatie ‘Energiekosten bekijken met slimme meter’ 
URL:https://hcc.nl/agenda/evenement/371-presentatie-energiekosten-bekijken-
 met-slimme-meter
END:VEVENT
BEGIN:VEVENT
UID:20260422T062049UTC-0657G4VWEJ@https://hcc.nl/
DTSTAMP:20260422T062049Z
DESCRIPTION:Maandag\, 03 April 2023\, 19:30 - 22:00 uur\nContact mail@airwo
 rld.nl\n       \nBijeenkomst FS Rijnmond\nNaast MSFS2020 zijn er nog ander
 e aanbieders van flightsimulatoren waaronder X-Plane. Op deze bijeenkomst 
 zal Ruuth Brouwer ons kennis laten maken met versie 12.\nOp welke computer
  systemen kan X-Plane12 draaien\, hoe krachtig (grafisch) moeten deze zijn
 \, hoe verloopt een installatie\, welke vliegtuigen\, scenery en addons zi
 jn er beschikbaar?\nVerder ruimte voor uitwisseling van ervaringen en het 
 met elkaar oplossen van mogelijke probleempjes.\nWil je een item in de gro
 ep toelichten? Graag!  mail@airworld.nl\nMeer weten? kijk dan op www.fsrij
 nmond.nl en daar op onze recentste Nieuwsbrief - Dirk Simon Coordinatie   
           \n  https://hcc.nl/agenda/evenement/377-flightsim-rijnmond
DTSTART:20230403T173000Z
DTEND:20230403T200000Z
LOCATION:Oostgaarde  (De Linie 5\, 2905 AX Capelle aan den IJssel)
SUMMARY:Flightsim Rijnmond
URL:https://hcc.nl/agenda/evenement/377-flightsim-rijnmond
END:VEVENT
END:VCALENDAR
