BEGIN:VCALENDAR
VERSION:2.0
PRODID:-//https://hcc.nl///NONSGML kigkonsult.se iCalcreator 2.10.15//
METHOD:PUBLISH
BEGIN:VEVENT
UID:20260425T200159UTC-2070LGRmpV@https://hcc.nl/
DTSTAMP:20260425T200159Z
DESCRIPTION:Onze inloop is bedoeld voor iedereen die praktische hulp en ond
 ersteuning nodig heeft bij het gebruik van uw digitale apparatuur\, zoals 
 desktop\, laptop\, tablet en smartphone.Te denken valt aan:• opschonen van
  uw computer• updates downloaden• apps installeren• accounts aanmaken op u
 w apparaten(breng dan wel uw gegevens mee)• e-mail problemen.• instellinge
 n aanpassenOnze deskundigen zitten klaar om u met raad en daad terzijde te
  staan. https://hcc.nl/agenda/evenement/1295-inloop-digitale-hulp
DTSTART:20240402T080000Z
DTEND:20240402T100000Z
LOCATION:Bibliotheek Hardinxveld-Giessendam (Pietersweer 34\, 3371 PN Hardi
 nxveld-Giessendam)
SUMMARY:Inloop digitale hulp
URL:https://hcc.nl/agenda/evenement/1295-inloop-digitale-hulp
END:VEVENT
BEGIN:VEVENT
UID:20260425T200159UTC-2071zbhRFl@https://hcc.nl/
DTSTAMP:20260425T200159Z
DESCRIPTION:Geen inloop ivm 2e Paasdag https://hcc.nl/agenda/evenement/1831
 -geen-inloop-android-hulp-ivm-2e-paasdag
DTSTART:20240401T180000Z
DTEND:20240401T200000Z
LOCATION:Huis van de Wijk Oostgaarde (De Linie 5\, 2905 AX Capelle aan den 
 IJssel)
SUMMARY:Geen inloop Android hulp ivm 2e Paasdag
URL:https://hcc.nl/agenda/evenement/1831-geen-inloop-android-hulp-ivm-2e-pa
 asdag
END:VEVENT
BEGIN:VEVENT
UID:20260425T200159UTC-2072lKNbVH@https://hcc.nl/
DTSTAMP:20260425T200159Z
DESCRIPTION:Onze inloop is bedoeld voor iedereen die praktische hulp en ond
 ersteuning nodig heeft bij het gebruik van uw digitale apparatuur\, zoals 
 desktop\, laptop\, tablet en smartphone.Te denken valt aan:• opschonen van
  uw computer• updates downloaden• apps installeren• accounts aanmaken op u
 w apparaten (breng dan wel uw gegevens mee)• e-mail problemen.• instelling
 en aanpassenOnze deskundigen zitten klaar om u met raad en daad terzijde t
 e staan. https://hcc.nl/agenda/evenement/2318-inloop-digitale-hulp
DTSTART:20240402T113000Z
DTEND:20240402T140000Z
LOCATION:Activiteitencentrum Orka  (Broekakkerseweg 1\, 5641 PC Eindhoven)
SUMMARY:Inloop digitale Hulp
URL:https://hcc.nl/agenda/evenement/2318-inloop-digitale-hulp
END:VEVENT
BEGIN:VEVENT
UID:20260425T200159UTC-207387kMvw@https://hcc.nl/
DTSTAMP:20260425T200159Z
DESCRIPTION:Onze inloop is bedoeld voor iedereen die praktische hulp en ond
 ersteuning nodig heeft bij het gebruik van uw tablet en smartphone.\nTe de
 nken valt aan:- apps installeren- accounts aanmaken op uw apparaten (breng
  dan uw inloggegevens mee)- E-mail problemen.- Instellingen aanpassenZowel
  voor Apple\, Android als Windows!\nOnze deskundigen zitten klaar om u met
  raad en daad terzijde te staan. https://hcc.nl/agenda/evenement/2647-inlo
 op-digitale-hulp
DTSTART:20240404T073000Z
DTEND:20240404T090000Z
LOCATION:Wijkcentrum Rozenobel (Dukatenplein 2\, 4205 GE Gorinchem)
SUMMARY:Inloop Digitale Hulp
URL:https://hcc.nl/agenda/evenement/2647-inloop-digitale-hulp
END:VEVENT
BEGIN:VEVENT
UID:20260425T200159UTC-20750UpN6f@https://hcc.nl/
DTSTAMP:20260425T200159Z
DESCRIPTION:Veel Interessegroepen staan weer klaar om bezoekers te informer
 en en te amuseren. Het belooft voor jong en oud een interactieve en leerza
 me dag te worden.\nWij zullen ons tijdens deze HCC!kennisdag wederom profi
 leren als het meest veelzijdige kenniscentrum over alles dat digitaal is. 
 Tijdens deze dag leer je hoe jij je huis slimmer maakt of maak kennis met 
 de nieuwste vliegsimulators en drones. \nEn natuurlijk ben je ook van hart
 e welkom tijdens de vele presentaties en workshops die we exclusief en gra
 tis aan onze HCC-leden aanbieden. Deze zijn te volgen in de verschillende 
 zalen op de bovenverdieping. Op de benedenverdieping presenteren de versch
 illende Interessegroepen zich.\nKijk op hcc.nl/kennisdag voor actuele info
 rmatie. https://hcc.nl/agenda/evenement/3191-hcc-kennisdag
DTSTART:20240330T090000Z
DTEND:20240330T140000Z
LOCATION:Expo Houten (Meidoornkade 24\, 3992 AE Houten)
SUMMARY:HCC!kennisdag
URL:https://hcc.nl/agenda/evenement/3191-hcc-kennisdag
END:VEVENT
BEGIN:VEVENT
UID:20260425T200159UTC-2076kbhSUa@https://hcc.nl/
DTSTAMP:20260425T200159Z
DESCRIPTION:In verband met 2e Paasdag is er geen inkoop. \nDe Helpdesk is v
 an dinsdag t/m vrijdag bereikbaar via 085-0441808 https://hcc.nl/agenda/ev
 enement/3423-geen-digitale-inloop-leersum-2e-paasdag
DTSTART:20240401T130000Z
DTEND:20240401T143000Z
LOCATION:Bibliotheek Leersum  (Hoflaan 31\, 3956 ED Leersum)
SUMMARY:Geen digitale inloop Leersum - 2e Paasdag
URL:https://hcc.nl/agenda/evenement/3423-geen-digitale-inloop-leersum-2e-pa
 asdag
END:VEVENT
BEGIN:VEVENT
UID:20260425T200159UTC-2077ioHUL4@https://hcc.nl/
DTSTAMP:20260425T200159Z
DESCRIPTION:Geen inloop ivm 2e Paasdag https://hcc.nl/agenda/evenement/3675
 -hcc-apple-geen-inloop-ivm-2e-paasdag
DTSTART:20240401T183000Z
DTEND:20240401T210000Z
LOCATION:Cultuurhuis Schoneveld Houten (Zonnehout 36\, 3991 MX Houten)
SUMMARY:HCC!apple - Geen inloop ivm 2e Paasdag
URL:https://hcc.nl/agenda/evenement/3675-hcc-apple-geen-inloop-ivm-2e-paasd
 ag
END:VEVENT
BEGIN:VEVENT
UID:20260425T200159UTC-2078PXtNbP@https://hcc.nl/
DTSTAMP:20260425T200159Z
DESCRIPTION:\nSmartphonefotografie is tegenwoordig een ware kunstvorm gewor
 den\, waarbij de kwaliteit van de camera's in mobiele telefoons enorm is v
 erbeterd. Het is een toegankelijke manier om je creativiteit te uiten en b
 ijzondere momenten vast te leggen. Met de juiste technieken en een paar ha
 ndige tips kan iedereen met een smartphone prachtige foto's maken. Het is 
 leuk voor zowel amateurfotografen als professionals\, want met een smartph
 one in je broekzak ben je altijd klaar om dat ene perfecte shot te vangen.
 \nBrigitte van Berkel zal woensdagavond 3 april een mooie demonstratie en 
 presentatie geven over smartphonefotografie.\nDeze avond komen de volgende
  onderwerpen aan bod:\n\nBasisregels fotografie\nTips smartphone\nApps\nFo
 tobeheer\n https://hcc.nl/agenda/evenement/4031-lezing-fotografie-met-smar
 tphone
DTSTART:20240403T180000Z
DTEND:20240403T200000Z
LOCATION: ()
SUMMARY:Lezing fotografie met smartphone
URL:https://hcc.nl/agenda/evenement/4031-lezing-fotografie-met-smartphone
END:VEVENT
BEGIN:VEVENT
UID:20260425T200159UTC-2079XvmDec@https://hcc.nl/
DTSTAMP:20260425T200159Z
DESCRIPTION:Vandaag is het 1e Paasdag\, dus zijn er geen HCC-bijeenkomsten.
  https://hcc.nl/agenda/evenement/4085-1e-paasdag
DTSTART:20240331T070000Z
DTEND:20240331T213000Z
LOCATION: ()
SUMMARY:1e Paasdag
URL:https://hcc.nl/agenda/evenement/4085-1e-paasdag
END:VEVENT
BEGIN:VEVENT
UID:20260425T200159UTC-2079SwV4TA@https://hcc.nl/
DTSTAMP:20260425T200159Z
DESCRIPTION:Vandaag is het 2e Paasdag\, dus zijn er geen HCC-bijeenkomsten.
  https://hcc.nl/agenda/evenement/4087-2e-paasdag-geen-hcc-bijeenkomsten
DTSTART:20240401T070000Z
DTEND:20240401T213000Z
LOCATION: ()
SUMMARY:2e Paasdag - geen HCC-bijeenkomsten
URL:https://hcc.nl/agenda/evenement/4087-2e-paasdag-geen-hcc-bijeenkomsten
END:VEVENT
BEGIN:VEVENT
UID:20260425T200159UTC-20806lGDCi@https://hcc.nl/
DTSTAMP:20260425T200159Z
DESCRIPTION:SInloop bijeenkomst van 13.30 -16.30 uur.\nOok deze keer kunt u
  terecht met vragen over computer hardware en software\, tablets\, gsm's e
 tc. Wellicht zijn er leden aanwezig die zich bezig houden met fotobewerkin
 gssoftware of videobewerking. We helpen elkaar bij eventuele vragen. https
 ://hcc.nl/agenda/evenement/4101-hcc-ijssellanden-inloop-met-werkgroepen
DTSTART:20240402T123000Z
DTEND:20240402T153000Z
LOCATION:Theater de Meenthe (Stationsplein 1\, 8331 GM Steenwijk)
SUMMARY:HCC!ijssellanden inloop met werkgroepen
URL:https://hcc.nl/agenda/evenement/4101-hcc-ijssellanden-inloop-met-werkgr
 oepen
END:VEVENT
BEGIN:VEVENT
UID:20260425T200159UTC-2081aCmiwU@https://hcc.nl/
DTSTAMP:20260425T200159Z
DESCRIPTION:Speciale inloopbijeenkomst. We gaan elkaar enkele computerprogr
 amma's laten zien\, die misschien ook handig zijn voor anderen. Neem uw fa
 voriete programma mee om te laten zien. Zie ook het verhaal in de inleidin
 g.\n  https://hcc.nl/agenda/evenement/4111-hcc-ijssellanden-inloop-met-wer
 kgroepen
DTSTART:20240404T183000Z
DTEND:20240404T210000Z
LOCATION: ()
SUMMARY:HCC!ijssellanden inloop met werkgroepen
URL:https://hcc.nl/agenda/evenement/4111-hcc-ijssellanden-inloop-met-werkgr
 oepen
END:VEVENT
BEGIN:VEVENT
UID:20260425T200159UTC-2082M7VJbh@https://hcc.nl/
DTSTAMP:20260425T200159Z
DESCRIPTION:Een van de oudste behoeften van de PC is om tegen de computer t
 e kunnen praten. Geen gedoe met muis en toetsenbord\, maar gewoon praten t
 egen een computer die je dan nog verstaat ook. Maar kan dit nu ook echt?Ie
 dereen heeft vast weleens de behoefte gehad eens flink tegen zijn computer
  te schreeuwen. Maar het gekke is dat dit tegenwoordig niet alleen kan\, m
 aar dat die computer het nog verstaat ook. Spraakherkenning is daarbij de 
 achterliggende techniek die maakt dat een computer (maar ook een smartphon
 e\, andere slimme apparaten of zelfs de routeplanner in de auto (we beperk
 en ons hier echter tot Windows!) de menselijke stem verstaat en omzet in g
 eschreven tekst of een uit te voeren actie. https://hcc.nl/agenda/evenemen
 t/4221-spraakherkenning-in-windows
DTSTART:20240404T080000Z
DTEND:20240404T100000Z
LOCATION:Kruiskerk (Mesdagplein 4\, 3443 CD Woerden)
SUMMARY:Spraakherkenning in Windows
URL:https://hcc.nl/agenda/evenement/4221-spraakherkenning-in-windows
END:VEVENT
BEGIN:VEVENT
UID:20260425T200159UTC-2083RUUvWa@https://hcc.nl/
DTSTAMP:20260425T200159Z
DESCRIPTION:Een van de oudste behoeften van de PC is om tegen de computer t
 e kunnen praten. Geen gedoe met muis en toetsenbord\, maar gewoon praten t
 egen een computer die je dan nog verstaat ook. Maar kan dit nu ook echt?Ie
 dereen heeft vast weleens de behoefte gehad eens flink tegen zijn computer
  te schreeuwen. Maar het gekke is dat dit tegenwoordig niet alleen kan\, m
 aar dat die computer het nog verstaat ook. Spraakherkenning is daarbij de 
 achterliggende techniek die maakt dat een computer (maar ook een smartphon
 e\, andere slimme apparaten of zelfs de routeplanner in de auto (we beperk
 en ons hier echter tot Windows!) de menselijke stem verstaat en omzet in g
 eschreven tekst of een uit te voeren actie. https://hcc.nl/agenda/evenemen
 t/4223-spraakherkenning-in-windows
DTSTART:20240402T110000Z
DTEND:20240402T140000Z
LOCATION:Speeltuin Pascal (Pascalweg 12\, 3076 JP Rotterdam)
SUMMARY:Spraakherkenning in Windows
URL:https://hcc.nl/agenda/evenement/4223-spraakherkenning-in-windows
END:VEVENT
BEGIN:VEVENT
UID:20260425T200159UTC-2084CnUVU3@https://hcc.nl/
DTSTAMP:20260425T200159Z
DESCRIPTION:Een van de oudste behoeften van de PC is om tegen de computer t
 e kunnen praten. Geen gedoe met muis en toetsenbord\, maar gewoon praten t
 egen een computer die je dan nog verstaat ook. Maar kan dit nu ook echt?Ie
 dereen heeft vast weleens de behoefte gehad eens flink tegen zijn computer
  te schreeuwen. Maar het gekke is dat dit tegenwoordig niet alleen kan\, m
 aar dat die computer het nog verstaat ook. Spraakherkenning is daarbij de 
 achterliggende techniek die maakt dat een computer (maar ook een smartphon
 e\, andere slimme apparaten of zelfs de routeplanner in de auto (we beperk
 en ons hier echter tot Windows!) de menselijke stem verstaat en omzet in g
 eschreven tekst of een uit te voeren actie. https://hcc.nl/agenda/evenemen
 t/4225-spraakherkenning-in-windows
DTSTART:20240402T080000Z
DTEND:20240402T100000Z
LOCATION:Wijkcentrum Hatert (Couwenbergstraat 22\, 6535 RZ Nijmegen)
SUMMARY:Spraakherkenning in Windows
URL:https://hcc.nl/agenda/evenement/4225-spraakherkenning-in-windows
END:VEVENT
BEGIN:VEVENT
UID:20260425T200159UTC-2085KaSCgi@https://hcc.nl/
DTSTAMP:20260425T200159Z
DESCRIPTION:Onze inloop is bedoeld voor iedereen die praktische hulp en ond
 ersteuning nodig heeft bij het gebruik van uw digitale apparatuur\, zoals 
 desktop\, laptop\, tablet en smartphone.Te denken valt aan:opschonen van u
 w computerupdates downloadenapps installerenaccounts aanmaken op uw appara
 ten(breng dan wel uw gegevens mee)e-mail problemen.instellingen aanpassenO
 nze deskundigen zitten klaar om u met raad en daad terzijde te staan. http
 s://hcc.nl/agenda/evenement/4243-inloop-digitale-hulp
DTSTART:20240404T113000Z
DTEND:20240404T133000Z
LOCATION:De Schans (Troelstradreef 160\, 5237 DE 's-Hertogenbosch)
SUMMARY:Inloop Digitale Hulp
URL:https://hcc.nl/agenda/evenement/4243-inloop-digitale-hulp
END:VEVENT
BEGIN:VEVENT
UID:20260425T200159UTC-2086asOani@https://hcc.nl/
DTSTAMP:20260425T200159Z
DESCRIPTION:Op 26 september 2023 heeft Microsoft een cumulatieve update voo
 r Windows 11 (KB5030310) vrijgegeven. Is dit de langverwachte 23H2 upgrade
 ? Helemaal duidelijk is dat niet. Hiermee werden in elk geval wel een aant
 al nieuwe functies aan Windows 11 toegevoegd waarvan verwacht werd dat ze 
 onderdeel van deze upgrade zouden zijn. Een aantal waren direct actief\, e
 en aantal andere waren dat niet en zijn later stuk voor stuk beschikbaar g
 emaakt via verdere updates. Zo langzamerhand zijn ze allemaal actief gewor
 den. Het loont in elk geval de moeite om de meest belangrijke eens nader t
 e gaan bekijken en te zien wat Windows 11 vanaf nu allemaal te bieden heef
 t.\nPolarsteps\nWoensdag 3 april 14:00 tot 16:00\nSCC De SchansTroelstradr
 eef 1605237 DE 's-Hertogenbosch\nPolarsteps is een website- en/of smartpho
 ne-app die u de mogelijkheid biedt uw vakantiebelevenissen overzichtelijk
  en mooi gepresenteerd in een reisdagboek te zetten. Dit alles compleet me
 t de foto’s die u gemaakt heeft\; de teksten die u toevoegt en een kaart w
 aarop de locaties staan die u bezocht heeft en waarop via GPS bijgehouden 
 wordt hoe u er gekomen bent https://hcc.nl/agenda/evenement/4245-windows11
 -update-2023h2
DTSTART:20240403T120000Z
DTEND:20240403T140000Z
LOCATION:De Schans (Troelstradreef 160\, 5237 DE 's-Hertogenbosch)
SUMMARY:Windows11 Update 2023H2
URL:https://hcc.nl/agenda/evenement/4245-windows11-update-2023h2
END:VEVENT
BEGIN:VEVENT
UID:20260425T200159UTC-2092jAeHmC@https://hcc.nl/
DTSTAMP:20260425T200159Z
DESCRIPTION:Heeft u een vraag over of een probleem met uw Android apparaat?
  Onze deskundigen zitten klaar om u te helpen.\n\nInstellingen aanpassen\n
 Downloaden van apps\nUpdaten van Apps\nInstellen van e-mail\nEn nog veel m
 eer!\n https://hcc.nl/agenda/evenement/4434-inloop-android-hulp
DTSTART:20240403T090000Z
DTEND:20240403T110000Z
LOCATION:Bibliotheek Gorinchem (Groenmarkt 1\, 4201 EE Gorinchem)
SUMMARY:Inloop Android hulp
URL:https://hcc.nl/agenda/evenement/4434-inloop-android-hulp
END:VEVENT
BEGIN:VEVENT
UID:20260425T200159UTC-20932kIZSH@https://hcc.nl/
DTSTAMP:20260425T200159Z
DESCRIPTION:Handige Apps & Diensten \nIedereen kent en gebruikt wel apps (=
 programma's) en online diensten op het internet waar je veel gemak en plez
 ier van hebt. Sommige apps zijn alleen beschikbaar voor Windowscomputers\,
  andere alleen voor IOS/Mac/Appleapparaten. Gelukkig zijn er ook die op be
 ide besturingssystemen draaien.\nOnline diensten zijn via de door jou gebr
 uikte browser beschikbaar voor alle platforms.\nWe willen een aantal toepa
 ssingen laten zien\, maar het lijkt ons het meest instructief om met en aa
 n elkaar onze ervaringen te delen en uit te wisselen.\nBij het invullen va
 n je belastingformulier heb je DigiD nodig\; ook bij het inloggen op versc
 hillende belangrijke sites moet je DigiD gebruiken. Betalen met je telefoo
 n kan ook. En hoe gaat streamen ook alweer?. Iets opzoeken op internet kan
  heel veel nut hebben. Wat zijn de mogelijkheden van WhatsApp (niet alleen
  berichtjes versturen maar bijv. ook telefoneren en beeldbellen). En hoe b
 ewerk ik foto’s op mij smartphone\, hoe herken ik fake-mails\, etc. etc.\n
 Denk ook aan ToDo\, GoogleTranslate\, GoogleMaps en TopoTijdreis.\nMaar na
 tuurlijk horen we graag\, op (zeer) korte termijn\, welke vragen of sugges
 ties jullie hebben.  Laat ons dat weten\, dan kunnen we dat meenemen.\nAll
 es interactief dus!\nAls je nieuwsgierig bent geworden\, kom dan op woensd
 ag 3 april naar de bijeenkomst van de HCC Seniorenacademie in Ede. Plaats:
  Het Kernhuis\, Parkrand 60 Tijd: 13:30 uur\nHeeft U een vraag?  Die kunt 
 U mailen naar Cobie van de Ven j.h.m.van.de.ven@kader.hcc.nl Dan kunnen we
  uw vraag in het programma opnemen.\nU bent welkom in Het Kernhuis\, Parkr
 and 60\, 6714 GN Ede\, om 13:30 uur Er zullen ook weer diverse syllabi te 
 koop zijn voor € 2\,00. Vergeet niet uw ledenpas mee te nemen.\nSyllabi va
 n vorige presentaties kunt u bij mij aanvragen: m.treurniet@hccnet.nl http
 s://hcc.nl/agenda/evenement/4472-handige-apps-en-diensten
DTSTART:20240403T113000Z
DTEND:20240403T133000Z
LOCATION:Het Kernhuis (Parkrand 60\, 6714 GN Ede)
SUMMARY:Handige apps en diensten
URL:https://hcc.nl/agenda/evenement/4472-handige-apps-en-diensten
END:VEVENT
BEGIN:VEVENT
UID:20260425T200159UTC-2095Z3ULuZ@https://hcc.nl/
DTSTAMP:20260425T200159Z
DESCRIPTION:Alle werkgroepen zijn aanwezig. De meesten verzorgen maandelijk
 s de presentatie. De Borduurgroep of misschien liever de werkgroep Creatie
 ve Werkvormen bezet elke week zelfs een aparte zaal. https://hcc.nl/agenda
 /evenement/4490-hcc-apeldoorn-inloop-voor-alle-werkgroepen
DTSTART:20240404T180000Z
DTEND:20240404T213000Z
LOCATION:NewTechPark (Vlijtseweg 148\, 7317 AK Apeldoorn)
SUMMARY:HCC!apeldoorn - Inloop voor alle werkgroepen
URL:https://hcc.nl/agenda/evenement/4490-hcc-apeldoorn-inloop-voor-alle-wer
 kgroepen
END:VEVENT
BEGIN:VEVENT
UID:20260425T200159UTC-20960a8zzb@https://hcc.nl/
DTSTAMP:20260425T200159Z
DESCRIPTION:Het onderwerp deze avond is:\nVeranderingen in het aanbod van d
 e NGV  door:  Peter van Boheemen\, voorzitter van de NGV\nIn de afgelopen 
 10 jaar is het beoefenen van de genealogie sterk veranderd. De NGV (Nederl
 andse Genealogische Vereniging) die inmiddels al bijna 80 jaar bestaat\, h
 eeft haar aanbod hierop aangepast.\nHet accent ligt nu op Actieve Educatie
  en het digitaal doorzoekbaar aanbieden van de collecties op haar website.
 \nVoorzitter Peter van Boheemen zal het nieuwe programma aan educatieve ac
 tiviteiten\, waaronder de NGV Academie en de Online Talkshow\, toelichten 
 en de zoekmogelijkheden op de NGV-website demonstreren. https://hcc.nl/age
 nda/evenement/4496-hcc-apeldoorn-genealogie
DTSTART:20240404T173000Z
DTEND:20240404T200000Z
LOCATION:NewTechPark (Vlijtseweg 148\, 7317 AK Apeldoorn)
SUMMARY:HCC!apeldoorn - Genealogie
URL:https://hcc.nl/agenda/evenement/4496-hcc-apeldoorn-genealogie
END:VEVENT
BEGIN:VEVENT
UID:20260425T200159UTC-2098DpJtKr@https://hcc.nl/
DTSTAMP:20260425T200159Z
DESCRIPTION:We houden weer een online Liberty Basic sessie.\nAanmelden is n
 iet nodig. Zie dit artikel voor meer informatie. https://hcc.nl/agenda/eve
 nement/4584-hcc-programmeren-liberty-basic-sessie
DTSTART:20240403T180000Z
DTEND:20240403T210000Z
LOCATION:Online ()
SUMMARY:HCC!programmeren - Liberty Basic sessie
URL:https://hcc.nl/agenda/evenement/4584-hcc-programmeren-liberty-basic-ses
 sie
END:VEVENT
BEGIN:VEVENT
UID:20260425T200159UTC-2099awPN67@https://hcc.nl/
DTSTAMP:20260425T200159Z
DESCRIPTION:We houden weer een online algemene sessie.\nAanmelden is niet n
 odig. Zie dit artikel voor meer informatie. https://hcc.nl/agenda/evenemen
 t/4592-hcc-programmeren-algemene-sessie
DTSTART:20240402T173000Z
DTEND:20240402T200000Z
LOCATION:Online ()
SUMMARY:HCC!programmeren - algemene sessie 
URL:https://hcc.nl/agenda/evenement/4592-hcc-programmeren-algemene-sessie
END:VEVENT
BEGIN:VEVENT
UID:20260425T200159UTC-2100Fg53m7@https://hcc.nl/
DTSTAMP:20260425T200159Z
DESCRIPTION:Onze inloop is bedoeld voor iedereen die praktische hulp en ond
 ersteuning nodig heeft bij het gebruik van uw digitale apparatuur\, zoals 
 desktop\, laptop\, tablet en smartphone.Te denken valt aan:opschonen van u
 w computerupdates downloadenapps installerenaccounts aanmaken op uw appara
 ten(breng dan wel uw gegevens mee)e-mail problemen.instellingen aanpassenO
 nze deskundigen zitten klaar om u met raad en daad terzijde te staan. http
 s://hcc.nl/agenda/evenement/4634-inloop-digitale-hulp
DTSTART:20240402T110000Z
DTEND:20240402T130000Z
LOCATION:Bibliotheek Leerdam (Meent 40\, 4141 AC Leerdam)
SUMMARY:Inloop Digitale Hulp
URL:https://hcc.nl/agenda/evenement/4634-inloop-digitale-hulp
END:VEVENT
BEGIN:VEVENT
UID:20260425T200159UTC-2107P9G0aV@https://hcc.nl/
DTSTAMP:20260425T200159Z
DESCRIPTION:Onze inloop is bedoeld voor iedereen die praktische hulp en ond
 ersteuning nodig heeft bij het gebruik van uw digitale apparatuur\, zoals 
 desktop\, laptop\, tablet en smartphone.Te denken valt aan:opschonen van u
 w computerupdates downloadenapps installerenaccounts aanmaken op uw appara
 ten(breng dan wel uw gegevens mee)e-mail problemen.instellingen aanpassenO
 nze deskundigen zitten klaar om u met raad en daad terzijde te staan. http
 s://hcc.nl/agenda/evenement/4636-inloop-digitale-hulp
DTSTART:20240403T173000Z
DTEND:20240403T193000Z
LOCATION:Wijkcentrum De Akkers (Lenteakker 5\, 3206 TB Spijkenisse)
SUMMARY:Inloop Digitale Hulp
URL:https://hcc.nl/agenda/evenement/4636-inloop-digitale-hulp
END:VEVENT
BEGIN:VEVENT
UID:20260425T200159UTC-21084J6boN@https://hcc.nl/
DTSTAMP:20260425T200159Z
DESCRIPTION:We houden weer een online games programmeren sessie.\nAanmelden
  is niet nodig. Zie dit artikel voor meer informatie. https://hcc.nl/agend
 a/evenement/4640-hcc-programmeren-games-programmeren-sessie
DTSTART:20240329T190000Z
DTEND:20240329T210000Z
LOCATION:Online ()
SUMMARY:HCC!programmeren games programmeren sessie
URL:https://hcc.nl/agenda/evenement/4640-hcc-programmeren-games-programmere
 n-sessie
END:VEVENT
BEGIN:VEVENT
UID:20260425T200159UTC-2109JXDLHt@https://hcc.nl/
DTSTAMP:20260425T200159Z
DESCRIPTION: \nWe houden weer een online Pascal sessie.\nAanmelden is niet 
 nodig. Zie dit artikel voor meer informatie. https://hcc.nl/agenda/eveneme
 nt/4642-hcc-programmeren-pascal-sessie
DTSTART:20240330T180000Z
DTEND:20240330T210000Z
LOCATION:Online ()
SUMMARY:HCC!programmeren - Pascal sessie
URL:https://hcc.nl/agenda/evenement/4642-hcc-programmeren-pascal-sessie
END:VEVENT
BEGIN:VEVENT
UID:20260425T200159UTC-2111FAK25V@https://hcc.nl/
DTSTAMP:20260425T200159Z
DESCRIPTION:Eerste Paasdag https://hcc.nl/agenda/evenement/4644-eerste-paas
 dag-geen-hcc-bijeenkomsten
DTSTART:20240331T060000Z
DTEND:20240331T213000Z
LOCATION:Online ()
SUMMARY:Eerste Paasdag - geen HCC-bijeenkomsten
URL:https://hcc.nl/agenda/evenement/4644-eerste-paasdag-geen-hcc-bijeenkoms
 ten
END:VEVENT
BEGIN:VEVENT
UID:20260425T200159UTC-2111S6V684@https://hcc.nl/
DTSTAMP:20260425T200159Z
DESCRIPTION:\nSmartphonefotografie is tegenwoordig een ware kunstvorm gewor
 den\, waarbij de kwaliteit van de camera's in mobiele telefoons enorm is v
 erbeterd. Het is een toegankelijke manier om je creativiteit te uiten en b
 ijzondere momenten vast te leggen. Met de juiste technieken en een paar ha
 ndige tips kan iedereen met een smartphone prachtige foto's maken. Het is 
 leuk voor zowel amateurfotografen als professionals\, want met een smartph
 one in je broekzak ben je altijd klaar om dat ene perfecte shot te vangen.
 \nBrigitte van Berkel zal dinsdagavond 2 april een mooie demonstratie en p
 resentatie geven over smartphonefotografie.\nDeze avond komen de volgende 
 onderwerpen aan bod:\n\nBasisregels fotografie\nTips smartphone\nApps\nFot
 obeheer\n https://hcc.nl/agenda/evenement/4662-lezing-fotografie-met-smart
 phone
DTSTART:20240402T180000Z
DTEND:20240402T203000Z
LOCATION:Zalencentrum De Witte Kerk (Agnes Huijnstraat 3\, 5914 PE Venlo)
SUMMARY:Lezing fotografie met smartphone
URL:https://hcc.nl/agenda/evenement/4662-lezing-fotografie-met-smartphone
END:VEVENT
BEGIN:VEVENT
UID:20260425T200159UTC-2113GWbzlh@https://hcc.nl/
DTSTAMP:20260425T200159Z
DESCRIPTION:We houden weer een online Python sessie met de cursus voor begi
 nners.\nAanmelden is niet nodig. Zie dit artikel voor meer informatie. htt
 ps://hcc.nl/agenda/evenement/4675-hcc-programmeren-python-sessie
DTSTART:20240402T082900Z
DTEND:20240402T122900Z
LOCATION:Online ()
SUMMARY:HCC!programmeren - Python sessie
URL:https://hcc.nl/agenda/evenement/4675-hcc-programmeren-python-sessie
END:VEVENT
END:VCALENDAR
