BEGIN:VCALENDAR
VERSION:2.0
PRODID:-//https://hcc.nl///NONSGML kigkonsult.se iCalcreator 2.10.15//
METHOD:PUBLISH
BEGIN:VEVENT
UID:20260421T080411UTC-9597jxMbhA@https://hcc.nl/
DTSTAMP:20260421T080411Z
DESCRIPTION:Klik hier voor alle informatie over de HCC!kennisdag  https://h
 cc.nl/agenda/evenement/136-hcc-kennisdag
DTSTART:20230325T090000Z
DTEND:20230325T140000Z
LOCATION:Expo Houten (Meidoornkade 24\, 3992 AE Houten)
SUMMARY:HCC!kennisdag
URL:https://hcc.nl/agenda/evenement/136-hcc-kennisdag
END:VEVENT
BEGIN:VEVENT
UID:20260421T080411UTC-95985VdjdT@https://hcc.nl/
DTSTAMP:20260421T080411Z
DESCRIPTION:Woensdag\, 22 maart 2023\, 20:00 - 22:15 uur\nDeze tweede bijee
 nkomst van de maand maart van onze werkgroep is vooral gewijd aan IoT zake
 n\, maar 3D onderwerpen worden oogluikend toegestaan.\nWe doen het\, zoals
  inmiddels gebruikelijk\, in hybride vorm\, dus zowel fysiek in de Meent z
 onder allerlei hinderlijke beperkingen\, en online via 'wij.hcc.nl'.\nVast
 e deelnemers kennen het webadres\, nieuwkomers vragen\, o.v.v hun HCC lidn
 ummer op de Onderwerpregel\, toegang via hccregio.amsterdam@gmail.com. \nN
 iet HCC leden zijn - voor een kennismaking - via hetzelfde adres ook welko
 m.\n  https://hcc.nl/agenda/evenement/229-hybride-bijeenkomst-3d-iot-amste
 rdam
DTSTART:20230322T190000Z
DTEND:20230322T211500Z
LOCATION:De Meent  (Orion 3\, 1188 AM Amstelveen)
SUMMARY:Hybride bijeenkomst 3D-IoT Amsterdam
URL:https://hcc.nl/agenda/evenement/229-hybride-bijeenkomst-3d-iot-amsterda
 m
END:VEVENT
BEGIN:VEVENT
UID:20260421T080411UTC-95999DiW7i@https://hcc.nl/
DTSTAMP:20260421T080411Z
DESCRIPTION:Woensdag\, 22 maart 2023\, 20:00 - 22:30 uur - Grote zaal BG\nB
 este lezer\,\nOnze Linux Mint werkgroep is\, zoals je eerder hebt kunnen l
 ezen\, gestart naar aanleiding van de SeniorenInloop september 2022.\nDe w
 erkgroep heeft op een kleine al wat oudere PC de meest uitgebreide versie 
 van Linux Mint 21 – de Cinnamon distributie geïnstalleerd.\nAls je wilt zi
 en hoe soepel die oude pc werkt\, of eindelijk eens met Linux kennis wilt 
 maken\, dan ben je (vrijblijvend!) welkom. https://hcc.nl/agenda/evenement
 /252-linux-mint-werkgroep
DTSTART:20230322T190000Z
DTEND:20230322T213000Z
LOCATION: ()
SUMMARY:Linux Mint werkgroep
URL:https://hcc.nl/agenda/evenement/252-linux-mint-werkgroep
END:VEVENT
BEGIN:VEVENT
UID:20260421T080411UTC-9599VaVOUD@https://hcc.nl/
DTSTAMP:20260421T080411Z
DESCRIPTION:Woensdag\, 22 maart 2023\, 20:00 - 22:30 uur\n Algemene bijeenk
 omst\,  Grote zaal BG\,  20:00 - 22:30 uur:\nBeste lezer\,\nBezoekers wiss
 elen met elkaar van gedachten over computeronderwerpen en aanverwante zake
 n waar zij mee bezig zijn. Natuurlijk ben je welkom met vragen over- of pr
 oblemen met computers\, tablets en andere hardware en software. Meestal ku
 nnen we problemen ter plaatse oplossen of je op weg helpen.\nEr is een int
 ernet toegang aanwezig en je mag je PC/laptop/tablet meenemen.Ook vind je 
 er een rijkelijk gevulde leestafel met de nieuwste computer bladen.  https
 ://hcc.nl/agenda/evenement/265-hcc-amsterdam-bijeenkomst-de-meent
DTSTART:20230322T190000Z
DTEND:20230322T213000Z
LOCATION:De Meent  (Orion 3\, 1188 AM Amstelveen)
SUMMARY:HCC!amsterdam\, Bijeenkomst. De Meent.
URL:https://hcc.nl/agenda/evenement/265-hcc-amsterdam-bijeenkomst-de-meent
END:VEVENT
BEGIN:VEVENT
UID:20260421T080411UTC-9599J6zPiv@https://hcc.nl/
DTSTAMP:20260421T080411Z
DESCRIPTION:Woensdag\, 22 maart 2023\, 20:00 - 22:30 uur\nGrote Zaal\,  20:
 00-22:30 uur\nBeste lezer\, \nLeden van de Liberty Basic werkgroep komen d
 eze avond fysiek bijeen in de Meent.Aan het programma wordt steeds geschaa
 fd en zal weer interessant en informatief zijn.\nNaast de fysieke bijeenko
 msten op de vierde woensdag van de maand gaan ook de online bijeenkomsten 
 op de andere woensdagavonden door.Als je het een keer wilt bijwonen ben je
  van harte welkom. Houd voor evt. nadere info onze website in de gaten. \n
 Voor meer informatie en instructies kijk je op https://programmeren.hcc.nl
 / of mail de coördinator: coördinator/docent\nMisschien heb je ook zin in 
 de maandelijkse HCC!programmeren bijeenkomst (fysiek en online). https://h
 cc.nl/agenda/evenement/269-hcc-amsterdam-liberty-basic-werkgroep-de-meent
DTSTART:20230322T190000Z
DTEND:20230322T213000Z
LOCATION: ()
SUMMARY:HCC!amsterdam\, Liberty Basic werkgroep. De Meent.
URL:https://hcc.nl/agenda/evenement/269-hcc-amsterdam-liberty-basic-werkgro
 ep-de-meent
END:VEVENT
BEGIN:VEVENT
UID:20260421T080411UTC-9600LRuSvx@https://hcc.nl/
DTSTAMP:20260421T080411Z
DESCRIPTION:Woensdag\, 22 maart 2023\, 13:30 - 16:00 uur\n \nBijeenkomst vo
 or het samen bouwen van websites met Joomla en Wordpress. Loop binnen en l
 aat u wegwijs maken door onze specialist Harry Holman.\nDaarnaast hulp bij
  computer-\, tablet- en telefoonproblemen. We proberen u te helpen met all
 e voorkomende problemen. Neem uw wachtwoorden mee!\n  https://hcc.nl/agend
 a/evenement/271-websites-bouwen-en-inloop-computerhulp
DTSTART:20230322T123000Z
DTEND:20230322T150000Z
LOCATION:Gemeenschapshuis De Kuip (Bloemendalsweg 1B\, 7429 AL Colmschate)
SUMMARY:Websites bouwen en inloop computerhulp
URL:https://hcc.nl/agenda/evenement/271-websites-bouwen-en-inloop-computerh
 ulp
END:VEVENT
BEGIN:VEVENT
UID:20260421T080411UTC-9600S2VG3x@https://hcc.nl/
DTSTAMP:20260421T080411Z
DESCRIPTION:Zaterdag\, 25 maart 2023\, 10:00 - 15:00 uur\n   \nKom je ook o
 p zaterdag 25 maart 2023 naar de interessante\, leuke en leerzame HCC!kenn
 isdag in Houten? \nTijdens de HCC!kennisdag worden kennis en kunde gebunde
 ld.\n \nOok HCC!drones is aanwezig\; met verschillende drones\, uitleg en 
 drone simulatie-software.\nHeb je nog geen drone\, maar wil je alles weten
  om met een drone te beginnen? Kom dan naar onze presentatie: 'Dronevliege
 n\, een leuke hobby'.\nWil je wel eens vliegen met een drone\, maak dan ke
 nnis met de drone-simulatie software waardoor je leert vliegen met de stic
 ks.\nDe HCC!kennisdag is van 10.00 – 15.00 uur.\nParkeren in de omgeving i
 s gratis. https://hcc.nl/agenda/evenement/277-drones-aanwezig-op-hcc-kenni
 sdag-houten
DTSTART:20230325T090000Z
DTEND:20230325T140000Z
LOCATION:Expo Houten (Meidoornkade 24\, 3992 AE Houten)
SUMMARY:Drones aanwezig op HCC!kennisdag Houten
URL:https://hcc.nl/agenda/evenement/277-drones-aanwezig-op-hcc-kennisdag-ho
 uten
END:VEVENT
BEGIN:VEVENT
UID:20260421T080411UTC-9601S0OegO@https://hcc.nl/
DTSTAMP:20260421T080411Z
DESCRIPTION:Maandag\, 27 maart 2023\, 20:00 - 22:00 uur\n   \nWe houden wee
 r een online bijeenkomst over Visual Basic.\nAanmelden is niet nodig\, zie
  de voorpagina voor meer informatie. https://hcc.nl/agenda/evenement/279-o
 nline-visual-basic-sessie
DTSTART:20230327T180000Z
DTEND:20230327T200000Z
LOCATION: ()
SUMMARY:Online Visual Basic sessie
URL:https://hcc.nl/agenda/evenement/279-online-visual-basic-sessie
END:VEVENT
BEGIN:VEVENT
UID:20260421T080411UTC-96017s1IEF@https://hcc.nl/
DTSTAMP:20260421T080411Z
DESCRIPTION:Donderdag\, 23 maart 2023\, 10:00 - 12:00 uur\n  \nPresentatie 
 over een computer gerelateerd onderwerp op begrijpelijk niveau.\nKom kenni
 smaken!\n  https://hcc.nl/agenda/evenement/281-maandelijkse-presentatie-va
 n-de-seniorenacademie
DTSTART:20230323T090000Z
DTEND:20230323T110000Z
LOCATION:Wijkhuis de Westwijzer  (Cortenbachstraat 70\, 5707 TJ Helmond)
SUMMARY:Maandelijkse presentatie van de Seniorenacademie
URL:https://hcc.nl/agenda/evenement/281-maandelijkse-presentatie-van-de-sen
 iorenacademie
END:VEVENT
BEGIN:VEVENT
UID:20260421T080411UTC-9602vBU4fX@https://hcc.nl/
DTSTAMP:20260421T080411Z
DESCRIPTION:Donderdag\, 23 maart 2023\, 19:00 - 22:30 uur\n  https://hcc.nl
 /agenda/evenement/283-inloop-voor-alle-werkgroepen
DTSTART:20230323T180000Z
DTEND:20230323T213000Z
LOCATION:NewTechPark (Vlijtseweg 148\, 7317 AK Apeldoorn)
SUMMARY:Inloop voor alle werkgroepen
URL:https://hcc.nl/agenda/evenement/283-inloop-voor-alle-werkgroepen
END:VEVENT
BEGIN:VEVENT
UID:20260421T080411UTC-9602X0b2uD@https://hcc.nl/
DTSTAMP:20260421T080411Z
DESCRIPTION:Donderdag\, 23 maart 2023\, 19:30 - 22.00 uur\n \nBijeenkomst V
 ideogroep\nIndien u ook meer wilt weten over de videobewerking en hierin m
 eer vaardig wilt worden\, kom dan gerust vrijblijvend een kijkje nemen bij
  onze bijeenkomsten.\nOnze computerexperts behandelen iedere keer weer nie
 uwe ontwikkelingen op het gebied van videobewerking voor zowel beginneling
 en als gevorderden.\nWij werken hoofdzakelijk met het programma Pinnacle\,
  Adobe Première en Davinci Resolve. De video-avonden worden verzorgd door 
 Bertus Harmsen en Marcel Matthijsse.\nDe zaal is open vanaf 19.30u. Aanvan
 g bijeenkomst om 20.00u (tot 22.00u). Aanmelding is niet nodig. Het eerste
  bezoek is gratis.\nU bent van harte welkom.\nVoor nadere info kijk op onz
 e website: https://apeldoorn.hcc.nl  \n https://hcc.nl/agenda/evenement/28
 5-bijeenkomst-video-werkgroep
DTSTART:20230323T183000Z
DTEND:20230323T210000Z
LOCATION: ()
SUMMARY:Bijeenkomst Video-werkgroep
URL:https://hcc.nl/agenda/evenement/285-bijeenkomst-video-werkgroep
END:VEVENT
BEGIN:VEVENT
UID:20260421T080411UTC-9602eRvi0g@https://hcc.nl/
DTSTAMP:20260421T080411Z
DESCRIPTION:Donderdag\, 23 maart 2023\, 20:00 - 22:00 uur\n \nDonderdag 23 
 maart komen we weer bijeen. We hebben weer diverse minder bekende functies
  gevonden voor iPhone en iPad.\nZoals diverse functies in de Mail-app\, Sl
 eutelhanger Bedieningspaneel en Privacy-aspecten\, enz.\nJullie zijn allen
  van harte uitgenodigd.\nAanvang: 20.00 uur\, Locatie: New Tech Park\, Vli
 jtseweg 148 (Ingang Noord)\, Apeldoorn\n  https://hcc.nl/agenda/evenement/
 287-bijeenkomst-hcc-apple
DTSTART:20230323T190000Z
DTEND:20230323T210000Z
LOCATION:NewTechPark (Vlijtseweg 148\, 7317 AK Apeldoorn)
SUMMARY:Bijeenkomst HCC!Apple
URL:https://hcc.nl/agenda/evenement/287-bijeenkomst-hcc-apple
END:VEVENT
BEGIN:VEVENT
UID:20260421T080411UTC-9603mplWuS@https://hcc.nl/
DTSTAMP:20260421T080411Z
DESCRIPTION:Dinsdag\, 28 maart 2023\, 20:00 - 22:00 uur\nVoor leden met int
 eresse en passie voor Open Source software is op deze bijeenkomst ‘de’ gel
 egenheid om als Open Source werkgroep samen te komen en elkaars kennis en 
 handigheid op dit gebied te kunnen delen.Onder leiding van werkgroep coörd
 inator Tjeerd Hamm ervaren we samen de mooie voordelen en uitdagingen op h
 et gebied van Open Source software en daaraan gerelateerde hardware zoals 
 de Raspberry PI\; Open Source software is meestal gratis en dus legaal te 
 downloaden\, de broncode is vrij beschikbaar en bovendien meestal vrij te 
 bewerken en/of kopiëren. Veel deelnemers nemen een notebook of hun Raspber
 ry PI mee naar de bijeenkomst om het een en ander direct te kunnen uitprob
 eren.Op de Open Source werkgroep bijeenkomsten is een Wi-Fi internet verbi
 nding aanwezig\, zodat Open Source programma's\, updates en aanvullingen t
 er plekke kunnen worden gedownload en (eventueel) met de hulp van een ande
 re deelnemer kunnen worden geïnstalleerd.Verder is het een ideale gelegenh
 eid om met andere leden bij te praten\, ervaringen uit te wisselen en same
 n met plezier te ontdekken welke mogelijkheden er allemaal zijn.De Open So
 urce werkgroep bijeenkomsten vinden vrijwel elke 4e en 5e (mits die bestaa
 t) dinsdagavond van de maand plaats o.l.v. Tjeerd Hamm en starten om 20:00
  uur.\n  https://hcc.nl/agenda/evenement/289-nrd-limburg-open-source
DTSTART:20230328T180000Z
DTEND:20230328T200000Z
LOCATION:De Witte Kerk (Agnes Huijnstraat 3\, 5914 PE Venlo)
SUMMARY:Nrd Limburg Open Source
URL:https://hcc.nl/agenda/evenement/289-nrd-limburg-open-source
END:VEVENT
BEGIN:VEVENT
UID:20260421T080411UTC-9604zuTRGv@https://hcc.nl/
DTSTAMP:20260421T080411Z
DESCRIPTION:Dinsdag\, 28 maart 2023 van 13:00 tot 16:00 uur\n \nProblemen m
 et computer\, laptop\, tablet of smartphone? Kom langs en wij kijken en he
 lpen. https://hcc.nl/agenda/evenement/291-hcc-zob-helpdesk
DTSTART:20230328T110000Z
DTEND:20230328T140000Z
LOCATION:Activiteitencentrum Orka  (Broekakkerseweg 1\, 5641 PC Eindhoven)
SUMMARY:HCC!ZOB Helpdesk
URL:https://hcc.nl/agenda/evenement/291-hcc-zob-helpdesk
END:VEVENT
BEGIN:VEVENT
UID:20260421T080411UTC-9604MwaBll@https://hcc.nl/
DTSTAMP:20260421T080411Z
DESCRIPTION:Donderdag\, 23 maart 2023\, 19:30 - 22:00 uur\nGratis herinstal
 latie van uw (oude) Windows laptop met de nieuwsteLinux Mint 21\nU komt la
 ngs met uw laptop en wij beoordelen of het mogelijk is om de installatie u
 it te voeren.\nLinux Mint is een gratis open source besturingssyteem.Het i
 s snel\, gemakkelijk en bovendien erg veilig!Voor vragen over Linux kunt u
  altijd bij HCC Zevenaar terecht!\nDe zaal is open vanaf 19.30u. Aanvang b
 ijeenkomst om 20.00u (tot 22.00u). Aanmelding is niet nodig. Het eerste be
 zoek is gratis.\nU bent van harte welkom.\nVoor nadere info kijk op onze w
 ebsite: https://apeldoorn.hcc.nl  \n \n https://hcc.nl/agenda/evenement/29
 2-inloop-en-bijeenkomst-linuxgroep
DTSTART:20230323T183000Z
DTEND:20230323T210000Z
LOCATION:Ons Huis (Dokter Honigstraat 3\, 6901 AP Zevenaar)
SUMMARY:Inloop en bijeenkomst Linuxgroep
URL:https://hcc.nl/agenda/evenement/292-inloop-en-bijeenkomst-linuxgroep
END:VEVENT
END:VCALENDAR
