BEGIN:VCALENDAR
VERSION:2.0
PRODID:-//https://hcc.nl///NONSGML kigkonsult.se iCalcreator 2.10.15//
METHOD:PUBLISH
BEGIN:VEVENT
UID:20260420T153122UTC-47295vUe7z@https://hcc.nl/
DTSTAMP:20260420T153122Z
DESCRIPTION:Zaterdag\, 18 maart 2023\, 10:00 - 16:00 uur\n  \nDeze bijeenko
 mst is er ook de ALV van de interessegroep Flightsimulator.\nDe agenda van
  de ALV is tzt te vinden onder de nieuwstab bovenaan HCC!flightsimulator -
  ALV en bijeenkomst Almeren https://hcc.nl/agenda/evenement/150-alv-en-bij
 eenkomst-almere
DTSTART:20230318T090000Z
DTEND:20230318T150000Z
LOCATION:De Wieken   (Wipmolenweg 54\, 1333 GS Almere)
SUMMARY:ALV en bijeenkomst Almere
URL:https://hcc.nl/agenda/evenement/150-alv-en-bijeenkomst-almere
END:VEVENT
BEGIN:VEVENT
UID:20260420T153122UTC-4730nZlgAE@https://hcc.nl/
DTSTAMP:20260420T153122Z
DESCRIPTION:Vrijdag\, 17 maart 2023\, 14:00 - 16:00 uur\n  \nDeze middag ga
 an we het hebben over de Smart-TV. Meer info volgt nog.\nZaal open : 13:30
  uur\nStart presentatie : 14:00 uur https://hcc.nl/agenda/evenement/170-se
 niorenacademie-smart-tv
DTSTART:20230317T130000Z
DTEND:20230317T150000Z
LOCATION:Gemeenschapshuis 't Trefpunt (Pancratiusstraat 23\, 6151 CD Munste
 rgeleen)
SUMMARY:Seniorenacademie: Smart TV
URL:https://hcc.nl/agenda/evenement/170-seniorenacademie-smart-tv
END:VEVENT
BEGIN:VEVENT
UID:20260420T153122UTC-4730ngK9fK@https://hcc.nl/
DTSTAMP:20260420T153122Z
DESCRIPTION:Algemene bijeenkomst HCC!programmeren in De Bilt\nZaterdag\, 18
  maart 2023\, 13:00 - 17:00 uur\n   \nWe houden weer een algemene bijeenko
 mst bij H.F. Witte.\nVanaf 13:30 uur beginnen we met de gebruikelijke plen
 aire sessie.\nDeze bijeenkomst in De Bilt is niet online te volgen. Aanmel
 den is niet nodig\, zie de voorpagina voor meer informatie. https://hcc.nl
 /agenda/evenement/172-algemene-bijeenkomst-hcc-programmeren
DTSTART:20230318T120000Z
DTEND:20230318T160000Z
LOCATION: ()
SUMMARY:Algemene bijeenkomst HCC!programmeren 
URL:https://hcc.nl/agenda/evenement/172-algemene-bijeenkomst-hcc-programmer
 en
END:VEVENT
BEGIN:VEVENT
UID:20260420T153122UTC-4731dnUanE@https://hcc.nl/
DTSTAMP:20260420T153122Z
DESCRIPTION:Donderdag\, 16 maart 2023\, 19:30 - 22:00 uur\nOp deze bijeenko
 mst van de 3D-werkgroep Delft behandelt Dré Jansen het Parametrisch tekene
 n in Fusion 360 aan de hand van een doosje met verbindingstanden.\nHet voo
 rdeel van parametrisch tekenen is dat je met enkele gegevens een doosje/ka
 stje in steeds wisselende afmetingen kan maken!\n\nHoe zorg je ervoor dat 
 alle verbindingstanden gelijk zijn\, zonder 'tussentandje'?\nWaarom is een
  oneven aantal tanden gunstiger dan een even aantal?\nWaarom is het handig
  om van elk paneel een eigen schets te maken?\nWaarom bereken je het aanta
 l tanden van de verticale zijden\, zonder debodemdikte?\nHoe leg je de pan
 elen in één vlak plat\, zodat de lasersnijder er mee aan de slag kan?\n\nD
 eze en andere vragen worden op donderdagavond 16 maart beantwoord!\nOm all
 e 3D-ers in Nederland de gelegenheid te geven deze presentatie te volgen w
 ordt deze tevens uitgezonden via ons virtuele lokaal: https://wij.hcc.nl/3
 D-Delft\nInformatieblad 3D-werkgroep Delft\n  https://hcc.nl/agenda/evenem
 ent/207-parametrisch-tekenen-met-fusion360
DTSTART:20230316T183000Z
DTEND:20230316T210000Z
LOCATION:Buurthuis Het Voorhof  (Herman Gorterhof 165\, 2624 XL Delft)
SUMMARY:Parametrisch tekenen met Fusion360
URL:https://hcc.nl/agenda/evenement/207-parametrisch-tekenen-met-fusion360
END:VEVENT
BEGIN:VEVENT
UID:20260420T153122UTC-4731VlmfXg@https://hcc.nl/
DTSTAMP:20260420T153122Z
DESCRIPTION:Woensdag\, 22 maart 2023\, 20:00 - 22:15 uur\nDeze tweede bijee
 nkomst van de maand maart van onze werkgroep is vooral gewijd aan IoT zake
 n\, maar 3D onderwerpen worden oogluikend toegestaan.\nWe doen het\, zoals
  inmiddels gebruikelijk\, in hybride vorm\, dus zowel fysiek in de Meent z
 onder allerlei hinderlijke beperkingen\, en online via 'wij.hcc.nl'.\nVast
 e deelnemers kennen het webadres\, nieuwkomers vragen\, o.v.v hun HCC lidn
 ummer op de Onderwerpregel\, toegang via hccregio.amsterdam@gmail.com. \nN
 iet HCC leden zijn - voor een kennismaking - via hetzelfde adres ook welko
 m.\n  https://hcc.nl/agenda/evenement/229-hybride-bijeenkomst-3d-iot-amste
 rdam
DTSTART:20230322T190000Z
DTEND:20230322T211500Z
LOCATION:De Meent  (Orion 3\, 1188 AM Amstelveen)
SUMMARY:Hybride bijeenkomst 3D-IoT Amsterdam
URL:https://hcc.nl/agenda/evenement/229-hybride-bijeenkomst-3d-iot-amsterda
 m
END:VEVENT
BEGIN:VEVENT
UID:20260420T153122UTC-4732LchvZV@https://hcc.nl/
DTSTAMP:20260420T153122Z
DESCRIPTION:Donderdag\, 16 maart 2023\, 19:00 - 21:30 uur\n We houden weer 
 een online sessie met onderwerpen die te maken hebben met Python\, vanavon
 d voor beginners.\nZie de voorpagina voor meer informatie. https://hcc.nl/
 agenda/evenement/230-online-python-sessie
DTSTART:20230316T180000Z
DTEND:20230316T203000Z
LOCATION: ()
SUMMARY:Online Python sessie
URL:https://hcc.nl/agenda/evenement/230-online-python-sessie
END:VEVENT
BEGIN:VEVENT
UID:20260420T153122UTC-4732zaD7ue@https://hcc.nl/
DTSTAMP:20260420T153122Z
DESCRIPTION:Vrijdag\, 17 maart 2023\, 20:00 - 22:00 uur\n   \nWe houden wee
 r een online bijeenkomst over Games programmeren.\nAanmelden is niet nodig
 . Zie de voorpagina voor meer informatie. https://hcc.nl/agenda/evenement/
 232-online-games-programmeren-sessie
DTSTART:20230317T190000Z
DTEND:20230317T210000Z
LOCATION: ()
SUMMARY:Online Games programmeren sessie
URL:https://hcc.nl/agenda/evenement/232-online-games-programmeren-sessie
END:VEVENT
BEGIN:VEVENT
UID:20260420T153122UTC-4733lwJidJ@https://hcc.nl/
DTSTAMP:20260420T153122Z
DESCRIPTION:Zaterdag\, 18 maart 2023\, 19:00 - 21:00 uur\n   \nWe houden we
 er een online bijeenkomst over Pascal.\nAanmelden is niet nodig\, zie de v
 oorpagina voor meer informatie. https://hcc.nl/agenda/evenement/234-online
 -pascal-sessie
DTSTART:20230318T180000Z
DTEND:20230318T200000Z
LOCATION: ()
SUMMARY:Online Pascal sessie
URL:https://hcc.nl/agenda/evenement/234-online-pascal-sessie
END:VEVENT
BEGIN:VEVENT
UID:20260420T153122UTC-47330G81UG@https://hcc.nl/
DTSTAMP:20260420T153122Z
DESCRIPTION:Maandag\, 20 maart 2023\, 20:00 - 22:00 uur\n   \nWe houden wee
 r een online bijeenkomst over Visual Basic.\nAanmelden is niet nodig\, zie
  de voorpagina voor meer informatie. https://hcc.nl/agenda/evenement/236-o
 nline-visual-basic-sessie
DTSTART:20230320T190000Z
DTEND:20230320T210000Z
LOCATION: ()
SUMMARY:Online Visual Basic sessie
URL:https://hcc.nl/agenda/evenement/236-online-visual-basic-sessie
END:VEVENT
BEGIN:VEVENT
UID:20260420T153122UTC-4733V2mPVd@https://hcc.nl/
DTSTAMP:20260420T153122Z
DESCRIPTION:Donderdag\, 16 maart 2023\, 19:00 - 22:30 uur\n  https://hcc.nl
 /agenda/evenement/242-inloop-voor-alle-werkgroepen
DTSTART:20230316T180000Z
DTEND:20230316T213000Z
LOCATION:NewTechPark (Vlijtseweg 148\, 7317 AK Apeldoorn)
SUMMARY:Inloop voor alle werkgroepen
URL:https://hcc.nl/agenda/evenement/242-inloop-voor-alle-werkgroepen
END:VEVENT
BEGIN:VEVENT
UID:20260420T153122UTC-4734vzmkLG@https://hcc.nl/
DTSTAMP:20260420T153122Z
DESCRIPTION:.Dinsdag\, 21 maart 2023\, 14:00 - 16:00 uur\n Zaal 1\, 14:00-1
 6:00 uur:\nEen Inleiding tot Genealogie\nVeel leden van HCC!amsterdam zijn
 \, naast regio lid\, ook lid van de HCC!Genealogie Interesse Groep. Maar v
 an een nog groter aantal vermoeden we dat zij ook interesse zullen hebben 
 in Stamboomonderzoek\, maar eigenlijk weten zij niet zo goed waar te begin
 nen en hoe dan\, en waarmee.\nOnder het motto ‘WWW’: ‘Wie ben ik\, Wie war
 en mijn voorouders\, en Wat voor leuks\, interessants of verrassends zit d
 aar dan tussen’ vertelt Els Schnijder over een van haar passies en stookt 
 daarmee waarschijnlijk alle geïnteresseerden warm. Zij vertelt ‘hoe je all
 es wat je al weet’ van je ouders en je oma’s en opa’s’ overzichtelijk en o
 rdentelijk met software vast kunt leggen op verschillende computerplatform
 s.\nIn deze ”Genealogie Workshop” krijg je op deze vragen – en op veel vra
 gen die je nu niet onmiddellijk kunt bedenken\, vrijwel zeker antwoorden.
 \nEr wordt diep ingegaan op het vinden van voorouders in verschillende soo
 rten archieven die vaak makkelijk en kosteloos van huis uit te raadplegen 
 zijn. Verder wordt duidelijk wát je beslist moet noteren en meteen vastleg
 gen in voor jou ideale software\, om het later ook weer makkelijk en overz
 ichtelijk compleet terug te kunnen vinden om onderlinge verbanden te kunne
 n overzien.\nKortom: stap voor stap wordt uitgelegd wat prettige werkwijze
 n zijn voor Stamboomonderzoek en hoe je teleurstellingen en dubbel werk ku
 nt vermijden.\nEls Schnijder verzorgt deze interessante workshop. Els is e
 en regelmatig bezoeker van onze SeniorenInlopen en vaak beschikbaar (dus o
 ok tijdens deze SeniorenInlopen) voor raad en daad en aanwezig op HCC IG G
 enealogie bijeenkomsten\, intern en bij manifestaties.\nAls je bij voorbaa
 t al vragen hebt over dit onderwerp – of vragen\, over eerdere presentatie
 s – leg die ons dan via hccregio.amsterdam@gmail.com alvast voor. Veel kan
  dan die middag al worden beantwoord. Met lastigere of specifieke vragen k
 un je natuurlijk ook naar onze Algemene Inloopavonden op de 2e en 4e woens
 dagavonden – deze maand nog op 22 maart- komen. Er is meestal wel iemand a
 anwezig die je op weg kan helpen. \nDe Genealogie presentatie van vanmidda
 g kun je heel binnenkort downloaden  van onze website .Je vindt daar ook a
 lle presentaties van de vorige maanden. Uitgebreide verslagen van vele jar
 en SeniorenInloop onderwerpen staan op: jemeent.blogspot.nl .\nMeestal is 
 het makkelijk parkeren nabij De Meent\, op het terrein ter hoogte van Melk
 weg 2.De Meent is trouwens ook goed bereikbaar met OV sneltram\, lijn 25 e
 n met de buslijnen 174 en 199. https://hcc.nl/agenda/evenement/244-seniore
 ninloop
DTSTART:20230321T130000Z
DTEND:20230321T150000Z
LOCATION: ()
SUMMARY:Senioreninloop
URL:https://hcc.nl/agenda/evenement/244-senioreninloop
END:VEVENT
BEGIN:VEVENT
UID:20260420T153122UTC-4735FnFUxt@https://hcc.nl/
DTSTAMP:20260420T153122Z
DESCRIPTION:Woensdag\, 22 maart 2023\, 20:00 - 22:30 uur - Grote zaal BG\nB
 este lezer\,\nOnze Linux Mint werkgroep is\, zoals je eerder hebt kunnen l
 ezen\, gestart naar aanleiding van de SeniorenInloop september 2022.\nDe w
 erkgroep heeft op een kleine al wat oudere PC de meest uitgebreide versie 
 van Linux Mint 21 – de Cinnamon distributie geïnstalleerd.\nAls je wilt zi
 en hoe soepel die oude pc werkt\, of eindelijk eens met Linux kennis wilt 
 maken\, dan ben je (vrijblijvend!) welkom. https://hcc.nl/agenda/evenement
 /252-linux-mint-werkgroep
DTSTART:20230322T190000Z
DTEND:20230322T213000Z
LOCATION: ()
SUMMARY:Linux Mint werkgroep
URL:https://hcc.nl/agenda/evenement/252-linux-mint-werkgroep
END:VEVENT
BEGIN:VEVENT
UID:20260420T153122UTC-4736P0WTku@https://hcc.nl/
DTSTAMP:20260420T153122Z
DESCRIPTION:Donderdagavond 16 maart 2023 Bijeenkomst van 19.30 – 22.00 uur
 \n Workshop 'Linux Mint Installeren'. Deze workshop wordt geleid door Adri
  Dingemanse. Als u wilt deelnemen graag opgeven. Dat kan bij de inloop of 
 via info@ijssellanden.hcc.nl Naast de workshop is er ook inloop mogelijk. 
 Zie verdere gegevens hierboven.\nDe plaats van samenkomen is zoals altijd:
  Wijkcentrum Holtenbroek Bachlaan 20\, 8031 HL Zwolle https://hcc.nl/agend
 a/evenement/254-workshop-linux-mint-installeren
DTSTART:20230316T183000Z
DTEND:20230316T210000Z
LOCATION:Wijkcentrum Holtenbroek (Bachlaan 20\, 8031 HL Zwolle)
SUMMARY:Workshop 'Linux Mint Installeren'
URL:https://hcc.nl/agenda/evenement/254-workshop-linux-mint-installeren
END:VEVENT
BEGIN:VEVENT
UID:20260420T153122UTC-47369PhoHW@https://hcc.nl/
DTSTAMP:20260420T153122Z
DESCRIPTION:Dinsdag\, 21 maart 2023 van 20:00 tot 22:30 uur\nContact : Best
 uur HCC!Noord-Limburg\nVoor leden met interesse en passie voor digitale fo
 tografie is op deze bijeenkomst ‘de’ gelegenheid om als fotowerkgroep same
 n te komen en elkaars kennis en handigheid op dit gebied te kunnen delen.O
 nder leiding van werkgroep coördinator Brigitte van Berkel (opvolger van H
 enk Hovens) bewerken we foto's in Adobe Photoshop CS6 en CC\, waarbij er o
 ok soms gebruik gemaakt wordt van Abobe illustrator.Is er een ingewikkeld 
 probleem\, dat meer tijd vergt om te verhelpen\, dan is het handig om met 
 degene die je wilt helpen te overleggen wanneer en waar er verder aan het 
 herstel kan worden gewerkt.Verder is onze fotowerkgroep bijeenkomst ervoor
  om met andere leden bij te praten\, ervaringen uit te wisselen en samen m
 et plezier te ontdekken welke digitale fotobewerkingsmogelijkheden er alle
 maal zijn.Maar ook kun je even rustig voor jezelf op je eigen notebook bez
 ig zijn\; neem je notebook mee en doe mee met de aangeboden oefenstof. Aan
  de hand van Galileo ‘Photoshop CS6 - CC voor gevorderden’ gaan we als eer
 ste dieper in op de mogelijkheden van Photoshop.\nDe Fotowerkgroep bijeenk
 omsten vinden vrijwel elke 3e dinsdagavond van de maand plaats o.l.v. Brig
 itte van Berkel en starten om 20:00 uur. https://hcc.nl/agenda/evenement/2
 55-fotowerkgroep-venlo
DTSTART:20230321T190000Z
DTEND:20230321T213000Z
LOCATION:Zalencentrum De Witte Kerk (Agnes Huijnstraat 3\, 5914 PE Venlo)
SUMMARY:Fotowerkgroep - Venlo
URL:https://hcc.nl/agenda/evenement/255-fotowerkgroep-venlo
END:VEVENT
BEGIN:VEVENT
UID:20260420T153122UTC-47373cEudI@https://hcc.nl/
DTSTAMP:20260420T153122Z
DESCRIPTION:Zaterdag\, 18 maart 2023\, 13:00 - 17:00 uur\nWe houden weer ee
 n algemene bijeenkomst bij H.F. Witte.\nVanaf 13:30 uur beginnen we met de
  gebruikelijke plenaire sessie.\nDeze bijeenkomst in De Bilt is niet onlin
 e te volgen. Aanmelden is niet nodig\, zie de voorpagina voor meer informa
 tie.\n  https://hcc.nl/agenda/evenement/257-algemene-bijeenkomst-hcc-progr
 ammeren-in-de-bilt
DTSTART:20230318T120000Z
DTEND:20230318T160000Z
LOCATION:Cultureel en Vergadercentrum H.F. Witte (Henri Dunantplein 4\, 373
 1 CL De Bilt)
SUMMARY:Algemene bijeenkomst HCC!programmeren in De Bilt
URL:https://hcc.nl/agenda/evenement/257-algemene-bijeenkomst-hcc-programmer
 en-in-de-bilt
END:VEVENT
BEGIN:VEVENT
UID:20260420T153122UTC-4738s8zDbt@https://hcc.nl/
DTSTAMP:20260420T153122Z
DESCRIPTION:Donderdag\, 16 maart 2023\, 19:30 - 22:00 uur\nBeste videobewer
 kers\,\nHet thema voor deze avond is:\n                                   
                   “De Blend mode”\nZowel voor Cyberlink Power Director als
  voor Pinnacle Studio zullen we een brede uiteenzetting geven over de moge
 lijkheden van de beide programma's.\nWe laten zien hoe je meerdere afbeeld
 ingen en/of scènes in elkaar kunt laten vloeien. Hierdoor ontstaan resulta
 ten die bijzondere resultaten geven.\nZoals gewoonlijk beginnen we om 20:0
 0 uur en eindigen we om ongeveer 22:00 uur.           \nMet vriendelijke g
 roet\,Het Video-team\n  https://hcc.nl/agenda/evenement/259-workshop-video
 groep
DTSTART:20230316T183000Z
DTEND:20230316T210000Z
LOCATION:NewTechPark (Vlijtseweg 148\, 7317 AK Apeldoorn)
SUMMARY:Workshop Videogroep
URL:https://hcc.nl/agenda/evenement/259-workshop-videogroep
END:VEVENT
BEGIN:VEVENT
UID:20260420T153122UTC-4738TKsrpV@https://hcc.nl/
DTSTAMP:20260420T153122Z
DESCRIPTION:Dinsdag\, 21 maart 2023\, 20:00 - 22:00 uur\n   \nIn een eerste
  korte workshop zie je op dinsdagavond 21 maart vanaf 20:00u hoe je een iP
 hone op je Mac kunt gebruiken als een webcam van de hoogste kwaliteit. In 
 de tweede workshop leggen we je de nieuwe Stage Manager functies uit. Met 
 Stage Manager heb je een overzichtelijk werkblad en blijven je recente app
 s binnen handbereik. Afsluitend hoor je nog de meest interessante Apple ni
 euwtjes van de afgelopen maand\nAanmelding voor deze online presentatie is
  (na inloggen) alleen mogelijk voor leden van HCC!apple. https://hcc.nl/ag
 enda/evenement/261-online-mac-workshops
DTSTART:20230321T190000Z
DTEND:20230321T210000Z
LOCATION: ()
SUMMARY:Online Mac workshops
URL:https://hcc.nl/agenda/evenement/261-online-mac-workshops
END:VEVENT
BEGIN:VEVENT
UID:20260420T153122UTC-4739FCPCWM@https://hcc.nl/
DTSTAMP:20260420T153122Z
DESCRIPTION:Donderdag\, 16 Maart 2023\, 20:00 - 22:00\nDe smart tv neemt vo
 or velen een belangrijke plaats in. De ontwikkeling gaat snel en de mogeli
 jkheden nemen enorm toe. Laat u zich hierdoor verleiden om\, wellicht eerd
 er dan noodzakelijk\, uw tv te vervangen door een moderner exemplaar? Laat
  u zich daarbij dan leiden door uw behoefte of door de gladde praatjes van
  de verkoper?\nDeze presentatie geeft u voldoende informatie over de belan
 grijkste aspecten van een smart tv\, aan de hand waarvan u een betere keuz
 e kunt maken: wel of geen nieuwe tv en\, kiest u voor een nieuwe tv\, welk
 e.\n\n  https://hcc.nl/agenda/evenement/263-seniorenacademie-smart-tv
DTSTART:20230316T190000Z
DTEND:20230316T210000Z
LOCATION:NewTechPark (Vlijtseweg 148\, 7317 AK Apeldoorn)
SUMMARY:SeniorenAcademie - Smart tv
URL:https://hcc.nl/agenda/evenement/263-seniorenacademie-smart-tv
END:VEVENT
BEGIN:VEVENT
UID:20260420T153122UTC-4739AbDU9F@https://hcc.nl/
DTSTAMP:20260420T153122Z
DESCRIPTION:Woensdag\, 22 maart 2023\, 20:00 - 22:30 uur\n Algemene bijeenk
 omst\,  Grote zaal BG\,  20:00 - 22:30 uur:\nBeste lezer\,\nBezoekers wiss
 elen met elkaar van gedachten over computeronderwerpen en aanverwante zake
 n waar zij mee bezig zijn. Natuurlijk ben je welkom met vragen over- of pr
 oblemen met computers\, tablets en andere hardware en software. Meestal ku
 nnen we problemen ter plaatse oplossen of je op weg helpen.\nEr is een int
 ernet toegang aanwezig en je mag je PC/laptop/tablet meenemen.Ook vind je 
 er een rijkelijk gevulde leestafel met de nieuwste computer bladen.  https
 ://hcc.nl/agenda/evenement/265-hcc-amsterdam-bijeenkomst-de-meent
DTSTART:20230322T190000Z
DTEND:20230322T213000Z
LOCATION:De Meent  (Orion 3\, 1188 AM Amstelveen)
SUMMARY:HCC!amsterdam\, Bijeenkomst. De Meent.
URL:https://hcc.nl/agenda/evenement/265-hcc-amsterdam-bijeenkomst-de-meent
END:VEVENT
BEGIN:VEVENT
UID:20260420T153122UTC-4740EfIUJN@https://hcc.nl/
DTSTAMP:20260420T153122Z
DESCRIPTION:Dinsdag\, 21 maart 2023\, 19:30 - 22:00 uur\n   \nWe houden voo
 r de eerste keer een online algemene bijeenkomst op dinsdagavond.\nAanmeld
 en is niet nodig\, zie de voorpagina voor meer informatie. https://hcc.nl/
 agenda/evenement/267-online-algemene-sessie
DTSTART:20230321T183000Z
DTEND:20230321T210000Z
LOCATION: ()
SUMMARY:Online algemene sessie
URL:https://hcc.nl/agenda/evenement/267-online-algemene-sessie
END:VEVENT
BEGIN:VEVENT
UID:20260420T153122UTC-4740uObvCf@https://hcc.nl/
DTSTAMP:20260420T153122Z
DESCRIPTION:Woensdag\, 22 maart 2023\, 20:00 - 22:30 uur\nGrote Zaal\,  20:
 00-22:30 uur\nBeste lezer\, \nLeden van de Liberty Basic werkgroep komen d
 eze avond fysiek bijeen in de Meent.Aan het programma wordt steeds geschaa
 fd en zal weer interessant en informatief zijn.\nNaast de fysieke bijeenko
 msten op de vierde woensdag van de maand gaan ook de online bijeenkomsten 
 op de andere woensdagavonden door.Als je het een keer wilt bijwonen ben je
  van harte welkom. Houd voor evt. nadere info onze website in de gaten. \n
 Voor meer informatie en instructies kijk je op https://programmeren.hcc.nl
 / of mail de coördinator: coördinator/docent\nMisschien heb je ook zin in 
 de maandelijkse HCC!programmeren bijeenkomst (fysiek en online). https://h
 cc.nl/agenda/evenement/269-hcc-amsterdam-liberty-basic-werkgroep-de-meent
DTSTART:20230322T190000Z
DTEND:20230322T213000Z
LOCATION: ()
SUMMARY:HCC!amsterdam\, Liberty Basic werkgroep. De Meent.
URL:https://hcc.nl/agenda/evenement/269-hcc-amsterdam-liberty-basic-werkgro
 ep-de-meent
END:VEVENT
BEGIN:VEVENT
UID:20260420T153122UTC-4741KC3AHN@https://hcc.nl/
DTSTAMP:20260420T153122Z
DESCRIPTION:Woensdag\, 22 maart 2023\, 13:30 - 16:00 uur\n \nBijeenkomst vo
 or het samen bouwen van websites met Joomla en Wordpress. Loop binnen en l
 aat u wegwijs maken door onze specialist Harry Holman.\nDaarnaast hulp bij
  computer-\, tablet- en telefoonproblemen. We proberen u te helpen met all
 e voorkomende problemen. Neem uw wachtwoorden mee!\n  https://hcc.nl/agend
 a/evenement/271-websites-bouwen-en-inloop-computerhulp
DTSTART:20230322T123000Z
DTEND:20230322T150000Z
LOCATION:Gemeenschapshuis De Kuip (Bloemendalsweg 1B\, 7429 AL Colmschate)
SUMMARY:Websites bouwen en inloop computerhulp
URL:https://hcc.nl/agenda/evenement/271-websites-bouwen-en-inloop-computerh
 ulp
END:VEVENT
BEGIN:VEVENT
UID:20260420T153122UTC-4741h6VJWH@https://hcc.nl/
DTSTAMP:20260420T153122Z
DESCRIPTION:Vrijdag\, 17 Maart 2023\, 10:00 - 17:00 uur\n   \nVrijdag 17 ma
 art tot en met zondag 19 maart 2023 vindt het modelspoorevenement On traXS
  van het Spoorwegmuseum plaats in Utrecht.\nDe HCC!trainsim zal daar aanwe
 zig zijn met een eigen stand.\nOpeningstijden : alle dagen van 10.00 uur t
 ot 17.00 uur.\nAdres:Het Spoorwegmuseum\,Maliebaanstation\,3581 XW Utrecht
 .\nWil je meer informatie over dit evenement\, bekijk dan de website van d
 e organisatie. https://hcc.nl/agenda/evenement/275-modeltrein-expo-on-trax
 s-utrecht
DTSTART:20230317T090000Z
DTEND:20230319T160000Z
LOCATION:Het Spoorwegmuseum (Maliebaanstation 16\, 3581 XW Utrecht)
SUMMARY:Modeltrein Expo On traXS Utrecht
URL:https://hcc.nl/agenda/evenement/275-modeltrein-expo-on-traxs-utrecht
END:VEVENT
END:VCALENDAR
