BEGIN:VCALENDAR
VERSION:2.0
PRODID:-//https://hcc.nl///NONSGML kigkonsult.se iCalcreator 2.10.15//
METHOD:PUBLISH
BEGIN:VEVENT
UID:20260423T173122UTC-27666kA2OK@https://hcc.nl/
DTSTAMP:20260423T173122Z
DESCRIPTION:Beste Leden\,\nZojuist is bekend geworden dat De Wingerd\, de l
 ocatie waar we onze bijeenkomsten in Terneuzen organiseren\, per eind sept
 ember niet meer beschikbaar is !\nGelukkig is onze coordinator Patrick Buy
 sse er in geslaagd een nieuwe locatie te vinden zodat de bijeenkomst van 1
 3 oktober aanstaande en de daarop volgende bijeenkomsten gewoon doorgang k
 an vinden.  https://hcc.nl/agenda/evenement/131-bijeenkomst-terneuzen
DTSTART:20230309T190000Z
DTEND:20230309T210000Z
LOCATION:Mijnbuurthuis ( 113\, 4536 ES )
SUMMARY: Bijeenkomst Terneuzen
URL:https://hcc.nl/agenda/evenement/131-bijeenkomst-terneuzen
END:VEVENT
BEGIN:VEVENT
UID:20260423T173122UTC-2768w3o0Ov@https://hcc.nl/
DTSTAMP:20260423T173122Z
DESCRIPTION:Fred Baltus adviseur van HCC!genealogie is aanwezig en helpt u 
 bij uw stamboomonderzoek. https://hcc.nl/agenda/evenement/133-hcc-mzl-bije
 enkomst-in-munstergeleen
DTSTART:20230310T183000Z
DTEND:20230310T210000Z
LOCATION:Gemeenschapshuis 't Trefpunt (Pancratiusstraat 23\, 6151 CD Munste
 rgeleen)
SUMMARY:HCC!mzl Bijeenkomst in Munstergeleen
URL:https://hcc.nl/agenda/evenement/133-hcc-mzl-bijeenkomst-in-munstergelee
 n
END:VEVENT
BEGIN:VEVENT
UID:20260423T173122UTC-27688pwAht@https://hcc.nl/
DTSTAMP:20260423T173122Z
DESCRIPTION:Op de tweede vrijdag van de maand bijeenkomst in de Brusselse r
 and (Wezembeek-Oppem).\n\nHet algemene programma:\n\ninternet\, lokaal net
 werk\, connectiviteit\;\ninstallatie of configuratie van hard- en software
 \;\nWindows PC/Laptop\, ...\;\nLinux (Ubuntu\, Mint\, Fedora\, ...) & Open
  Source\;\nTablet\, smartphone -- Android\, iOS\, ...\n\n \nElke geïnteres
 seerde computer-/tablet-/smartphone-gebruiker is welkom : om de sfeer te p
 roeven\, om kennis te maken met onze leden en hun ICT-bezigheden\, om erva
 ringen uit te wisselen\, om nieuwe dingen te ontdekken\, en om oplossingen
  voor hard- en softwarevraagstukken te vinden. https://hcc.nl/agenda/evene
 ment/135-bijeenkomst-gc-de-kam
DTSTART:20230310T190000Z
DTEND:20230310T213000Z
LOCATION:Gemeenschapscentrum De Kam (Beekstraat 172\, 1970 WE Wezembeek-Opp
 em)
SUMMARY:Bijeenkomst GC De Kam
URL:https://hcc.nl/agenda/evenement/135-bijeenkomst-gc-de-kam
END:VEVENT
BEGIN:VEVENT
UID:20260423T173122UTC-2769ZTO5HC@https://hcc.nl/
DTSTAMP:20260423T173122Z
DESCRIPTION: \nVrijdag\, 10 maart 2023\, 19:30 - 22:00\n Vanavond kunnen ju
 llie met vragen terecht over Windows\, Linux Mint\, Android\, Apple en nog
  veel meer.\nHeb je problemen met je hccnet.nl e-mail adres\, dan kunnen w
 ij je ook helpen.\nHeb je nu al vragen of wil je ze op deze avond bespreke
 n\, dan graag het contactformulier bij contact gebruiken.\nZaal open : 19:
 30 uur\n  https://hcc.nl/agenda/evenement/154-inloopavond-oa-windows
DTSTART:20230310T183000Z
DTEND:20230310T210000Z
LOCATION:Gemeenschapshuis 't Trefpunt (Pancratiusstraat 23\, 6151 CD Munste
 rgeleen)
SUMMARY:Inloopavond oa Windows
URL:https://hcc.nl/agenda/evenement/154-inloopavond-oa-windows
END:VEVENT
BEGIN:VEVENT
UID:20260423T173122UTC-2770kpvp2N@https://hcc.nl/
DTSTAMP:20260423T173122Z
DESCRIPTION:Donderdag\, 09 maart 2023\, 19:30 - 22.00 uur\nBijeenkomst Linu
 xgroep\nGratis herinstallatie van uw (oude) Windows laptop met de nieuwste
 Linux Mint 21\nU komt langs met uw laptop en wij beoordelen of het mogelij
 k is om de installatie uit te voeren.\nLinux Mint is een gratis open sourc
 e besturingssyteem.Het is snel\, gemakkelijk en bovendien erg veilig!Voor 
 vragen over Linux kunt u altijd bij HCC Zevenaar terecht!\n De zaal is ope
 n vanaf 19.30u. Aanvang bijeenkomst om 20.00u (tot 22.00u). Aanmelding is 
 niet nodig. Het eerste bezoek is gratis.\nU bent van harte welkom.\nVoor n
 adere info kijk op onze website: https://apeldoorn.hcc.nl  \n  https://hcc
 .nl/agenda/evenement/189-inloop-en-bijeenkomst-linuxgroep
DTSTART:20230309T183000Z
DTEND:20230309T210000Z
LOCATION: ()
SUMMARY:Inloop en bijeenkomst Linuxgroep
URL:https://hcc.nl/agenda/evenement/189-inloop-en-bijeenkomst-linuxgroep
END:VEVENT
BEGIN:VEVENT
UID:20260423T173122UTC-2771l2NPId@https://hcc.nl/
DTSTAMP:20260423T173122Z
DESCRIPTION:Donderdag\, 09 maart 2023\, 19:30 - 22:30 uur\nInfo volgt..snel
   \n  https://hcc.nl/agenda/evenement/191-presentatie-fotogroep
DTSTART:20230309T183000Z
DTEND:20230309T213000Z
LOCATION:NewTechPark (Vlijtseweg 148\, 7317 AK Apeldoorn)
SUMMARY:Presentatie Fotogroep
URL:https://hcc.nl/agenda/evenement/191-presentatie-fotogroep
END:VEVENT
BEGIN:VEVENT
UID:20260423T173122UTC-27718VhL5g@https://hcc.nl/
DTSTAMP:20260423T173122Z
DESCRIPTION:Zaterdag\, 11 maart 2023\, 13:30 - 15:00 uur\n \nWij nodigen ju
 llie graag uit voor een presentatie over ChatGPT op 11 maart om 13:30 uur.
 \nDeze presentatie wordt gehouden door ChatGPT zelf en belooft zeer intere
 ssant te worden!\nChatGPT is een revolutionaire taalmodel ontwikkeld door 
 OpenAI en is ontworpen om op een menselijke manier te communiceren met geb
 ruikers.\nHet model is getraind op enorme hoeveelheden gegevens en kan vra
 gen beantwoorden\, suggesties doen en zelfs creatieve antwoorden producere
 n.\nIn deze presentatie zullen we meer leren over hoe ChatGPT werkt\, wat 
 de toepassingen zijn en hoe het de manier waarop we communiceren met compu
 ters kan veranderen.\nWe zullen ook een live demonstratie geven van hoe Ch
 atGPT werkt en hoe je het kunt gebruiken.\n \nU bent van harte welkom om d
 eze presentatie bij te wonen en meer te leren over dit innovatieve en fasc
 inerende taalmodel! https://hcc.nl/agenda/evenement/193-presentatie-chatgp
 t
DTSTART:20230311T123000Z
DTEND:20230311T140000Z
LOCATION: Wijkcentrum De Wereld (Laan van Berlijn 1\, 2034 SB Haarlem)
SUMMARY:Presentatie: ChatGPT
URL:https://hcc.nl/agenda/evenement/193-presentatie-chatgpt
END:VEVENT
BEGIN:VEVENT
UID:20260423T173122UTC-2771R1jjSO@https://hcc.nl/
DTSTAMP:20260423T173122Z
DESCRIPTION:Donderdag\, 09 maart 2023\, 19:30 - 22:30 uur\n   \nLocatie Wij
 khuis de WestwijzerCortenbachstraat 70HelmondBrabant5707 TJNederland0492-5
 4.43.45\nhttp://westwijzer.info/organisaties/wijkhuis/ https://hcc.nl/agen
 da/evenement/195-videobewerken
DTSTART:20230309T183000Z
DTEND:20230309T213000Z
LOCATION:Wijkhuis de Westwijzer  (Cortenbachstraat 70\, 5707 TJ Helmond)
SUMMARY:Videobewerken
URL:https://hcc.nl/agenda/evenement/195-videobewerken
END:VEVENT
BEGIN:VEVENT
UID:20260423T173122UTC-2772xzEBvI@https://hcc.nl/
DTSTAMP:20260423T173122Z
DESCRIPTION:Maandag\, 13 maart 2023\, 19:30 - 22:00 uur\n  \nBijkletsen ove
 r allerlei ivm Flightsim (of meer)\n \nhttp://www.buurtruimte040.nl/buurtr
 uimten/buurtruimte/wijkcentrum-t-slot\n https://hcc.nl/agenda/evenement/19
 7-zwetsavond
DTSTART:20230313T183000Z
DTEND:20230313T210000Z
LOCATION:Wijkcentrum 't Slot (Kastelenplein 167\, 5653 LX Eindhoven)
SUMMARY:Zwetsavond
URL:https://hcc.nl/agenda/evenement/197-zwetsavond
END:VEVENT
BEGIN:VEVENT
UID:20260423T173122UTC-2773pW4LEB@https://hcc.nl/
DTSTAMP:20260423T173122Z
DESCRIPTION:Woensdag\, 15 maart 2023\, 10:00 - 12:00 uur\n \nHeeft u een vr
 aag over of een probleem met uw Android apparaat? Onze deskundigen zitten 
 klaar om u te helpen.\n\nInstellingen aanpassen\nDownloaden van Apps\nUpda
 ten van Apps\nInstellen van e-mail\n\nEn nog veel meer!\n \n https://hcc.n
 l/agenda/evenement/199-inloop-android-hulp
DTSTART:20230315T090000Z
DTEND:20230315T110000Z
LOCATION:Bibliotheek Gorinchem (Groenmarkt 1\, 4201 EE Gorinchem)
SUMMARY:Inloop Android hulp
URL:https://hcc.nl/agenda/evenement/199-inloop-android-hulp
END:VEVENT
BEGIN:VEVENT
UID:20260423T173122UTC-2773hD3X2n@https://hcc.nl/
DTSTAMP:20260423T173122Z
DESCRIPTION:Maandag\, 13 maart 2023\, 19:30 - 22:00 uur\nWerkgroep Genealog
 ie\nHan Blijenberg van HCC!genealogie kan u helpen met het onderzoek naar 
 uw familie.\n  https://hcc.nl/agenda/evenement/201-bijeenkomst-hcc-zeeland
DTSTART:20230313T183000Z
DTEND:20230313T210000Z
LOCATION:De Burgerij Campus de Ruyter  (Van Hogendorpweg 58\, 4384 HA Vliss
 ingen)
SUMMARY:Bijeenkomst HCC!zeeland
URL:https://hcc.nl/agenda/evenement/201-bijeenkomst-hcc-zeeland
END:VEVENT
BEGIN:VEVENT
UID:20260423T173122UTC-2774eUwWPm@https://hcc.nl/
DTSTAMP:20260423T173122Z
DESCRIPTION:Donderdag\, 09 maart 2023\, 19:00 - 22:30 uur\n  https://hcc.nl
 /agenda/evenement/203-inloop-voor-alle-werkgroepen
DTSTART:20230309T180000Z
DTEND:20230309T213000Z
LOCATION:NewTechPark (Vlijtseweg 148\, 7317 AK Apeldoorn)
SUMMARY:Inloop voor alle werkgroepen
URL:https://hcc.nl/agenda/evenement/203-inloop-voor-alle-werkgroepen
END:VEVENT
BEGIN:VEVENT
UID:20260423T173122UTC-2774bd14FT@https://hcc.nl/
DTSTAMP:20260423T173122Z
DESCRIPTION:Donderdag\, 09 maart 2023\, 19:00 - 21:30\n   \nWe houden weer 
 een online sessie met onderwerpen die te maken hebben met Python\, vanavon
 d voor gevorderden.\nZie de voorpagina voor meer informatie. https://hcc.n
 l/agenda/evenement/205-online-python-sessie
DTSTART:20230309T180000Z
DTEND:20230309T203000Z
LOCATION: ()
SUMMARY:Online Python sessie
URL:https://hcc.nl/agenda/evenement/205-online-python-sessie
END:VEVENT
BEGIN:VEVENT
UID:20260423T173122UTC-2775kBuLMo@https://hcc.nl/
DTSTAMP:20260423T173122Z
DESCRIPTION:Maandag\, 13 maart 2023\, 20:00 - 22:00 uur\nHeeft u een vraag 
 over of een probleem met uw Android apparaat? Onze deskundigen zitten klaa
 r om u te helpen.\n\nInstellingen aanpassen\nDownloaden van Apps\nUpdaten 
 van Apps\nInstellen van e-mail\n\nEn nog veel meer!\n \n \n  https://hcc.n
 l/agenda/evenement/209-inloop-android-hulp
DTSTART:20230313T190000Z
DTEND:20230313T210000Z
LOCATION: ()
SUMMARY:Inloop Android hulp
URL:https://hcc.nl/agenda/evenement/209-inloop-android-hulp
END:VEVENT
BEGIN:VEVENT
UID:20260423T173122UTC-2776vPUxjc@https://hcc.nl/
DTSTAMP:20260423T173122Z
DESCRIPTION:Dinsdag\, 14 maart 2023\, 19:00 - 22:30 uur\nJe bent nu welkom 
 in de nieuwe locatie NewTechPark\nAls je hier dinsdagavond voor 15.00 uur 
 een mailtje stuurt kun je tussen 19.00 en 20.00 uur inloggen met Jitsi voo
 r vragen\, of ter kennismaking met hcc!3D.\nDat kan dan op:   https://wij.
 hcc.nl/3D (Alleen toegang als je zichtbaar bent met voor- en achternaam. )
 \nLocatie NewTechParkVlijtseweg 148ApeldoornGelderland7317 AKNederlandhttp
 s://newtechpark.nl https://hcc.nl/agenda/evenement/211-bijeenkomst-hcc-3d
DTSTART:20230314T180000Z
DTEND:20230314T213000Z
LOCATION:NewTechPark (Vlijtseweg 148\, 7317 AK Apeldoorn)
SUMMARY:Bijeenkomst hcc!3D
URL:https://hcc.nl/agenda/evenement/211-bijeenkomst-hcc-3d
END:VEVENT
BEGIN:VEVENT
UID:20260423T173122UTC-2776rItvfh@https://hcc.nl/
DTSTAMP:20260423T173122Z
DESCRIPTION:Vrijdag\, 10 maart 2023\, 19:30 - 22:00 uur\n  \nVanavond kunne
 n jullie met vragen terecht over Windows\, Linux Mint\, Android\, Apple en
  nog veel meer.\nHeb je problemen met je hccnet.nl e-mail adres\, dan kunn
 en wij je ook helpen.\nHeb je nu al vragen of wil je ze op deze avond besp
 reken\, dan graag het contactformulier bij contact gebruiken.\nZaal open: 
 19:30 uur\nhttp://www.trefpuntmunstergeleen.nl https://hcc.nl/agenda/evene
 ment/213-inloopavond
DTSTART:20230310T183000Z
DTEND:20230310T210000Z
LOCATION:Gemeenschapshuis 't Trefpunt (Pancratiusstraat 23\, 6151 CD Munste
 rgeleen)
SUMMARY:Inloopavond
URL:https://hcc.nl/agenda/evenement/213-inloopavond
END:VEVENT
BEGIN:VEVENT
UID:20260423T173122UTC-27776hZICd@https://hcc.nl/
DTSTAMP:20260423T173122Z
DESCRIPTION:Vrijdag\, 10 maart 2023\, 20:00 - 22:00 uur\n   \nWe houden wee
 r een online bijeenkomst over Games programmeren.\nAanmelden is niet nodig
 . Zie de voorpagina voor meer informatie. https://hcc.nl/agenda/evenement/
 214-online-games-programmeren-sessie
DTSTART:20230310T190000Z
DTEND:20230310T210000Z
LOCATION: ()
SUMMARY:Online Games programmeren sessie
URL:https://hcc.nl/agenda/evenement/214-online-games-programmeren-sessie
END:VEVENT
BEGIN:VEVENT
UID:20260423T173122UTC-2777okhl0z@https://hcc.nl/
DTSTAMP:20260423T173122Z
DESCRIPTION:Zaterdag\, 11 maart 2023\, 10:00 - 15:00 uur\nInloop dag met on
 dersteuning van de groepen :\nDe Afdeling Almere\nWindows i.g.\nDomotica i
 .g.\nhttp://Almere.hcc.nl https://hcc.nl/agenda/evenement/216-inloop
DTSTART:20230311T090000Z
DTEND:20230311T140000Z
LOCATION:De Wieken   (Wipmolenweg 54\, 1333 GS Almere)
SUMMARY:Inloop
URL:https://hcc.nl/agenda/evenement/216-inloop
END:VEVENT
BEGIN:VEVENT
UID:20260423T173122UTC-2778JeM43H@https://hcc.nl/
DTSTAMP:20260423T173122Z
DESCRIPTION:Zaterdag\, 11 maart 2023\, 13:15 - 16:15 uur \nBij ons kunt u t
 erecht met uiteenlopende computervragen.Elke maand staan er weer vrijwilli
 gers klaar om u te helpen bij computervragen.\n\nSoftwarehulp (Linux\, mac
  en Windows)\nSmartphone\, Android\nVideobewerking\nFoto bewerking\nTestba
 nk/hardware\n\n  https://hcc.nl/agenda/evenement/218-regio-bijeenkomst-ken
 nemerland
DTSTART:20230311T121500Z
DTEND:20230311T151500Z
LOCATION: Wijkcentrum De Wereld (Laan van Berlijn 1\, 2034 SB Haarlem)
SUMMARY:Regio bijeenkomst Kennemerland
URL:https://hcc.nl/agenda/evenement/218-regio-bijeenkomst-kennemerland
END:VEVENT
BEGIN:VEVENT
UID:20260423T173122UTC-2779RiVFaX@https://hcc.nl/
DTSTAMP:20260423T173122Z
DESCRIPTION:Zaterdag\, 11 maart 2023\, 19:00 - 21:00 uur\n   \nWe houden we
 er een online bijeenkomst over Pascal.\nAanmelden is niet nodig\, zie de v
 oorpagina voor meer informatie. https://hcc.nl/agenda/evenement/220-online
 -pascal-sessie
DTSTART:20230311T180000Z
DTEND:20230311T200000Z
LOCATION: ()
SUMMARY:Online Pascal sessie
URL:https://hcc.nl/agenda/evenement/220-online-pascal-sessie
END:VEVENT
BEGIN:VEVENT
UID:20260423T173122UTC-2779ftvBuU@https://hcc.nl/
DTSTAMP:20260423T173122Z
DESCRIPTION:Zaterdag\, 11 maart 2023\, 19:00 - 21:00 uur\n   \nWe houden we
 er een online bijeenkomst over Pascal.\nAanmelden is niet nodig\, zie de v
 oorpagina voor meer informatie. https://hcc.nl/agenda/evenement/222-online
 -pascal-sessie
DTSTART:20230311T180000Z
DTEND:20230311T200000Z
LOCATION: ()
SUMMARY:Online Pascal sessie
URL:https://hcc.nl/agenda/evenement/222-online-pascal-sessie
END:VEVENT
BEGIN:VEVENT
UID:20260423T173122UTC-2780BmkM99@https://hcc.nl/
DTSTAMP:20260423T173122Z
DESCRIPTION:Maandag\, 13 maart 2023\, 20:00 - 22:00 uur\n   \nWe houden wee
 r een online bijeenkomst over Visual Basic.\nAanmelden is niet nodig\, zie
  de voorpagina voor meer informatie. https://hcc.nl/agenda/evenement/224-o
 nline-visual-basic-sessie
DTSTART:20230313T190000Z
DTEND:20230313T210000Z
LOCATION: ()
SUMMARY:Online Visual Basic sessie
URL:https://hcc.nl/agenda/evenement/224-online-visual-basic-sessie
END:VEVENT
BEGIN:VEVENT
UID:20260423T173122UTC-27816lmkB3@https://hcc.nl/
DTSTAMP:20260423T173122Z
DESCRIPTION:Woensdag\, 15 maart 2023\, 19:30 - 22:00 uur\n  Zijn onze vlieg
 middagen te ver weg voor je? Sluit dan eens aan op ons digitaal koffie-uur
 tje!\nEens per maand op een woensdagavond\, gewoon thuis online in de kome
 nde drie maanden.\nWe willen het laagdrempelig houden om ook de leden die 
 wat terughoudend zijn een kans te geven om ervaringen te delen en te horen
  hoe anderen drone-vliegen ervaren.\nThema voor deze avond is: \n'Deze moe
 t nog worden bepaald . Als een lid nog iets kan vertellen waar andere lede
 n iets van kunnen opsteken geef dit dan even door aan het bestuur HCC!dron
 es.\nWat heb je nodig en hoe doe je dit? Het komt allemaal langs op het Ko
 ffie-uurtje.\nDus ben je nieuwsgierig\, kom gerust even online langs.\nOp 
 de website van HCC vind je Jitsi handleidingen voor iPad\, Android tablet\
 , laptop en desktop en een file met tips over de sneltoetsen van Jitsi: ht
 tps://www.hcc.nl/vereniging/webinars\nJe hoeft je voor ons Koffie-uurtje n
 iet van te voren aan te melden\, je kan vanaf 19.15 uur zo deelnemen via d
 eze link: https://wij.hcc.nl/drones  https://hcc.nl/agenda/evenement/226-d
 igitaal-koffie-uurtje-voor-hcc-drones-leden
DTSTART:20230315T183000Z
DTEND:20230315T210000Z
LOCATION: ()
SUMMARY:Digitaal koffie-uurtje voor HCC!drones leden
URL:https://hcc.nl/agenda/evenement/226-digitaal-koffie-uurtje-voor-hcc-dro
 nes-leden
END:VEVENT
BEGIN:VEVENT
UID:20260423T173122UTC-2782JUu09V@https://hcc.nl/
DTSTAMP:20260423T173122Z
DESCRIPTION:Woensdag\, 15 maart 2023\, 20:00 - 22:00 uur\n   \nWe houden we
 er een online bijeenkomst over Liberty BASIC.\nAanmelden is niet nodig\, z
 ie de voorpagina voor meer informatie. https://hcc.nl/agenda/evenement/228
 -online-liberty-basic-sessie
DTSTART:20230315T190000Z
DTEND:20230315T210000Z
LOCATION: ()
SUMMARY:Online Liberty BASIC sessie
URL:https://hcc.nl/agenda/evenement/228-online-liberty-basic-sessie
END:VEVENT
BEGIN:VEVENT
UID:20260423T173122UTC-2782CWXjjv@https://hcc.nl/
DTSTAMP:20260423T173122Z
DESCRIPTION:Dinsdag\, 14 maart 2023\, 10:00 - 12:00 uur\nOnze inloop is bed
 oeld voor iedereen die praktische hulp en ondersteuning nodig heeft bij he
 t gebruik van uw tablet en smartphone.Te denken valt aan:- apps installere
 n- accounts aanmaken op uw apparaten(breng dan uw inloggegevens mee)- E-ma
 il problemen.- Instellingen aanpassen - Zowel voor Apple\, Android als Win
 dows!\n  https://hcc.nl/agenda/evenement/238-inloop-digitale-hulp
DTSTART:20230314T090000Z
DTEND:20230314T110000Z
LOCATION:Bibliotheek AanZet (Pietersweer 34\, 3371 PN Hardinxveld-Giessenda
 m)
SUMMARY:Inloop digitale hulp
URL:https://hcc.nl/agenda/evenement/238-inloop-digitale-hulp
END:VEVENT
BEGIN:VEVENT
UID:20260423T173122UTC-2783Fs9zAX@https://hcc.nl/
DTSTAMP:20260423T173122Z
DESCRIPTION:Woensdag\, 15 maart 2023\, 14:00 - 16:30 uur\nvoor computergere
 lateerd problemen met de mogelijkheid tot het stellen van vragen.\n  https
 ://hcc.nl/agenda/evenement/240-helpdesk-helmond
DTSTART:20230315T130000Z
DTEND:20230315T153000Z
LOCATION:De Geseldonk (Cederhoutstraat 44\, 5706 XC Helmond)
SUMMARY:Helpdesk Helmond
URL:https://hcc.nl/agenda/evenement/240-helpdesk-helmond
END:VEVENT
BEGIN:VEVENT
UID:20260423T173122UTC-27835WCHOA@https://hcc.nl/
DTSTAMP:20260423T173122Z
DESCRIPTION:Dinsdag\, 14 maart 2023\, 10:00 - 12:00 uur\nDe smart tv neemt 
 voor velen een belangrijke plaats in. De ontwikkeling gaat snel en de moge
 lijkheden nemen enorm toe. Laat u zich hierdoor verleiden om\, wellicht ee
 rder dan noodzakelijk\, uw tv te vervangen door een moderner exemplaar? La
 at u zich daarbij dan leiden door uw behoefte of door de gladde praatjes v
 an de verkoper?Deze presentatie geeft u voldoende informatie over de belan
 grijkste aspecten van een smart tv\, aan de hand waarvan u een betere keuz
 e kunt maken: wel of geen nieuwe tv en\, kiest u voor een nieuwe tv\, welk
 e.\nIn 2023 hebben wij weer meerdere interessante onderwerpen op de agenda
  staan. Kijk ook regelmatig op onze website www.seniorenacademie.hcc.nl. 
 \n https://hcc.nl/agenda/evenement/246-slimme-televisie-smart-tv
DTSTART:20230314T090000Z
DTEND:20230314T110000Z
LOCATION:Activiteitencentrum Orka  (Broekakkerseweg 1\, 5641 PC Eindhoven)
SUMMARY:Slimme televisie-Smart TV
URL:https://hcc.nl/agenda/evenement/246-slimme-televisie-smart-tv
END:VEVENT
BEGIN:VEVENT
UID:20260423T173122UTC-2784u3s8KH@https://hcc.nl/
DTSTAMP:20260423T173122Z
DESCRIPTION:Dinsdag\, 14 maart 2023\, 13:30 - 15:30 uur\n De smart tv neemt
  voor velen een belangrijke en centrale plaats in. De ontwikkeling gaat sn
 el en de mogelijkheden nemen enorm toe. Laat jij je hierdoor verleiden om\
 , wellicht eerder dan noodzakelijk\, jouw tv te vervangen door een moderne
 r exemplaar?Deze presentatie geeft je informatie over de belangrijkste asp
 ecten van een smart tv. Hiermee kun je de werking van de smart tv beter be
 grijpen\, de mogelijkheden beter gebruiken of een betere keuze maken: wel 
 of geen nieuwe tv en indien wel welke tv.Wat is een Smart TV?Een Smart TV 
 is een televisie die je op een makkelijke manier kunt verbinden met het in
 ternet. Door het toevoegen van een besturingssysteem aan een tv wordt het 
 een slimme televisie (smart tv) en kun je gebruik maken van applicaties (a
 pps/programma’s) over het internet. Afhankelijk van dit besturingssysteem 
 zijn er meer of minder apps aanwezig.door Henk Geesink\n  https://hcc.nl/a
 genda/evenement/248-smart-tv
DTSTART:20230314T123000Z
DTEND:20230314T143000Z
LOCATION:Wijkgebouw Bijdorp (Bijdorplaan 471\, 2713 SZ Zoetermeer)
SUMMARY:Smart TV
URL:https://hcc.nl/agenda/evenement/248-smart-tv
END:VEVENT
BEGIN:VEVENT
UID:20260423T173122UTC-2784VkeCvE@https://hcc.nl/
DTSTAMP:20260423T173122Z
DESCRIPTION:Dinsdag\, 14 maart 2023\, 13:00 - 16:00 uur\n Het is volop in d
 e aandacht op dit moment. Teksten maken met het ChatGPT programma.\nChatGP
 T is een AI-model dat is ontwikkeld door OpenAI en is een type Natural Lan
 guage Processing (NLP)-model. Het is gespecialiseerd in taalverwerking en 
 kan daarom taalvaardigheden vertonen\, zoals antwoorden geven op vragen\, 
 gesprekken voeren en tekst genereren.\nEen belangrijk voordeel van ChatGPT
  is dat het een enorme hoeveelheid kennis heeft opgeleverd tijdens het tra
 iningsproces. Dit betekent dat het model in staat is om antwoorden te geve
 n op vragen over een breed scala aan onderwerpen\, waaronder wetenschap\, 
 technologie\, geschiedenis en vele andere.\nOp onze website vind je nog aa
 nvullende informatie.\nPresentator is Ger Stok\nZaal open: 13.00 uurStart 
 presentatie: 13.30 uur\n  https://hcc.nl/agenda/evenement/250-presentatie-
 meer-over-chatgpt
DTSTART:20230314T120000Z
DTEND:20230314T150000Z
LOCATION:Speeltuin Pascal (Pascalweg 12\, 3076 JP Rotterdam)
SUMMARY:Presentatie: Meer over ChatGPT
URL:https://hcc.nl/agenda/evenement/250-presentatie-meer-over-chatgpt
END:VEVENT
END:VCALENDAR
