BEGIN:VCALENDAR
VERSION:2.0
PRODID:-//https://hcc.nl///NONSGML kigkonsult.se iCalcreator 2.10.15//
METHOD:PUBLISH
BEGIN:VEVENT
UID:20260420T155541UTC-26145EXt1N@https://hcc.nl/
DTSTAMP:20260420T155541Z
DESCRIPTION:Heeft u een vraag over of een probleem met uw Android apparaat?
  Onze deskundigen zitten klaar om u te helpen.\n\nInstellingen aanpassen\n
 Downloaden van Apps\nUpdaten van Apps\nInstellen van e-mail\n\nEn nog veel
  meer! https://hcc.nl/agenda/evenement/127-inloop-android-hulp
DTSTART:20230308T090000Z
DTEND:20230308T110000Z
LOCATION:Bibliotheek Gorinchem (Groenmarkt 1\, 4201 EE Gorinchem)
SUMMARY:Inloop Android hulp
URL:https://hcc.nl/agenda/evenement/127-inloop-android-hulp
END:VEVENT
BEGIN:VEVENT
UID:20260420T155541UTC-2615U9wrVK@https://hcc.nl/
DTSTAMP:20260420T155541Z
DESCRIPTION:Deze eerste bijeenkomst van de maand maart van onze werkgroep i
 s vooral gewijd aan 3D zaken\, maar IoT onderwerpen worden oogluikend toeg
 estaan. We doen het\, zoals inmiddels gebruikelijk\, in hybride vorm\, dus
  zowel fysiek in de Meent zonder allerlei hinderlijke beperkingen\, en onl
 ine via 'wij.hcc.nl'. Vaste deelnemers kennen het webadres\, nieuwkomers v
 ragen\, o.v.v hun HCC lidnummer op de Onderwerpregel\, toegang via hccregi
 o.amsterdam@gmail.com. Niet HCC leden zijn - voor een kennismaking - via h
 etzelfde adres ook welkom. https://hcc.nl/agenda/evenement/129-hybride-bij
 eenkomst-iot
DTSTART:20230308T190000Z
DTEND:20230308T213000Z
LOCATION: ()
SUMMARY:Hybride bijeenkomst IoT 
URL:https://hcc.nl/agenda/evenement/129-hybride-bijeenkomst-iot
END:VEVENT
BEGIN:VEVENT
UID:20260420T155541UTC-2616XidMmM@https://hcc.nl/
DTSTAMP:20260420T155541Z
DESCRIPTION:Woensdag\, 08 maart 2023\, \nGrote zaal BG\,  20:00 - 22:30 uur
 :\n \nOnze Linux Mint werkgroep is gestart naar aanleiding van de Senioren
 Inloop september 2022. De leden zijn aanwezig in de Grote Zaal BG. \nOp ee
 n kleine\, wat oudere PC is de meest uitgebreide versie Linux Mint 21 Cinn
 amon geïnstalleerd.Als je wilt zien hoe makkelijk en soepeltjes die oude p
 c toch werkt\, en dat software voor alle mogelijke internet- en kantoortak
 en - zonder kosten - beschikbaar zijn\, of als je vragen hebt of gewoon ee
 n keer met Linux kenniswilt maken: dan ben je hartstikke (en vrijblijvend!
 ) welkom.  https://hcc.nl/agenda/evenement/187-linux-mint-werkgroep
DTSTART:20230308T190000Z
DTEND:20230308T213000Z
LOCATION: ()
SUMMARY:Linux Mint werkgroep
URL:https://hcc.nl/agenda/evenement/187-linux-mint-werkgroep
END:VEVENT
END:VCALENDAR
