BEGIN:VCALENDAR
VERSION:2.0
PRODID:-//https://hcc.nl///NONSGML kigkonsult.se iCalcreator 2.10.15//
METHOD:PUBLISH
BEGIN:VEVENT
UID:20260421T003430UTC-755180f92l@https://hcc.nl/
DTSTAMP:20260421T003430Z
DESCRIPTION:Je bent nu welkom in de nieuwe locatie NewTechPark\nAls je hier
  dinsdagavond voor 15.00 uur een mailtje stuurt kun je tussen 19.00 en 20.
 00 uur inloggen met Jitsi voor vragen\, of ter kennismaking met hcc!3D.\nD
 at kan dan op: https://wij.hcc.nl/3D(Alleen toegang als je zichtbaar bent 
 met voor- en achternaam. ) https://hcc.nl/agenda/evenement/123-hcc-3d-hybr
 ide-bijeenkomst
DTSTART:20230307T180000Z
DTEND:20230307T210030Z
LOCATION:NewTechPark (Vlijtseweg 148\, 7317 AK Apeldoorn)
SUMMARY:HCC!3d Hybride bijeenkomst
URL:https://hcc.nl/agenda/evenement/123-hcc-3d-hybride-bijeenkomst
END:VEVENT
BEGIN:VEVENT
UID:20260421T003430UTC-7552Ni3gaU@https://hcc.nl/
DTSTAMP:20260421T003430Z
DESCRIPTION:Periodieke inloopavond. https://hcc.nl/agenda/evenement/125-inl
 oopavond
DTSTART:20230307T190000Z
DTEND:20230307T210000Z
LOCATION:Dorpshuis “Ons Dorpsleven” (Poelvoordestraat 3\, 4431 BP 's-Graven
 polder)
SUMMARY:Inloopavond
URL:https://hcc.nl/agenda/evenement/125-inloopavond
END:VEVENT
BEGIN:VEVENT
UID:20260421T003430UTC-7553vVGZ4M@https://hcc.nl/
DTSTAMP:20260421T003430Z
DESCRIPTION:‘Energiekosten bekijken met slimme meter’ (in Venlo en online)
 \nDinsdag\, 07 maart 2023 van 20:00 tot 22:30\nContact : Het bestuur\nOp d
 insdag 7 maart organiseert HCC!Noord-Limburg i.s.m. collega's van HCC!Gron
 ingen en HCC!Friesland de presentatie ‘Energiekosten bekijken met slimme m
 eter’. De presentatie zal online\, als webinar en bij HCC!friesland fysiek
  gegeven worden door Roel Tiemersma uit Friesland. Geïnteresseerden kunnen
  de presentatie dus vanuit thuis bijwonen\, maar waarbij wij als Noord-Lim
 burg de presentatie tevens op onze beamer tonen zodat we ook fysieke bezoe
 kers kunnen ontvangen. De presentator heeft op deze manier al vaker gewerk
 t en heeft daar dus positieve ervaringen mee. Info over de presentatie:\nI
 n deze tijd van energieschaarste en stijgende prijs is het van wezenlijk b
 elang\, dat we besparen en minder uitgeven.\nDe presentatie bestaat uit 2 
 delen:\n\nRoel Tiemersma van de regio Fryslân vertelt en laat zien hoe je 
 via internet op je telefoon je slimme meter kunt uitlezen en ook kunt zien
  wat je zonnepanelen hebben opgeleverd.\nJan Boerema van de regio Groninge
 n vertelt en laat zien hoe de Raspberry Pi gebruikt om je slimme meter uit
  te lezen en een periode-overzicht krijgt van het stroomgebruik.\n\nDe pre
 sentaties komen voor alle leden achteraf beschikbaar in ons Download deel 
 v/d website.\nJe hoeft je voor deze online presentatie niet van te voren a
 an te melden\, je kan vanaf 19.45 uur zo deelnemen via deze link: https://
 wij.hcc.nl/HCC-Noord-Limburg-energie https://hcc.nl/agenda/evenement/168-p
 resentatie-energiekosten-bekijken-met-slimme-meter
DTSTART:20230307T190000Z
DTEND:20230307T213000Z
LOCATION:Zalencentrum De Witte Kerk (Agnes Huijnstraat 3\, 5914 PE Venlo)
SUMMARY:Presentatie 'Energiekosten bekijken met slimme meter' 
URL:https://hcc.nl/agenda/evenement/168-presentatie-energiekosten-bekijken-
 met-slimme-meter
END:VEVENT
BEGIN:VEVENT
UID:20260421T003430UTC-75535Wae70@https://hcc.nl/
DTSTAMP:20260421T003430Z
DESCRIPTION:Dinsdagmiddag 7 maart 2023 van 13.30 – 16.30 uur is er weer een
  inloop bijeenkomst in Steenwijk\nU kunt daar terecht met vragen over comp
 uter hardware en software\, tablets\, gsm's etc. Ook over verschillende be
 sturingssystemen als windows\, Linux\, Ios.\nWellicht zijn er leden aanwez
 ig die zich bezighouden met fotobewerkingssoftware of videobewerking. We h
 elpen elkaar bij eventuele vragen.\nTijdens deze bijeenkomst zijn er werkg
 roepen actief.A. De werkgroep Apple (in contact met HCC!apple). Vragen ove
 r hard- en software kunnen gesteld worden.B. En de werkgroep Raspberry Pi.
  https://hcc.nl/agenda/evenement/183-inloop-steenwijk
DTSTART:20230307T123000Z
DTEND:20230307T153000Z
LOCATION:Theater de Meenthe (Stationsplein 1\, 8331 GM Steenwijk)
SUMMARY:Inloop Steenwijk
URL:https://hcc.nl/agenda/evenement/183-inloop-steenwijk
END:VEVENT
END:VCALENDAR
