BEGIN:VCALENDAR
VERSION:2.0
PRODID:-//https://hcc.nl///NONSGML kigkonsult.se iCalcreator 2.10.15//
METHOD:PUBLISH
BEGIN:VEVENT
UID:20260420T175515UTC-1442vXMzoL@https://hcc.nl/
DTSTAMP:20260420T175515Z
DESCRIPTION:Inloopdag georganiseerd door de HCC!almere met ondersteuning va
 n de groepen- HCC!windows- HCC!domotica-IoT- HCC!genealogie: Chris Mommenh
 of van de HCC!genealogie is iedere 1e zaterdag van de maand aanwezig op de
 ze dag- HCC!seniorenacademie https://hcc.nl/agenda/evenement/107-inloopdag
DTSTART:20230304T090000Z
DTEND:20230304T140000Z
LOCATION:Holleblok (Holleblok 2\, 1273 EG Huizen)
SUMMARY:Inloopdag
URL:https://hcc.nl/agenda/evenement/107-inloopdag
END:VEVENT
BEGIN:VEVENT
UID:20260420T175515UTC-14445ebrrM@https://hcc.nl/
DTSTAMP:20260420T175515Z
DESCRIPTION:Zoals gebruikelijk komen we op de 1e zaterdag van de maand weer
  bijeen in Hooglanderveen (vlakbij Amersfoort) om ideeën\, ervaringen\, ti
 ps\, en andere informatie uit te wisselen op het gebied van AI (= kunstmat
 ige intelligentie).\nEen belangrijk onderdeel is de 'plenaire sessie'\, ee
 n groepsgesprek waarin allerlei aspecten van AI aan de orde kunnen komen. 
 Deze staat gepland om 13:00 en zal\, als de techniek meewerkt\, ook online
  te volgen zijn via wij.hcc.nl.\nDe plenaire sessie begint met een 'invent
 arisatierondje' waarin iedereen één of meer onderwerpen kan aandragen\, wa
 arna de voorzitter bepaalt in welke volgorde deze aan de beurt komen. Voor
  (en soms ook na) de plenaire sessie is er gelegenheid voor een bezoekje a
 an de kantine\, een kijkje bij de Robotica interessegroep\, informele gesp
 rekken in kleinere groepjes\, en/of zelfwerkzaamheid.\nWilt u geregeld van
  tevoren een herinnering aan onze bijeenkomsten ontvangen\, dan kunt U zic
 h (via het menu-item 'HCC' bovenaan) aanmelden voor de HCC-ai nieuwsbrief 
 (per email). https://hcc.nl/agenda/evenement/109-bijeenkomst
DTSTART:20230304T100000Z
DTEND:20230304T150000Z
LOCATION:De Dissel  (Disselplein 8\, 3829 MD Hooglanderveen)
SUMMARY:Bijeenkomst 
URL:https://hcc.nl/agenda/evenement/109-bijeenkomst
END:VEVENT
BEGIN:VEVENT
UID:20260420T175515UTC-1445BwjeNR@https://hcc.nl/
DTSTAMP:20260420T175515Z
DESCRIPTION:De HCC!trainsim organiseert maandelijks een bijeenkomst voor le
 den van de HCC in De Meern. Introducés zijn ook welkom.\nVoor de bijeenkom
 st van 4 maart 2023 hoef je je niet aan te melden via onze website. Wij vr
 agen je de bijeenkomst alleen te bezoeken als je geen coronagerelateerde k
 lachten hebt en rekening te houden met de andere deelnemers.\nDe zaal is o
 pen van 11.00 tot 16.00 uur.\nHet programma voor deze dag is nog niet hele
 maal bekend en zal binnenkort op onze website en in onze nieuwsbrief beken
 d worden gemaakt.\nDit item is bijgewerkt op 20 januari 2023 13.00 uur. ht
 tps://hcc.nl/agenda/evenement/111-clubdag
DTSTART:20230304T100000Z
DTEND:20230304T150000Z
LOCATION:Cultureel Centrum De Schalm (Oranjelaan 10\, 3454 BT De Meern)
SUMMARY:Clubdag
URL:https://hcc.nl/agenda/evenement/111-clubdag
END:VEVENT
BEGIN:VEVENT
UID:20260420T175515UTC-1446KG5nau@https://hcc.nl/
DTSTAMP:20260420T175515Z
DESCRIPTION:Namens het bestuur nodig ik u uit om op zaterdag 4 maart 2023 d
 e 1e Landelijke Bijeenkomst van 2023 van HCC!genealogie bij te wonen.De bi
 jeenkomst zal worden gehouden in het H.F. Witte Cultuur- en vergadercentru
 m\, Henri Dunantplein 4\, 3731 CL De Bilt.\nIn tegenstelling tot eerdere b
 ijeenkomsten worden er GEEN video-opnames gemaakt.\nHet Programma van de b
 ijeenkomst is als volgt:\n11.00 uur Opening door de Voorzitter de heer C. 
 Heystek.\n11.05 uur Annemieke van der Vegt: Hoe heette Christiaan?\nIn de 
 presentie neemt Annemieke van der Vegt u mee op de zoektocht naar het verg
 eten levensverhaal van haar voorvader Christiaan die geboren werd op de Ku
 st van Guinee\, als gestolen kind naar Nederland werd gebracht. Hij diende
  als kind verschillende leden van het Stadhouderlijk Hof\, waar na hij aan
  de Burgemeester van Weesp werd gegeven die hem aannam als “antiqiteit”.Vo
 or zijn doop werd hij Presto genoemd. Welke naam zijn ouders hem gegeven h
 ebben\, is (nog) onbekend\, vandaar de naam van het onderzoek “Hoe heette 
 Christiaan?”Niet alleen onderzoek zij zijn leven en de wereld waarin hij l
 eefde maar ook dat van zijn kinderen en kleinkinderen. Tijdens de speurtoc
 ht ontdekte zij dat Christiaan lang niet het enige Afrikaanse jongetje was
  die als bediende in Nederland terecht kwam. Ook over de anderen.\nEen boe
 iende presentatie waar ook het slaverijverleden en DNA aan bod komen.\nPAU
 ZE van 12.30 tot 13.30 uur.\nIn de pauze kunt u gebruik maken van de uitst
 ekende lunchfaciliteiten.\n13.30 uur Alex Dekker: Wat als familieleden als
  NSB-lid\, Waffen-SS'er of NSKK'er collaboreerde?\nAlex Dekker\, docent Ge
 schiedenis/Duits in het VSO\, doet inmiddels al ruim dertig jaar onderzoek
  naar de Tweede Wereldoorlog. Hij publiceerde meerdere artikelen over de o
 orlog\, in onder andere het tijdschrift Wereld in Oorlog\, Terugblik '40-'
 45 en op Historiek.nl. Momenteel doet hij archiefonderzoek naar de bijdrag
 en van Nederlanders aan het NSKK\, het vrachtwagenkorps van het Duitse leg
 er. Hij is tevens hoofdredacteur van het Bulletin\, van Werkgroep Herkenni
 ng. In de presentatie zal hij zijn eigen familiegeschiedenis centraal stel
 len. Een Duitse opa die als onderofficier diende en een Nederlandse oma: n
 a lang zoeken ontrafelde Alex Dekker een verborgen geschiedenis. Een gesch
 iedenis die behoorlijk veel impact had en nog steeds heeft. Daarnaast spre
 ekt hij over een vergelijkbare groep mensen: Wat als familieleden als NSB-
 lid\, Waffen-SS'er of NSKK'er collaboreerde?\n \n15.30 uur Sluiting door d
 e Voorzitter.\nTot ziens in De Bilt.In de directe omgeving van de vergader
 lokatie is voldoende parkeergelegenheid.Voor een routebeschrijving klik hi
 er. https://hcc.nl/agenda/evenement/113-landelijke-bijeenkomst
DTSTART:20230304T100000Z
DTEND:20230304T143000Z
LOCATION:Cultureel en Vergadercentrum H.F. Witte (Henri Dunantplein 4\, 373
 1 CL De Bilt)
SUMMARY:Landelijke bijeenkomst
URL:https://hcc.nl/agenda/evenement/113-landelijke-bijeenkomst
END:VEVENT
BEGIN:VEVENT
UID:20260420T175515UTC-1448onOoep@https://hcc.nl/
DTSTAMP:20260420T175515Z
DESCRIPTION:We gaan vliegen nabij Apeldoorn / Deventer.\nzaterdag 4 maart v
 an 13:00 uur tot ca. 15:30 uur.Recreatiegebied Bussloo\, parkeerplaats Wil
 p.\nLet op dat je de juiste ingang neemt er zijn namelijk verschilende ron
 dom de plas. Neem de ingang 'Kneuterstraat\, 7384 CN\, Wilp'busllo vliegge
 biedGa dan bij T slitsing rechts en neem dan de derde parkeerplaats. (Dron
 es beachflag staat bij de ingang.)\nLet op: het is betaald parkeren (de ko
 sten hiervan zijn € 4\,-).\nOp het plaatje zie je blauw en geel gekleurde 
 vlakken dit zijn onze toegewezen vliegzone ’s. Buiten die zones is het nie
 t toegestaan met je drone te vliegen.\nKoffie en thee wordt uit de kofferb
 ak geserveerd.Aanmelden is verplicht via de link onderaan deze pagina (eer
 st inloggen).\nDit alles is onder voorbehoud van goed vliegweer.De vrijdag
 middag ervoor gaan we beoordelen of het door gaat.Deelnemers die zich hebb
 en ingeschreven krijgen vrijdag of zaterdagmorgen een bevestigingsmail.\nV
 eel vliegplezier gewenst!\nExacte locatie:https://goo.gl/maps/ZoEvGhYcFUaG
 MWth8\n https://hcc.nl/agenda/evenement/115-vliegmiddag-gelderland-bussloo
DTSTART:20230304T120000Z
DTEND:20230304T140000Z
LOCATION:Recreatiegebied Bussloo\, parkeerplaats 't Gorsselaar (Kneuterstra
 at 42\, 7384 CN Wilp)
SUMMARY:Vliegmiddag Gelderland (Bussloo)
URL:https://hcc.nl/agenda/evenement/115-vliegmiddag-gelderland-bussloo
END:VEVENT
BEGIN:VEVENT
UID:20260420T175515UTC-1449WlfJuM@https://hcc.nl/
DTSTAMP:20260420T175515Z
DESCRIPTION:Zaterdag\, 04 maart 2023\, 19:00 - 21:00 uur\n   \nWe houden we
 er een online bijeenkomst over Pascal.\nAanmelden is niet nodig\, zie de v
 oorpagina voor meer informatie. https://hcc.nl/agenda/evenement/162-online
 -pascal-sessie
DTSTART:20230304T180000Z
DTEND:20230304T200000Z
LOCATION: ()
SUMMARY:Online Pascal sessie
URL:https://hcc.nl/agenda/evenement/162-online-pascal-sessie
END:VEVENT
BEGIN:VEVENT
UID:20260420T175515UTC-14508nt2pz@https://hcc.nl/
DTSTAMP:20260420T175515Z
DESCRIPTION:Zaterdag\, 04 maart 2023\, 10:00 - 12:00\n Leren omgaan met de 
 3D printer en oplossen van eventuele problemen\n  https://hcc.nl/agenda/ev
 enement/185-3d-printen
DTSTART:20230304T090000Z
DTEND:20230304T110000Z
LOCATION:Wijkhuis de Westwijzer  (Cortenbachstraat 70\, 5707 TJ Helmond)
SUMMARY:3d printen
URL:https://hcc.nl/agenda/evenement/185-3d-printen
END:VEVENT
END:VCALENDAR
