BEGIN:VCALENDAR
VERSION:2.0
PRODID:-//https://hcc.nl///NONSGML kigkonsult.se iCalcreator 2.10.15//
METHOD:PUBLISH
BEGIN:VEVENT
UID:20260420T003557UTC-33875VH8nt@https://hcc.nl/
DTSTAMP:20260420T003557Z
DESCRIPTION:John Glaser en Cor van Rooij van de HCC!genealogie zijn aanwezi
 g en voor uw stamboomonderzoek.\nZij kunnen u helpen met vragen over het z
 oeken naar uw gegevens op internet\, maar ook hoe u uw gegevens vastlegt m
 et programma's zoals Aldfaer en GensDataPro. Ook vragen over de verschille
 nde DNA-testen kan John beantwoorden.\nEr zijn ook demo's van Ancestor Tre
 e Manager\, HuMo-gen en Geneaal en wereldstambomen.\nVoor meer info klik h
 ier. https://hcc.nl/agenda/evenement/83-genealogie
DTSTART:20230227T183000Z
DTEND:20230227T210000Z
LOCATION:De Brug (Schuilenburgerweg 2\, 3816 TB Amersfoort)
SUMMARY:Genealogie
URL:https://hcc.nl/agenda/evenement/83-genealogie
END:VEVENT
BEGIN:VEVENT
UID:20260420T003557UTC-3389A8SshU@https://hcc.nl/
DTSTAMP:20260420T003557Z
DESCRIPTION:We houden in Amersfoort weer de gebruikelijke inloop waar vele 
 interessegroepen aanwezig zijn\, om uw vragen gezamenlijk met u te besprek
 en en u voor te lichten over de nieuwe ontwikkelingen op uw interessegebie
 d. https://hcc.nl/agenda/evenement/85-inloopbijeenkomst
DTSTART:20230227T183000Z
DTEND:20230227T210000Z
LOCATION:De Brug (Schuilenburgerweg 2\, 3816 TB Amersfoort)
SUMMARY:Inloopbijeenkomst
URL:https://hcc.nl/agenda/evenement/85-inloopbijeenkomst
END:VEVENT
BEGIN:VEVENT
UID:20260420T003557UTC-33903Hi1MN@https://hcc.nl/
DTSTAMP:20260420T003557Z
DESCRIPTION:De werkgroep hcc!3D is aanwezig tijdens de inloop. https://hcc.
 nl/agenda/evenement/87-3d-werkgroep-in-amersfoort
DTSTART:20230227T190000Z
DTEND:20230227T210000Z
LOCATION:De Brug (Schuilenburgerweg 2\, 3816 TB Amersfoort)
SUMMARY:3d werkgroep in Amersfoort
URL:https://hcc.nl/agenda/evenement/87-3d-werkgroep-in-amersfoort
END:VEVENT
BEGIN:VEVENT
UID:20260420T003557UTC-3391AeVHS8@https://hcc.nl/
DTSTAMP:20260420T003557Z
DESCRIPTION:We houden weer een online bijeenkomst over Visual Basic.\nAanme
 lden is niet nodig.\nZie voor meer informatie https://programmeren.hcc.nl 
 https://hcc.nl/agenda/evenement/89-online-visual-basic-sessie
DTSTART:20230227T190000Z
DTEND:20230227T210000Z
LOCATION: ()
SUMMARY:Online Visual Basic sessie
URL:https://hcc.nl/agenda/evenement/89-online-visual-basic-sessie
END:VEVENT
BEGIN:VEVENT
UID:20260420T003557UTC-3391Gg8xWi@https://hcc.nl/
DTSTAMP:20260420T003557Z
DESCRIPTION:Heeft u een vraag over of een probleem met uw Android apparaat?
  Onze deskundigen zitten klaar om u te helpen.\n\nInstellingen aanpassen\n
 Downloaden van Apps\nUpdaten van Apps\nInstellen van e-mail\n\nEn nog veel
  meer! https://hcc.nl/agenda/evenement/91-inloop-android-hulp
DTSTART:20230227T190000Z
DTEND:20230227T210000Z
LOCATION:Huis van de Wijk Oostgaarde (De Linie 5\, 2905 AX Capelle aan den 
 IJssel)
SUMMARY:Inloop Android hulp
URL:https://hcc.nl/agenda/evenement/91-inloop-android-hulp
END:VEVENT
BEGIN:VEVENT
UID:20260420T003557UTC-33925X8lV4@https://hcc.nl/
DTSTAMP:20260420T003557Z
DESCRIPTION:Na de drukbezochte Mac upgrade workshop in Houten is er op 27 f
 ebruari in Amersfoort vanaf 20:00u ook een workshop OpenCore Legacy Patche
 r met duidelijke live voorbeelden hoe je macOS Monterey of Ventura of macO
 S Ventura op veel meer macs kunt installeren dan Apple je wil laten gelove
 n.Na installatie houdt dit programma je Mac een beetje voor de gek zodat j
 e het zonder problemen kunt upgraden. In de workshop hoor en zie je de voo
 rbereiding\, installatie en nabewerking.Een groot voordeel is dat je het o
 ok eerst kunt installeren op een externe USB schijf zodat je het zonder ri
 sico kunt uitproberen. https://hcc.nl/agenda/evenement/93-workshop-upgrade
 n-oude-macs-in-amersfoort
DTSTART:20230227T190000Z
DTEND:20230227T210000Z
LOCATION:De Brug (Schuilenburgerweg 2\, 3816 TB Amersfoort)
SUMMARY:Workshop upgraden oude Macs in Amersfoort
URL:https://hcc.nl/agenda/evenement/93-workshop-upgraden-oude-macs-in-amers
 foort
END:VEVENT
BEGIN:VEVENT
UID:20260420T003557UTC-3393wSRjpv@https://hcc.nl/
DTSTAMP:20260420T003557Z
DESCRIPTION:Maandag\, 27 februari 2023\, 19:30 - 22:00\nAlgemeen programmaD
 iverse werkgroepen o.a. Windows\, Android\, Linux en Apple.Internetcafé me
 t draadloos internet beschikbaar.\nLinuxHeb je nog een oude computer waaro
 p Windows 7 of 8.1 draait en die niet meer wordt ondersteund door Microsof
 t? Laat je dan informeren over Linux Mint als vervangende besturing. Kom l
 angs en praat met onze deskundigen. \nRaspberry PiVind je het leuk om zelf
  met deze mini-pc aan de slag te gaan\, maar je kunt wel wat hulp gebruike
 n\, kom dan langs met je systeem. Er is gelegenheid om samen met anderen d
 eze computerhobby te beleven. Wil je gewoon eens kennismaken met dit fenom
 een\, dat kan natuurlijk ook.\nWindowsHeeft u vragen over Windows of probl
 emen ermee? Leg het voor aan de Windows deskundigen.\nAppleDe werkgroep Ap
 ple houdt zich bezig met Apple-apparatuur\, rand-apparatuur en Apple progr
 amma's. Bij de leden van de groep is veel kennis in huis van Apple PC\, iP
 ad en iPhone.U kunt terecht voor hulp en informatie.Meer informatie: Klik 
 hier\nAndroidHet besturingssyteem voor Smartphone en Tablet van diverse me
 rken apparaten. Heeft u vragen en/of problemen kom dan informeren bij onze
  deskundigen.\nFoto en VideoVoor het scannen van foto's en dia's is een sc
 anner beschikbaar. De Canoscan 9000F MarkII. Ook is het voor HCC-leden mog
 elijk om deze scanner tijdelijk gratis in bruikleen te krijgen voor thuis.
  Reserveren is gewenst bij locatiecoördinator Ger Stok.\nPythonPython is e
 en objectgeoriënteerde programmeertaal die ontwikkeld is door de Nederland
 er Guido van Rossem. Hij had het doel om een programmeertaal te ontwikkele
 n die voor iedereen gratis zou zijn\, makkelijk leesbaar en waar je van al
 les mee kunt maken. Nieuwsgierig geworden wat u er mee kunt? Onze werkgroe
 p programmeren kan u er meer over vertellen. \nComputerhulpDeskundigen zij
 n aanwezig voor hulp en advies. https://hcc.nl/agenda/evenement/175-werkgr
 oepen-en-computerhulp
DTSTART:20230227T183000Z
DTEND:20230227T210000Z
LOCATION:Oostgaarde (De Linie 5\, 2905 AX Capelle aan den IJssel)
SUMMARY:Werkgroepen en Computerhulp.
URL:https://hcc.nl/agenda/evenement/175-werkgroepen-en-computerhulp
END:VEVENT
END:VCALENDAR
