BEGIN:VCALENDAR
VERSION:2.0
PRODID:-//https://hcc.nl///NONSGML kigkonsult.se iCalcreator 2.10.15//
METHOD:PUBLISH
BEGIN:VEVENT
UID:20260421T115438UTC-7282FL7iua@https://hcc.nl/
DTSTAMP:20260421T115438Z
DESCRIPTION:Heeft u een vraag over of een probleem met uw Android apparaat?
  Onze deskundigen zitten klaar om u te helpen.\n\nInstellingen aanpassen\n
 Downloaden van Apps\nUpdaten van Apps\nInstellen van e-mail\n\nEn nog veel
  meer! https://hcc.nl/agenda/evenement/51-inloop-android-hulp
DTSTART:20230222T090000Z
DTEND:20230222T110000Z
LOCATION:Bibliotheek Gorinchem (Groenmarkt 1\, 4201 EE Gorinchem)
SUMMARY:Inloop Android hulp
URL:https://hcc.nl/agenda/evenement/51-inloop-android-hulp
END:VEVENT
BEGIN:VEVENT
UID:20260421T115438UTC-7283VULkzi@https://hcc.nl/
DTSTAMP:20260421T115438Z
DESCRIPTION:Vandaag een presentatie over : Linux Mint 21. Na de algemene pr
 esentatie over Linux in en de diverse distributies\, gaan we nu specifiek 
 in op de distributie Linux Mint. Dit is een van de prettigste distro's om 
 mee te beginnen. Ook voor de experts is deze distro prima geschikt. https:
 //hcc.nl/agenda/evenement/53-presentatie-linux-mint
DTSTART:20230222T090000Z
DTEND:20230222T110000Z
LOCATION:Gemeenschapshuis De Kuip (Bloemendalsweg 1B\, 7429 AL Colmschate)
SUMMARY:Presentatie Linux Mint
URL:https://hcc.nl/agenda/evenement/53-presentatie-linux-mint
END:VEVENT
BEGIN:VEVENT
UID:20260421T115438UTC-7284FZoPiX@https://hcc.nl/
DTSTAMP:20260421T115438Z
DESCRIPTION:Bijeenkomst voor het samen bouwen van websites met Joomla en Wo
 rdpress. Loop binnen en laat u wegwijs maken door onze specialist Harry Ho
 lman.\nDaarnaast hulp bij computer\, tablet en telefoon problemen. We prob
 eren u te helpen met alle voorkomende problemen. Neem uw wachtwoorden mee!
  https://hcc.nl/agenda/evenement/55-websites-bouwen-en-inloop-computerhulp
DTSTART:20230222T123000Z
DTEND:20230222T150000Z
LOCATION:Gemeenschapshuis De Kuip (Bloemendalsweg 1B\, 7429 AL Colmschate)
SUMMARY:Websites bouwen en inloop computerhulp
URL:https://hcc.nl/agenda/evenement/55-websites-bouwen-en-inloop-computerhu
 lp
END:VEVENT
BEGIN:VEVENT
UID:20260421T115438UTC-7284dJGrVb@https://hcc.nl/
DTSTAMP:20260421T115438Z
DESCRIPTION:Beste lezer\,\nVanavond komen leden van de ‘HCC!amsterdam IoT w
 erkgroep’ weer bijeen om te babbelen over diverse ‘Internet of Things’ toe
 passingen\, met sensoren en schakelingen met verschillende programmeertale
 n. Waarbij ze gerust ook verder praten over de 3D projecten die op 8 febru
 ari jl. in de 3D werkgroep werden besproken.\nKom deze avond naar de Meent
  of kies voor online deelname. In dat geval stuur je een mailtje met je HC
 C lidnummer en IoT online op de onderwerpregel\, aan  Voor fysieke deelnam
 e kom je gewoon naar de Meent. Geïnteresseerd maar geen HCC! lid? Ook dan 
 ben je welkom! https://hcc.nl/agenda/evenement/57-iot-werkgroep-de-meent-e
 n-online
DTSTART:20230222T190000Z
DTEND:20230222T210000Z
LOCATION: ()
SUMMARY:IoT werkgroep (De Meent en Online)
URL:https://hcc.nl/agenda/evenement/57-iot-werkgroep-de-meent-en-online
END:VEVENT
BEGIN:VEVENT
UID:20260421T115438UTC-7285zDMs8s@https://hcc.nl/
DTSTAMP:20260421T115438Z
DESCRIPTION:\n\nDe Regio’s Groningen\, Zuid-Drenthe en Fryslân organiseren 
 gezamenlijk één keer per maand een video-koffie-uur.\nHet wij.hcc.nl-platf
 orm dat hiervoor wordt gebruikt\, is opensource en gebruiksvriendelijk. Je
  hebt geen account nodig en kunt als lid direct deelnemen.\nWe hebben de e
 rvaring tot nu toe\, dat veel leden het prettig vinden om met videobijeenk
 omsten toch contact met elkaar te hebben. Het geeft een heel goede mogelij
 kheid om zaken over je digitale leven met elkaar te delen. Ook komen er vr
 agen en worden problemen aangekaart\, die dan door één of meerdere deelnem
 ers van een antwoord of oplossing worden voorzien.\nEr ligt altijd wel en 
 onderwerp voor gesprek op de plank.\nHoe gaat het in zijn werk?\nVoor deel
 name aan de Digitale koffie-uurtje HCC!Noord is het volgende URL aangemaak
 t. wij.hcc.nl/hccnoord-koffieuurtje\nEenmaal in de bijeenkomst worden eers
 t de camera en microfoon getest door de gastheer van de avond.Gebruik bij 
 voorkeur de browser Chrome of Edge Chromium.\nWeet je niet hoe wij.hcc.nl 
 werkt?\nOp de website van HCC kun je de handleiding bekijken van wij.hcc.n
 l\nJe kunt het testen met wij.hcc.nl/test. Lukt het niet? Stuur dan een ma
 il naar  voor help en ondersteuning.\nJe bent er klaar voor?\nLet dan op d
 e website en de Nieuwsbrief.\nLog op de website met Chrome of Edge kort vo
 or aanvang in als lid en klik op de link voor de bijeenkomst en wees welko
 m.Verlaat de bijeenkomst op het moment\, dat je het wilt. https://hcc.nl/a
 genda/evenement/59-digitaal-koffie-uurtje-hcc-noord
DTSTART:20230222T190000Z
DTEND:20230222T200000Z
LOCATION: ()
SUMMARY:Digitaal Koffie-uurtje HCC!noord
URL:https://hcc.nl/agenda/evenement/59-digitaal-koffie-uurtje-hcc-noord
END:VEVENT
BEGIN:VEVENT
UID:20260421T115438UTC-72865OH1oL@https://hcc.nl/
DTSTAMP:20260421T115438Z
DESCRIPTION:Algemene bijeenkomst\, Grote zaal BG\, 20:00-22:30 uur:\nBeste 
 lezer\,\nBezoekers kunnen met elkaar van gedachten wisselen over zaken waa
 r zij mee bezig zijn. Verder ben je welkom met vragen of problemen met com
 puters\, tablets en andere hardware en software. Meestal kunnen we problem
 en ter plaatse oplossen of je opweg helpen.\nEr is een internet toegang aa
 nwezig en je mag je PC/laptop/tablet meenemen.Ook vind je er een rijkelijk
  gevulde leestafel met de nieuwste bladen. https://hcc.nl/agenda/evenement
 /61-bijeenkomst-de-meente
DTSTART:20230222T190000Z
DTEND:20230222T213000Z
LOCATION: ()
SUMMARY:Bijeenkomst De Meente
URL:https://hcc.nl/agenda/evenement/61-bijeenkomst-de-meente
END:VEVENT
BEGIN:VEVENT
UID:20260421T115438UTC-7286jLCgcZ@https://hcc.nl/
DTSTAMP:20260421T115438Z
DESCRIPTION:Grote zaal BG\, 20:00 - 22:30 uur:\nBeste lezer\,\nOnze Linux M
 int werkgroep is gestart naar aanleiding van de SeniorenInloop september 2
 022. De leden zijn aanwezig in de Grote Zaal BG.\nOp een kleine\, wat oude
 re PC is de meest uitgebreide versie Linux Mint 21 Cinnamon geïnstalleerd.
 \nKom naar de bijeenkomst als je wilt zien hoe uitstekend en soepeltjes di
 e oude pc toch werkt\, en voor alle taken – zonder bijkomende kosten – bes
 chikbaar is. Als je vragen hebt of gewoon eens met Linux kennis wilt maken
 : dan ben je van harte (en vrijblijvend!) welkom. https://hcc.nl/agenda/ev
 enement/63-linux-mint-werkgroep-de-meent
DTSTART:20230222T190000Z
DTEND:20230222T213000Z
LOCATION: ()
SUMMARY:Linux Mint werkgroep. De Meent
URL:https://hcc.nl/agenda/evenement/63-linux-mint-werkgroep-de-meent
END:VEVENT
BEGIN:VEVENT
UID:20260421T115438UTC-7286WVsVvM@https://hcc.nl/
DTSTAMP:20260421T115438Z
DESCRIPTION:We houden deze keer een bijeenkomst over Liberty BASIC in Amste
 lveen en online.\nAanmelden is niet nodig.\nZie voor meer informatie https
 ://programmeren.hcc.nl https://hcc.nl/agenda/evenement/65-liberty-basic-bi
 jeenkomst-in-amstelveen-en-online
DTSTART:20230222T190000Z
DTEND:20230222T213000Z
LOCATION: ()
SUMMARY:Liberty BASIC bijeenkomst in Amstelveen en online
URL:https://hcc.nl/agenda/evenement/65-liberty-basic-bijeenkomst-in-amstelv
 een-en-online
END:VEVENT
BEGIN:VEVENT
UID:20260421T115438UTC-7287JcE9XV@https://hcc.nl/
DTSTAMP:20260421T115438Z
DESCRIPTION:Deze tweede bijeenkomst van de maand februari van onze werkgroe
 p is vooral gewijd aan IoT zaken\, maar 3D onderwerpen worden oogluikend t
 oegestaan. We doen het\, zoals inmiddels gebruikelijk\, in hybride vorm\, 
 dus zowel fysiek in de Meent zonder allerlei hinderlijke beperkingen\, en 
 online via 'wij.hcc.nl'. Vaste deelnemers kennen het webadres\, nieuwkomer
 s vragen\, o.v.v hun HCC lidnummer op de Onderwerpregel\, toegang via hccr
 egio.amsterdam@gmail.com. Niet HCC leden zijn - voor een kennismaking - vi
 a hetzelfde adres ook welkom. https://hcc.nl/agenda/evenement/67-hybride-b
 ijeenkomst-iot
DTSTART:20230222T190000Z
DTEND:20230222T211500Z
LOCATION: ()
SUMMARY:Hybride bijeenkomst IoT 
URL:https://hcc.nl/agenda/evenement/67-hybride-bijeenkomst-iot
END:VEVENT
BEGIN:VEVENT
UID:20260421T115438UTC-7287lbSDuw@https://hcc.nl/
DTSTAMP:20260421T115438Z
DESCRIPTION:Bijeenkomst voor en door leden\, die leren van en met elkaar.\n
 Zie ook HCC!Zuidoost-Brabant - Linux https://hcc.nl/agenda/evenement/69-li
 nux-aktief-avond
DTSTART:20230222T190000Z
DTEND:20230222T210000Z
LOCATION:Wijkcentrum 't Slot (Kastelenplein 167\, 5653 LX Eindhoven)
SUMMARY:Linux aktief avond
URL:https://hcc.nl/agenda/evenement/69-linux-aktief-avond
END:VEVENT
END:VCALENDAR
