BEGIN:VCALENDAR
VERSION:2.0
PRODID:-//https://hcc.nl///NONSGML kigkonsult.se iCalcreator 2.10.15//
METHOD:PUBLISH
BEGIN:VEVENT
UID:20260420T135507UTC-91114akbJV@https://hcc.nl/
DTSTAMP:20260420T135507Z
DESCRIPTION:Er is ook een 3D printer aanwezig. Vragen\, voorbeelden\, werki
 ng en testen\; het kan allemaal aan bod komen op deze avond. https://hcc.n
 l/agenda/evenement/7-inloopavond-zierikzee
DTSTART:20230221T190000Z
DTEND:20230221T210000Z
LOCATION:Scouting Jan Bakker Groep (Van Veenlaan 1\, 4301 NN Zierikzee)
SUMMARY:Inloopavond Zierikzee
URL:https://hcc.nl/agenda/evenement/7-inloopavond-zierikzee
END:VEVENT
BEGIN:VEVENT
UID:20260420T135507UTC-9112TDuOlb@https://hcc.nl/
DTSTAMP:20260420T135507Z
DESCRIPTION:Wanneer je Windows voor de eerste keer opstart en je zonder pro
 blemen aan de gang kunt gaan ben je heel tevreden. Toch is het heel belang
 rijk om wat extra maatregelen te nemen om te zorgen dat er geen problemen 
 ontstaan of dat je deze kunt oplossen.\n In deze presentatie wordt eerst b
 esproken welke herstel- en reparatie-mogelijkheden Windows te bieden heeft
  en die eenvoudig te gebruiken zijn. Enkele zijn eenvoudig te gebruiken mb
 v de toolbox. Ook wordt uitgelegd hoe je een Windows Herstel usb-stick maa
 kt.\n Als laatste komen twee extra programma's aan bod:\n- Windows Repair 
 Toolboxis een uitgebreid reparatieprogramma voor Windows. Het maakt gebrui
 k van in Windows aanwezige programma's en bekende programma's van derden.-
  Ultimate Windows Tweakeris een programma die wijzigingen in Windows kan a
 anbrengen zonder kennis te hoeven hebben van het register.Deze presentatie
  in voor Windows 10 en 11 geschikt.\nIn deze presentatie komen de volgende
  punten aan de orde als er voldoende tijd is:- Controleren van updates- He
 rstelpunt automatisch maken controleren/aanzetten- Instelling gebruikersac
 countbeheer controleren- Een Windows herstelstation maken- Een wachtwoordh
 erstelschijf maken- Standaard- en administrator-account gebruiken- Virusco
 ntrole gedownloade bestanden- Windows Repair Toolbox- Ultimate Windows Twe
 aker\nPresentator: Roelof van den Hof https://hcc.nl/agenda/evenement/43-l
 ezing-over-het-thema-hoe-houd-ik-windows-draaiende
DTSTART:20230221T123000Z
DTEND:20230221T153000Z
LOCATION:Theater de Meenthe (Stationsplein 1\, 8331 GM Steenwijk)
SUMMARY:Lezing over het thema: Hoe houd ik Windows draaiende?
URL:https://hcc.nl/agenda/evenement/43-lezing-over-het-thema-hoe-houd-ik-wi
 ndows-draaiende
END:VEVENT
BEGIN:VEVENT
UID:20260420T135507UTC-9113KkVleD@https://hcc.nl/
DTSTAMP:20260420T135507Z
DESCRIPTION:Een workshop over Backup en Restore\nBeste lezer\,\nZo langzame
 rhand is iedereen wel overtuigd van het belang van goede back-ups. Maar ho
 e zet je zoiets goed op en welke programma’s zijn daarvoor geschikt?\nIn d
 eze workshop krijg je op deze vragen een antwoord en gaan we in op het afz
 onderlijk inrichten van Data-back-ups\, E-mail-back-ups en zelfs complete 
 Systeem back-ups.\nMet behulp van drie specifieke programma’s wordt stap v
 oor stap uitgelegd wat de werkwijze is en hoe je valkuilen kunt vermijden.
 \nDeze workshop wordt gegeven door Ger Stok.\nMocht je andere vragen hebbe
 n\, over vorige presentaties bijvoorbeeld of problemen ondervinden met Win
 dows\, Linux\, Android of iOS\, dan kun je ons die meteen voorleggen. Eenv
 oudige vragen kunnen we waarschijnlijk meteen beantwoorden\, lastigere of 
 specifieke bespreken we liever met je tijdens onze Algemene Inloopavond op
  22 februari.\nDeze presentatie Backup en Restore vind je zeer binnenkort 
 (na inloggen met je HCC gebruikersnaam en wachtwoord) op de website van hc
 c!amsterdam evenals die van vorige maand: het evenveel geroemde als gevree
 sde ChatGPT. Ook de presentaties Energiebesparen met Slimme meters\, Moder
 ne Wifi systemen\, uitleg van Bitcoin en Blockchain en Linux Mint vind je 
 daar.\nVerder staan alle aankondigingen en verslagen\, van al onze Seniore
 nInloop onderwerpen ook op: jemeent.blogspot.nl\nMeestal is het makkelijk 
 parkeren nabij De Meent\, op het terrein ter hoogte van Melkweg 2.De Meent
  is trouwens ook goed bereikbaar met OV sneltram\, lijn 25 en met de busli
 jnen 174 en 199. https://hcc.nl/agenda/evenement/45-senioreninloop-de-meen
 t
DTSTART:20230221T130000Z
DTEND:20230221T150000Z
LOCATION: ()
SUMMARY:Senioreninloop. De Meent
URL:https://hcc.nl/agenda/evenement/45-senioreninloop-de-meent
END:VEVENT
BEGIN:VEVENT
UID:20260420T135507UTC-91147VR3ri@https://hcc.nl/
DTSTAMP:20260420T135507Z
DESCRIPTION:Je bent nu welkom in de nieuwe locatie NewTechPark\nAls je hier
  dinsdagavond voor 15.00 uur een mailtje stuurt kun je tussen 19.00 en 20.
 00 uur inloggen met Jitsi voor vragen\, of ter kennismaking met hcc!3D.\nD
 at kan dan op: https://wij.hcc.nl/3D (Alleen toegang als je zichtbaar bent
  met voor- en achternaam. ) https://hcc.nl/agenda/evenement/47-hybride-bij
 eenkomst
DTSTART:20230221T180000Z
DTEND:20230221T213000Z
LOCATION:NewTechPark (Vlijtseweg 148\, 7317 AK Apeldoorn)
SUMMARY:Hybride bijeenkomst
URL:https://hcc.nl/agenda/evenement/47-hybride-bijeenkomst
END:VEVENT
BEGIN:VEVENT
UID:20260420T135507UTC-9115ZkakIg@https://hcc.nl/
DTSTAMP:20260420T135507Z
DESCRIPTION:Voor leden met interesse en passie voor digitale fotografie is 
 op deze bijeenkomst ‘de’ gelegenheid om als fotowerkgroep samen te komen e
 n elkaars kennis en handigheid op dit gebied te kunnen delen.Onder leiding
  van werkgroep coördinator Brigitte van Berkel bewerken we foto's in Adobe
  Photoshop CS6 en CC\, waarbij er ook soms gebruik gemaakt wordt van Abobe
  illustrator.Is er een ingewikkeld probleem\, dat meer tijd vergt om te ve
 rhelpen\, dan is het handig om met degene die je wilt helpen te overleggen
  wanneer en waar er verder aan het herstel kan worden gewerkt.Verder is on
 ze fotowerkgroep bijeenkomst ervoor om met andere leden bij te praten\, er
 varingen uit te wisselen en samen met plezier te ontdekken welke digitale 
 fotobewerkingsmogelijkheden er allemaal zijn.Maar ook kun je even rustig v
 oor jezelf op je eigen notebook bezig zijn\; neem je notebook mee en doe m
 ee met de aangeboden oefenstof. Aan de hand van Galileo ‘Photoshop CS6 - C
 C voor gevorderden’ gaan we als eerste dieper in op de mogelijkheden van P
 hotoshop.\nDe Fotowerkgroep bijeenkomsten vinden vrijwel elke 3e dinsdagav
 ond van de maand plaats o.l.v. Brigitte van Berkel (opvolger van Henk Hove
 ns) en starten om 20:00 uur. https://hcc.nl/agenda/evenement/49-fotowerkgr
 oep
DTSTART:20230221T190000Z
DTEND:20230221T213000Z
LOCATION:De Witte Kerk (Agnes Huijnstraat 3\, 5914 PE Venlo)
SUMMARY:Fotowerkgroep
URL:https://hcc.nl/agenda/evenement/49-fotowerkgroep
END:VEVENT
BEGIN:VEVENT
UID:20260420T135507UTC-9116UGgtje@https://hcc.nl/
DTSTAMP:20260420T135507Z
DESCRIPTION:Dinsdag\, 21 Februari 2023\, 10:00 - 12:00\n   \nContact j.c.m.
 damen@kader.hcc.nl\n Een meer dan uitstekend alternatief voor Windows\nLin
 ux Mint 21\nLinux-systemen geven u een vrijheid die u van Windows of MacOS
  niet kent. Als u weet welke Linux distributie het beste aan uw wensen zou
  kunnen voldoen\, dan kunt u aan de gang gaan. Wij helpen u graag met die 
 keuze!\nIn 2023 hebben wij weer meerdere interessante onderwerpen op de ag
 enda staan. Kijk ook regelmatig op onze website www.seniorenacademie.hcc.n
 l.  https://hcc.nl/agenda/evenement/166-linux-mint
DTSTART:20230221T090000Z
DTEND:20230221T110000Z
LOCATION:Zalencentrum De Veste (Ridder van Catsweg 300\, 2804 RS Gouda)
SUMMARY:Linux Mint
URL:https://hcc.nl/agenda/evenement/166-linux-mint
END:VEVENT
END:VCALENDAR
