BEGIN:VCALENDAR
VERSION:2.0
PRODID:-//https://hcc.nl///NONSGML kigkonsult.se iCalcreator 2.10.15//
METHOD:PUBLISH
BEGIN:VEVENT
UID:20260420T160047UTC-4096rSo80u@https://hcc.nl/
DTSTAMP:20260420T160047Z
DESCRIPTION:Dit is weer de bijeenkomst van onze Flight Simulator vereniging
  van HCC Fryslân.\nEen andere tak van flight simulator is DCS. Fonz van de
 r Linden legt uit:\nIk begin de avond met een Powerpoint over de A-10C + m
 issie. Gevolgd door een korte real life video wat een A-10C kan aanrichten
  met gronddoelen\, in het echt.\nNa de pauze volgt de life demo.\nDe DCS L
 ife demo gaat over de JTAC. Een kleine militaire unit die in het veld een 
 target aanstraalt met een laser zodat een A-10C piloot in de lucht weet wa
 t hij moet uitschakelen.Een Humvee verkennings patrouille wordt in Syrië d
 oor een ISIS sniper nest in een dal onder vuur genomen. Ze kunnen geen kan
 t op. De JTAC roept de A-10C op om ze te helpen.De A-10C piloot reageerd d
 oor er een GBU-12 laser guided bom op te gooien...\nGreetzz\, Fonz\nOok ga
 sten zijn welkom\, aanvang 19:30 u. in de Kurioskerk\, Julianalaan 38\, 89
 32 AA Leeuwarden.\nMeer informatie: www.hweistra.nl Contact: Riejo Reudink
  (m.j.reudink@hccnet.nl)\nWat niet iedereen weet: elke maandagavond wordt 
 een VFR vlucht uitgezet en tegenwoordig vliegen we met een tiental piloten
 . Niet te lang\, stel van goed 19:00 uur tot ongeveer 21:00 uur. Samen vli
 egen is echt leuk! Meer informatie: Joop van Oosterwijk\, j.oosterwijk52@u
 pcmail.nl Wij gebruiken DISCORD voor communicatie\, voor een link wordt ge
 zorgd.\nContactpersoon: Harm Weistra https://hcc.nl/agenda/evenement/37-bi
 jeenkomst-leeuwarden
DTSTART:20230220T183000Z
DTEND:20230220T210000Z
LOCATION:Zalen Kurioskerk (Julianalaan 38\, 8932 AA Leeuwarden)
SUMMARY:Bijeenkomst Leeuwarden
URL:https://hcc.nl/agenda/evenement/37-bijeenkomst-leeuwarden
END:VEVENT
BEGIN:VEVENT
UID:20260420T160047UTC-4097NRd5nT@https://hcc.nl/
DTSTAMP:20260420T160047Z
DESCRIPTION:We houden weer een online bijeenkomst over Visual Basic.\nAanme
 lden is niet nodig.\nZie voor meer informatie https://programmeren.hcc.nl 
 https://hcc.nl/agenda/evenement/41-online-visual-basic-sessie
DTSTART:20230220T190000Z
DTEND:20230220T210000Z
LOCATION: ()
SUMMARY:Online Visual Basic sessie
URL:https://hcc.nl/agenda/evenement/41-online-visual-basic-sessie
END:VEVENT
END:VCALENDAR
