BEGIN:VCALENDAR
VERSION:2.0
PRODID:-//https://hcc.nl///NONSGML kigkonsult.se iCalcreator 2.10.15//
METHOD:PUBLISH
BEGIN:VEVENT
UID:20260419T162530UTC-55861U17Bx@https://hcc.nl/
DTSTAMP:20260419T162530Z
DESCRIPTION:Clubdag in 't Schuurtje. https://hcc.nl/agenda/evenement/23-clu
 bdag
DTSTART:20230218T090000Z
DTEND:20230218T150000Z
LOCATION:Wijkcentrum  't Schuurtje (Zwanenkamp 1301\, 3607 NZ Maarssen)
SUMMARY:Clubdag
URL:https://hcc.nl/agenda/evenement/23-clubdag
END:VEVENT
BEGIN:VEVENT
UID:20260419T162530UTC-5588UwAdjJ@https://hcc.nl/
DTSTAMP:20260419T162530Z
DESCRIPTION:Inloopdag georganiseerd door de HCC!almere met ondersteuning va
 n de groepen - HCC!windows - HCC!domotica-IoT- HCC!flightsimulator https:/
 /hcc.nl/agenda/evenement/25-inloopdag
DTSTART:20230218T090000Z
DTEND:20230218T140000Z
LOCATION:Wijkcentrum De Wieken (Wipmolenweg 54\, 1333 GS Almere)
SUMMARY:Inloopdag
URL:https://hcc.nl/agenda/evenement/25-inloopdag
END:VEVENT
BEGIN:VEVENT
UID:20260419T162530UTC-5588z8NdWk@https://hcc.nl/
DTSTAMP:20260419T162530Z
DESCRIPTION:Reguliere Bijeenkomst https://hcc.nl/agenda/evenement/27-reguli
 ere-bijeenkomst
DTSTART:20230218T120000Z
DTEND:20230218T140000Z
LOCATION:Cultureel en Vergadercentrum H.F. Witte (Henri Dunantplein 4\, 373
 1 CL De Bilt)
SUMMARY:Reguliere bijeenkomst
URL:https://hcc.nl/agenda/evenement/27-reguliere-bijeenkomst
END:VEVENT
BEGIN:VEVENT
UID:20260419T162530UTC-5589BhAlvJ@https://hcc.nl/
DTSTAMP:20260419T162530Z
DESCRIPTION:We houden weer een bijeenkomst in De Bilt met plenaire sessie.
 \nVanaf 13:30 uur beginnen we met de gebruikelijke plenaire sessie.\nDeze 
 bijeenkomst in De Bilt is niet online te volgen.\nAanmelden is niet nodig\
 , zie https://programmeren.hcc.nl/ voor meer informatie. https://hcc.nl/ag
 enda/evenement/29-algemene-bijeenkomst
DTSTART:20230218T120000Z
DTEND:20230218T140000Z
LOCATION:Cultureel en Vergadercentrum H.F. Witte (Henri Dunantplein 4\, 373
 1 CL De Bilt)
SUMMARY:Algemene bijeenkomst
URL:https://hcc.nl/agenda/evenement/29-algemene-bijeenkomst
END:VEVENT
BEGIN:VEVENT
UID:20260419T162530UTC-5590UZaP0B@https://hcc.nl/
DTSTAMP:20260419T162530Z
DESCRIPTION:We houden weer een inloopbijeenkomst. https://hcc.nl/agenda/eve
 nement/31-inloop-bijeenkomst
DTSTART:20230218T120000Z
DTEND:20230218T140000Z
LOCATION:Olympiagebouw (Olympiaweg 17\, 1816 MJ Alkmaar)
SUMMARY:Inloop bijeenkomst
URL:https://hcc.nl/agenda/evenement/31-inloop-bijeenkomst
END:VEVENT
BEGIN:VEVENT
UID:20260419T162530UTC-55919ucMg2@https://hcc.nl/
DTSTAMP:20260419T162530Z
DESCRIPTION:Kom kennismaken met onze werkgroepen https://hcc.nl/agenda/even
 ement/33-maandelijkse-inloop
DTSTART:20230218T120000Z
DTEND:20230218T160000Z
LOCATION:Wijkcentrum 't Slot (Kastelenplein 167\, 5653 LX Eindhoven)
SUMMARY:Maandelijkse Inloop 
URL:https://hcc.nl/agenda/evenement/33-maandelijkse-inloop
END:VEVENT
BEGIN:VEVENT
UID:20260419T162530UTC-5591ouuAcU@https://hcc.nl/
DTSTAMP:20260419T162530Z
DESCRIPTION:\nWe houden weer een online bijeenkomst over Pascal.\n\nAanmeld
 en is niet nodig.\nZie voor meer informatie https://programmeren.hcc.nl ht
 tps://hcc.nl/agenda/evenement/35-online-pascal-sessie
DTSTART:20230218T180000Z
DTEND:20230218T200000Z
LOCATION: ()
SUMMARY:Online Pascal sessie
URL:https://hcc.nl/agenda/evenement/35-online-pascal-sessie
END:VEVENT
END:VCALENDAR
