BEGIN:VCALENDAR
VERSION:2.0
PRODID:-//https://hcc.nl///NONSGML kigkonsult.se iCalcreator 2.10.15//
METHOD:PUBLISH
BEGIN:VEVENT
UID:20260420T160247UTC-9581sbVAc8@https://hcc.nl/
DTSTAMP:20260420T160247Z
DESCRIPTION: https://hcc.nl/agenda/evenement/8-jitsi-overleg-hobbynet
DTSTART:20230214T143000Z
DTEND:20230214T153000Z
LOCATION:Bit Ede (Galileïlaan 19\, 6716 BP Ede)
SUMMARY:Jitsi overleg Hobbynet
URL:https://hcc.nl/agenda/evenement/8-jitsi-overleg-hobbynet
END:VEVENT
END:VCALENDAR
